BEGIN:VCALENDAR
VERSION:2.0
PRODID:-//NADI Kg Pahi - ECPv6.15.20//NONSGML v1.0//EN
CALSCALE:GREGORIAN
METHOD:PUBLISH
X-WR-CALNAME:NADI Kg Pahi
X-ORIGINAL-URL:https://kgpahi.nadi.my
X-WR-CALDESC:Events for NADI Kg Pahi
REFRESH-INTERVAL;VALUE=DURATION:PT1H
X-Robots-Tag:noindex
X-PUBLISHED-TTL:PT1H
BEGIN:VTIMEZONE
TZID:Asia/Kuala_Lumpur
BEGIN:STANDARD
TZOFFSETFROM:+0800
TZOFFSETTO:+0800
TZNAME:+08
DTSTART:20240101T000000
END:STANDARD
END:VTIMEZONE
BEGIN:VEVENT
DTSTART;TZID=Asia/Kuala_Lumpur:20250731T080000
DTEND;TZID=Asia/Kuala_Lumpur:20250831T180000
DTSTAMP:20260421T063330
CREATED:20250731T073647Z
LAST-MODIFIED:20250731T073647Z
UID:3755-1753948800-1756663200@kgpahi.nadi.my
SUMMARY:JADUAL OPEN TUITION NADI DILEA – OGOS 2025
DESCRIPTION:
URL:https://kgpahi.nadi.my/event/jadual-open-tuition-nadi-dilea-ogos-2025/
LOCATION:NADI Kampung Pahi\, NADI Kampung Pahi
END:VEVENT
BEGIN:VEVENT
DTSTART;TZID=Asia/Kuala_Lumpur:20250802T143000
DTEND;TZID=Asia/Kuala_Lumpur:20250802T163000
DTSTAMP:20260421T063330
CREATED:20250729T023906Z
LAST-MODIFIED:20250729T023906Z
UID:3752-1754145000-1754152200@kgpahi.nadi.my
SUMMARY:NADI DiLea | Webinar Sejarah
DESCRIPTION:📢 Webinar Sejarah PERCUMA Khas untuk Pelajar Tingkatan 4 & 5! 📢 \nNak skor A dalam subjek Sejarah? Sertai Webinar Berkala Sejarah Edisi ke-2 bersama kami! \n🗓️Tarikh: 2 Ogos 2025 (Sabtu)\n🕞Masa: 2.30 PM – 4.30 PM \n📍Tempat: NADI Kampung Pahi \n📚 Peluang terbaik untuk kuasai Teknik Skor A Sejarah dan persediaan menghadapi SPM! Jangan lepaskan! \n📞 Daftar sekarang dengan mengunjungi NADI kawasan anda!\n☎️ Untuk sertai program\, boleh kunjungi NADI Kampung Pahi atau hubungi melalui wasap 01112184339 / 0142930425 \n#NADI#DILEA#WebinarSejarah#SPM2025#SejarahWebinar#BelajarOnline#SkorSPM
URL:https://kgpahi.nadi.my/event/nadi-dilea-webinar-sejarah/
LOCATION:NADI Kampung Pahi\, NADI Kampung Pahi
END:VEVENT
BEGIN:VEVENT
DTSTART;TZID=Asia/Kuala_Lumpur:20250814T150000
DTEND;TZID=Asia/Kuala_Lumpur:20250814T163000
DTSTAMP:20260421T063330
CREATED:20250814T020101Z
LAST-MODIFIED:20250814T020101Z
UID:3768-1755183600-1755189000@kgpahi.nadi.my
SUMMARY:WEBINAR NADI x CYBERSECURITY
DESCRIPTION:📣 [WEBINAR NADI x CYBERSECURITY]\n📱 SELAMATKAH TELEFON ANDA DARIPADA ANCAMAN? \nKetahui bagaimana telefon pintar anda boleh menjadi sasaran pengintipan\, penipuan dan serangan tanpa anda sedar! \n📅 14 Ogos 2025 (Khamis)\n🕒 3:00 PM – 4:30 PM\n💻 Platform: Zoom\n🔗 Pautan Pendaftaran: cybersecurity.nadi.my (untuk ahli NADI sahaja) \n📌 Apa yang akan dipelajari?\n✅ Kenalpasti Ancaman Tersembunyi\n✅ Langkah Perlindungan Asas\n✅ Demo Teknikal Live \n✍🏻️ Syarat Penyertaan\n✅ Wajib daftar sebagai ahli NADI\n📜 Sijil penyertaan disediakan (WAJIB hantar sekurang-kurangnya 1 penyertaan) \n📢 Sasaran: Dewasa umum\, ibu bapa & belia \n🛡 “Kesedaran siber adalah pertahanan pertama anda. Semak\, lindungi\, dan kemas kini telefon anda sebelum menjadi mangsa.” \n☎️ Untuk sertai program\, boleh kunjungi NADI Kampung Pahi atau hubungi melalui wasap 01112184339 / 0142930425
URL:https://kgpahi.nadi.my/event/webinar-nadi-x-cybersecurity/
LOCATION:NADI Kampung Pahi\, NADI Kampung Pahi
END:VEVENT
BEGIN:VEVENT
DTSTART;TZID=Asia/Kuala_Lumpur:20250816T143000
DTEND;TZID=Asia/Kuala_Lumpur:20250816T163000
DTSTAMP:20260421T063330
CREATED:20250814T015243Z
LAST-MODIFIED:20250814T015243Z
UID:3765-1755354600-1755361800@kgpahi.nadi.my
SUMMARY:NADI DiLea | Webinar Bahasa Inggeris
DESCRIPTION:📢 Webinar Bahasa Inggeris PERCUMA! 📢 \nHello pelajar Tingkatan 1 – 5! 💬\nNak mantapkan penguasaan Bahasa Inggeris sebelum UASA? ✨\nJom join Webinar Berkala Bahasa Inggeris Edisi ke-4 khas untuk anda! \n🗓️ Tarikh: 16 Ogos 2025 (Sabtu)\n🕞 Masa: 2.30 PM – 4.30 PM\n📍 Tempat: NADI Kampung Pahi \n🎯 Topik: Pengukuhan Format & Persediaan UASA\n💡 Sesi santai tapi padat dengan teknik & tips untuk bantu anda skor cemerlang! \n📞 Untuk sertai program\, boleh kunjungi NADI Kampung Pahi atau hubungi melalui wasap 01112184339 / 0142930425 \n#NADI #DILEA #WebinarBahasaInggeris #UASA2025 #BelajarOnline #SkorCemerlang #ExamTips
URL:https://kgpahi.nadi.my/event/nadi-dilea-webinar-bahasa-inggeris-2/
LOCATION:NADI Kampung Pahi\, NADI Kampung Pahi
END:VEVENT
BEGIN:VEVENT
DTSTART;TZID=Asia/Kuala_Lumpur:20250816T150000
DTEND;TZID=Asia/Kuala_Lumpur:20250816T160000
DTSTAMP:20260421T063330
CREATED:20250814T013810Z
LAST-MODIFIED:20250814T013810Z
UID:3762-1755356400-1755360000@kgpahi.nadi.my
SUMMARY:Webinar Kempen Internet Selamat 2025 Siri 8
DESCRIPTION:Assalamualaikum dan Salam Sejahtera. \nProgram Siri Webinar Kempen Internet Selamat 2025 Siri 8\nTopik: BERANI BERTINDAK: BERSAMA MENANGANI BULI SIBER\nPenceramah: Prof. Ts. Dr. Ariffin Abdul Mutalib (Pensyarah Universiti Utara Malaysia)\nTarget Peserta: Terbuka (Kanak-Kanak & Dewasa)\nTarikh: 16 Ogos 2025\nWaktu: 3.00 Petang – 4.00 Petang\nLokasi: Google Meet di NADI Kampung Pahi \n☎️ Untuk sertai program\, boleh kunjungi NADI Kampung Pahi atau hubungi melalui wasap 01112184339 / 0142930425
URL:https://kgpahi.nadi.my/event/webinar-kempen-internet-selamat-2025-siri-8/
LOCATION:NADI Kampung Pahi\, NADI Kampung Pahi
END:VEVENT
BEGIN:VEVENT
DTSTART;TZID=Asia/Kuala_Lumpur:20250822T090000
DTEND;TZID=Asia/Kuala_Lumpur:20251031T180000
DTSTAMP:20260421T063330
CREATED:20250825T030136Z
LAST-MODIFIED:20250825T030136Z
UID:4049-1755853200-1761933600@kgpahi.nadi.my
SUMMARY:NADI x KEUSAHAWANAN 2025
DESCRIPTION:🚀 NADI x KEUSAHAWANAN 2025 🚀 \n💡 Memperkasa Kejayaan Usahawan NADI \nJom sertai PERJALANAN USAHAWAN COHORT 5 📈\nTarikh: September – Oktober 2025 \n✨ Apa yang menanti anda?\n✅ Video pengenalan keusahawanan – 22 Ogos 2025\n✅ Webinar atas talian 1 (pengurusan kewangan & perancangan perniagaan) & video pra latihan – 11 September 2025\n✅ Podcast empowher\, topik: bual kombucha\, inspirasi disebalik rasa – 16 September 2025\n✅ Podcast nadipreneur\, topik: langkah berani:bersaing dengan gergasi pasaran – 23 September 2025\n✅ Webinar atas talian 2 (pemasaran dan operasi perniagaan) & menonton video pra latihan – 16 Oktober 2025\n✅ Podcast empowher\, topik: dari kalam ke kejayaan – 21 Oktober 2025\n✅ Podcast nadipreneur\, topik: teknologi dalam dunia usahawan peluang dan cabaran – 28 Oktober 2025 \n📅 Daftar bermula 22 Ogos 2025\n📌 Tonton bila-bila masa & di mana sahaja! \n🔥 Tempat terhad\, jangan lepaskan peluang untuk bersama komuniti usahawan NADI! \n📞 Untuk sertai program\, boleh kunjungi NADI Kampung Pahi atau hubungi melalui wasap 01112184339 / 0142930425
URL:https://kgpahi.nadi.my/event/nadi-x-keusahawanan-2025/
LOCATION:NADI Kampung Pahi\, NADI Kampung Pahi
END:VEVENT
BEGIN:VEVENT
DTSTART;TZID=Asia/Kuala_Lumpur:20250823T143000
DTEND;TZID=Asia/Kuala_Lumpur:20250823T163000
DTSTAMP:20260421T063330
CREATED:20250822T035305Z
LAST-MODIFIED:20250822T035305Z
UID:4045-1755959400-1755966600@kgpahi.nadi.my
SUMMARY:NADI DiLea | WEBINAR MOTIVASI PELAJAR EDISI 3
DESCRIPTION:📢 WEBINAR MOTIVASI PELAJAR EDISI 3 📢 \nHello pelajar Tingkatan 1 – 6! 🌟 \nNak kenal potensi diri dan buat pilihan kerjaya yang tepat?\nJom sertai Webinar Motivasi Pelajar Edisi ke-3 khas untuk membantu anda merancang masa depan! \n🗓️ Tarikh: 23 Ogos 2025 (Sabtu)\n🕞 Masa: 2.30 PM – 4.30 PM\n📍 Tempat: NADI Kampung Pahi \n🎯 Topik: Kenal Diri\, Pilih Kerjaya: Merancang Masa Depan\n💡 Sesi santai tapi padat dengan panduan dan inspirasi untuk membantu anda membuat keputusan bijak demi masa depan cemerlang! \n📞 Untuk sertai program\, boleh kunjungi NADI Kampung Pahi atau hubungi melalui wasap 01112184339 / 0142930425 \n#NADI #DILEA #WebinarMotivasi #Kerjaya #MasaDepanCemerlang #PelajarBermotivasi
URL:https://kgpahi.nadi.my/event/nadi-dilea-webinar-motivasi-pelajar-edisi-3/
LOCATION:NADI Kampung Pahi\, NADI Kampung Pahi
END:VEVENT
BEGIN:VEVENT
DTSTART;TZID=Asia/Kuala_Lumpur:20250828T150000
DTEND;TZID=Asia/Kuala_Lumpur:20250828T163000
DTSTAMP:20260421T063330
CREATED:20250825T033620Z
LAST-MODIFIED:20250825T033620Z
UID:4052-1756393200-1756398600@kgpahi.nadi.my
SUMMARY:WEBINAR NADI x CYBERSECURITY
DESCRIPTION:📣 [WEBINAR NADI x CYBERSECURITY]\n📱 KEBENARAN MENAKUTKAN DISEBALIK DARK WEB \n📅 28 Ogos 2025 (Khamis)\n🕒 3:00 PM – 4:30 PM\n💻 Platform: Zoom \n📌 Apa yang akan dipelajari?\n✅ Kenali Dark Web – Fahami apa itu “Dark Web” dan realitinya dalam dunia digital.\n✅ Ancaman Jenayah Siber (OCG) – Ketahui bahaya kumpulan jenayah terancang di ruang siber.\n✅ Elak Jadi Mangsa + Live Demo – Pelajari langkah pencegahan serta saksikan demo membezakan fakta & mitos Dark Web.\n📜 Sijil penyertaan disediakan (WAJIB hantar sekurang-kurangnya 1 penyertaan) \n📢 Sasaran: Dewasa umum\, ibu bapa & belia \n🛡 “Kenali\, Waspada & Lindungi Diri di Alam Digital.” \n📞 Untuk sertai program\, boleh kunjungi NADI Kampung Pahi atau hubungi melalui wasap 01112184339 / 0142930425
URL:https://kgpahi.nadi.my/event/webinar-nadi-x-cybersecurity-2/
LOCATION:NADI Kampung Pahi\, NADI Kampung Pahi
END:VEVENT
END:VCALENDAR