BEGIN:VCALENDAR
VERSION:2.0
PRODID:-//NADI Kg Pahi - ECPv6.15.20//NONSGML v1.0//EN
CALSCALE:GREGORIAN
METHOD:PUBLISH
X-WR-CALNAME:NADI Kg Pahi
X-ORIGINAL-URL:https://kgpahi.nadi.my
X-WR-CALDESC:Events for NADI Kg Pahi
REFRESH-INTERVAL;VALUE=DURATION:PT1H
X-Robots-Tag:noindex
X-PUBLISHED-TTL:PT1H
BEGIN:VTIMEZONE
TZID:Asia/Kuala_Lumpur
BEGIN:STANDARD
TZOFFSETFROM:+0800
TZOFFSETTO:+0800
TZNAME:+08
DTSTART:20240101T000000
END:STANDARD
END:VTIMEZONE
BEGIN:VEVENT
DTSTART;TZID=Asia/Kuala_Lumpur:20250701T100000
DTEND;TZID=Asia/Kuala_Lumpur:20250701T110000
DTSTAMP:20260424T044714
CREATED:20250701T012411Z
LAST-MODIFIED:20251013T021839Z
UID:3314-1751364000-1751367600@kgpahi.nadi.my
SUMMARY:NADI NURTURE | E KELAS USAHAWAN
DESCRIPTION:🚨 Usahawan\, ini peluang anda! Nak tahu rahsia tingkatkan jualan melalui strategi digital yang terbukti berkesan? 📈 \n🎯 Sertai Webinar NADI Nurture eKelas Usahawan dan pelajari cara sebenar menonjolkan bisnes anda secara online! \n✅ Strategi pemasaran digital yang praktikal\n✅ Tools & tips terkini untuk media sosial\n✅ Teknik tarik pelanggan yang relevan & berkesan \n📆 Selasa\, 1 Julai 2025\n🕙 10:00 pagi – 11:00 pagi\n📍 Atas talian (Zoom)\n🔗 Untuk sertai aktiviti dan pendaftaran\, boleh kunjungi NADI Kampung Pahi atau hubungi melalui wasap: 01112184339 / 0142930425. \n⚡ Tempat terhad – jangan lepaskan peluang ini! \n#NADINurture #eKelasUsahawan #SatuCreative #PemasaranDigital #WebinarUsahawan #DigitalMarketingMalaysia
URL:https://kgpahi.nadi.my/event/nadi-nurture-e-kelas-usahawan/
LOCATION:NADI Kampung Pahi\, NADI Kampung Pahi
END:VEVENT
BEGIN:VEVENT
DTSTART;TZID=Asia/Kuala_Lumpur:20250701T103000
DTEND;TZID=Asia/Kuala_Lumpur:20250701T113000
DTSTAMP:20260424T044714
CREATED:20250701T014856Z
LAST-MODIFIED:20250701T014856Z
UID:3320-1751365800-1751369400@kgpahi.nadi.my
SUMMARY:NADI WELLBEING | RAHSIA UMUR PANJANG
DESCRIPTION:Rahsia Umur Panjang: Kunci Kesihatan Warga Emas Ada Pada ‘Connection’ 💙 | W061 \nPernah terfikir kenapa ada warga emas yang kekal sihat\, ceria & aktif walaupun dah berusia?\nMungkin rahsia kesihatan mereka bukan sekadar makan ubat & bersenam… tapi juga tentang “hubungan sosial” 💬👵👴 \nJom sertai webinar ini & dengar sendiri kupasan menarik dari\n🧠 Prof Madya Dr. Tengku Amatullah Madeehah (USIM)\n📅 Tarikh: Selasa\, 1 Julai 2025\n🕥 Masa: 10:30 pagi \n📺 Tonton LIVE di sini:\n📍 Google Meet: https://meet.google.com/tvt-jacd-uem\n📺 YouTube Live: https://www.youtube.com/@StudioSihat\n📘 Facebook Live: https://www.facebook.com/officialnadimalaysia \n💯 Jangan lupa like\, share dan subscribe https://youtube.com/@studiosihat \n📌 Isi kehadiran: https://forms.gle/1pdoTFsqsjV2cH3C9 \n💡 Sesuai untuk anak-anak\, penjaga & warga emas sendiri — semua boleh join!\n📲 Jangan lupa ajak mak ayah\, atuk nenek & jiran sebelah rumah sekali!
URL:https://kgpahi.nadi.my/event/nadi-wellbeing-rahsia-umur-panjang/
LOCATION:NADI Kampung Pahi\, NADI Kampung Pahi
END:VEVENT
BEGIN:VEVENT
DTSTART;TZID=Asia/Kuala_Lumpur:20250701T140000
DTEND;TZID=Asia/Kuala_Lumpur:20250701T150000
DTSTAMP:20260424T044714
CREATED:20250701T013136Z
LAST-MODIFIED:20250701T013136Z
UID:3316-1751378400-1751382000@kgpahi.nadi.my
SUMMARY:NADI NURTURE | E KELAS USAHAWAN
DESCRIPTION:🎨 Nak bisnes nampak lebih meyakinkan dan menarik di mata pelanggan?\nVisual yang kuat = jenama yang kuat. 💥 \n📢 Sertai Webinar NADI Nurture eKelas Usahawan – Asas Komunikasi Visual.\nBelajar bagaimana elemen visual boleh bantu tingkatkan impak pemasaran anda! \nDalam sesi ini\, anda akan pelajari:\n📌 Prinsip asas komunikasi visual\n📌 Cara hasilkan visual yang jelas & berkesan untuk media sosial\n📌 Tips guna visual untuk tarik perhatian & bina kepercayaan pelanggan \n📆 Selasa\, 1 Julai 2025\n🕑 2.00 petang – 3.00 petang\n📍 Zoom Webinar\n🔗 Untuk sertai aktiviti dan pendaftaran\, boleh kunjungi NADI Kampung Pahi atau hubungi melalui wasap: 01112184339 / 0142930425. \n🚀 Percuma dan tempat terhad – jangan lepaskan peluang ini! \n#eKelasUsahawan #NADINurture #SatuCreative #KomunikasiVisual #WebinarPercuma
URL:https://kgpahi.nadi.my/event/nadi-nurture-e-kelas-usahawan-2/
END:VEVENT
BEGIN:VEVENT
DTSTART;TZID=Asia/Kuala_Lumpur:20250701T153000
DTEND;TZID=Asia/Kuala_Lumpur:20250701T163000
DTSTAMP:20260424T044714
CREATED:20250701T014236Z
LAST-MODIFIED:20251013T021727Z
UID:3318-1751383800-1751387400@kgpahi.nadi.my
SUMMARY:NADI DILEA | OPEN LIVE CLASS BAHASA INGGERIS
DESCRIPTION:🎉 PELUANG EMAS UNTUK PELAJAR TINGKATAN 4 & 5! 🎉 \nNak kuasai Bahasa Inggeris dengan lebih yakin? Nak score SPM dengan penuh gaya? 🔥 \nINI MASANYA! \n📚 OPEN LIVE CLASS: BAHASA INGGERIS \nNADI Nurture DILEA Digital Learning \n🗓 Selasa | 1 Julai 2025\n🕒 3:30 – 4:30 petang\n💻 Google Meet (ONLINE)\n🧑‍🏫 Teacher Hanim \n— \n✨ APA YANG BESTNYA?\n✅ Percuma – Tiada bayaran langsung!\n✅ Live dan interaktif – Tanya terus\, belajar terus!\n✅ Terbuka kepada semua pelajar Tingkatan 4 & 5\n✅ Tiada had penyertaan – Ajak satu kelas pun boleh! \n— \n🚀 Tak kira tahap anda sekarang\, ini peluang untuk tingkatkan skil\, bina keyakinan\, dan persiapkan diri untuk SPM!\nBelajar dengan cara yang seronok\, mudah difahami\, dan penuh semangat. \n💥 Jangan tunggu saat akhir.\n💥 Jangan belajar sorang-sorang.\n💥 Jom naik level Bahasa Inggeris anda SEKARANG! \n📘 Jumpa anda dalam kelas nanti!! \nUntuk sertai\, boleh kunjungi NADI Kampung Pahi
URL:https://kgpahi.nadi.my/event/nadi-dilea-open-live-class-bahasa-inggeris/
END:VEVENT
BEGIN:VEVENT
DTSTART;TZID=Asia/Kuala_Lumpur:20250710T100000
DTEND;TZID=Asia/Kuala_Lumpur:20250710T110000
DTSTAMP:20260424T044714
CREATED:20250709T090840Z
LAST-MODIFIED:20250709T090840Z
UID:3515-1752141600-1752145200@kgpahi.nadi.my
SUMMARY:NADI Nurture eKelas Usahawan – Gunakan AI untuk Cipta Kandungan Menarik & Pantas!
DESCRIPTION:Usahawan\, bersedia untuk cipta kandungan dengan cara paling mudah dan pantas? \n🚀 Sertai Webinar NADI Nurture eKelas Usahawan – Gunakan AI untuk Cipta Kandungan Menarik & Pantas! \nPelajari bagaimana kecerdasan buatan (AI) boleh membantu anda:\n✅ Menjana idea kandungan tanpa tekanan\n✅ Menggunakan alat AI yang menjimatkan masa\n✅ Meningkatkan perhatian pelanggan melalui kandungan yang berkesan \n📅 Khamis\, 10 Julai 2025\n🕒 10.00 pagi – 11.00 pagi\n📍 Secara atas talian (Zoom LIVE)\n🔗 Untuk sertai program\, boleh kunjungi NADI Kampung Pahi atau hubungi melalui wasap 01112184339 / 0142930425 \n#eKelasUsahawan #NADINurture #SatuCreative #WebinarPercuma #PemasaranDigital #KandunganAI
URL:https://kgpahi.nadi.my/event/nadi-nurture-ekelas-usahawan-gunakan-ai-untuk-cipta-kandungan-menarik-pantas/
LOCATION:NADI Kampung Pahi\, NADI Kampung Pahi
END:VEVENT
BEGIN:VEVENT
DTSTART;TZID=Asia/Kuala_Lumpur:20250710T140000
DTEND;TZID=Asia/Kuala_Lumpur:20250710T150000
DTSTAMP:20260424T044714
CREATED:20250709T091529Z
LAST-MODIFIED:20250709T091529Z
UID:3517-1752156000-1752159600@kgpahi.nadi.my
SUMMARY:NADI Nurture eKelas Usahawan – Strategi Mengurus dan Mengukur Keberhasilan Pemasaran
DESCRIPTION:📣 Nak tahu cara urus kempen pemasaran digital secara lebih cekap dan berkesan? \nSertai Webinar NADI Nurture eKelas Usahawan – Strategi Mengurus dan Mengukur Keberhasilan Pemasaran\nKuasai strategi penting untuk tingkatkan keberkesanan kempen anda tanpa membazir kos! \nApa yang anda akan pelajari:\n📊 Cara mengurus dan memantau kempen pemasaran digital\n🧩 Penggunaan alat automasi untuk jimat masa\n🎯 Strategi menjimatkan kos dengan hasil maksimum \n📅 Khamis\, 10Julai 2025\n🕒 2.00 petang – 3.00 petang\n📍 Secara atas talian (Zoom LIVE)\n🔗 Untuk sertai program\, boleh kunjungi NADI Kampung Pahi atau hubungi melalui wasap 01112184339 / 0142930425 \n#eKelasUsahawan #NADINurture #SatuCreative #PemasaranDigital #WebinarPercuma
URL:https://kgpahi.nadi.my/event/nadi-nurture-ekelas-usahawan-strategi-mengurus-dan-mengukur-keberhasilan-pemasaran/
LOCATION:NADI Kampung Pahi\, NADI Kampung Pahi
END:VEVENT
BEGIN:VEVENT
DTSTART;TZID=Asia/Kuala_Lumpur:20250710T150000
DTEND;TZID=Asia/Kuala_Lumpur:20250710T163000
DTSTAMP:20260424T044714
CREATED:20250702T075451Z
LAST-MODIFIED:20250702T075451Z
UID:3327-1752159600-1752165000@kgpahi.nadi.my
SUMMARY:WEBINAR NADI x CYBERSECURITY | DARI SERANGAN SIBER KE PEMULIHAN
DESCRIPTION:[WEBINAR NADI x CYBERSECURITY]\n🛡️ DARI SERANGAN SIBER KE PEMULIHAN\nAsas Tindak Balas Insiden & Forensik Digital \n📅 10 Julai 2025 (Khamis)\n🕒 3:00 PM – 4:30 PM\n💻 Platform: Zoom\n🔗 Untuk mendaftar dan sertai aktiviti\, boleh kunjungi NADI Kampung Pahi atau hubungi melalui wasap 01112184339 / 0142930425. \n📌 Apa yang akan dipelajari? \n🛠 Langkah asas tindak balas insiden\n🔍 Pengenalan forensik digital\n🕵️ Teknik OSINT & Google Dorks\n🎥 BONUS: Demonstrasi insiden & analisis forensik secara langsung! \n✅ Syarat penyertaan: \nWajib berdaftar sebagai ahli NADI\n💥 Percuma\, tapi slot adalah terhad. \n📥 Jom rebut peluang ini untuk fahami cara profesional menangani serangan siber.
URL:https://kgpahi.nadi.my/event/webinar-nadi-x-cybersecurity-dari-serangan-siber-ke-pemulihan/
LOCATION:NADI Kampung Pahi\, NADI Kampung Pahi
END:VEVENT
BEGIN:VEVENT
DTSTART;TZID=Asia/Kuala_Lumpur:20250710T170000
DTEND;TZID=Asia/Kuala_Lumpur:20250710T180000
DTSTAMP:20260424T044714
CREATED:20250709T092333Z
LAST-MODIFIED:20250709T092333Z
UID:3519-1752166800-1752170400@kgpahi.nadi.my
SUMMARY:MAHIR MASAK | RESEPI SOTONG MASAM MANIS TRADISI
DESCRIPTION:Jom Sertai Kelas Eksklusif Mahir Masak: RESEPI SOTONG MASAM MANIS TRADISI 🦑✨ \nBelajar rahsia memasak hidangan nyonya Sotong Masam Manis yang asli dan penuh rasa tradisi bersama Chef Florence Tan! Gabungan rasa pedas\, manis dan masam ini sesuai untuk jualan premium mahupun sajian istimewa buat keluarga tercinta. \nPeserta akan diajar teknik mudah dari penyediaan bahan segar hingga ke cara penyajian yang menggoda selera. \n📌 Maklumat Kelas:\n📅 Hari: Khamis\, 10 Julai 2025\n⏰ Masa: 5 – 6 petang\n📍 Lokasi: Lintas langsung dari Pasar Kedai Payang\, Kuala Terengganu\, Terengganu\n📺 Platform: Siaran langsung di YouTube Studio NADI Mahir\n🔗 Untuk sertai program\, boleh kunjungi NADI Kampung Pahi atau hubungi melalui wasap 01112184339 / 0142930425 \nJangan lepaskan peluang ini!
URL:https://kgpahi.nadi.my/event/mahir-masak-resepi-sotong-masam-manis-tradisi/
LOCATION:NADI Kampung Pahi\, NADI Kampung Pahi
END:VEVENT
BEGIN:VEVENT
DTSTART;TZID=Asia/Kuala_Lumpur:20250714T153000
DTEND;TZID=Asia/Kuala_Lumpur:20250714T163000
DTSTAMP:20260424T044714
CREATED:20250714T021039Z
LAST-MODIFIED:20250714T021039Z
UID:3569-1752507000-1752510600@kgpahi.nadi.my
SUMMARY:OPEN LIVE CLASS: BAHASA INGGERIS
DESCRIPTION:🎉 PELUANG EMAS UNTUK PELAJAR TINGKATAN 4 & 5! 🎉 \nNak kuasai Bahasa Inggeris dengan lebih yakin? Nak score SPM dengan penuh gaya? 🔥 \nINI MASANYA! \n📚 OPEN LIVE CLASS: BAHASA INGGERIS \nNADI Nurture DILEA Digital Learning \n🗓 Isnin | 14 Julai 2025\n🕒 3:30 – 4:30 petang\n💻 Google Meet (ONLINE)\n🧑‍🏫 Teacher Hanim \n— \n✨ APA YANG BESTNYA?\n✅ Percuma – Tiada bayaran langsung!\n✅ Live dan interaktif – Tanya terus\, belajar terus!\n✅ Terbuka kepada semua pelajar Tingkatan 4 & 5\n✅ Tiada had penyertaan – Ajak satu kelas pun boleh! \n— \n🚀 Tak kira tahap anda sekarang\, ini peluang untuk tingkatkan skil\, bina keyakinan\, dan persiapkan diri untuk SPM!\nBelajar dengan cara yang seronok\, mudah difahami\, dan penuh semangat. \nUntuk sertai program\, boleh kunjungi NADI Kampung Pahi atau hubungi melalui wasap 01112184339 / 0142930425 \n#NADIKampungPahi #PusatSebaranMaklumatNasionalKampungPahi #NADIDiLea #OpenLiveClassPercuma #KelasTambahanSPMPercuma
URL:https://kgpahi.nadi.my/event/open-live-class-bahasa-inggeris/
LOCATION:NADI Kampung Pahi\, NADI Kampung Pahi
END:VEVENT
BEGIN:VEVENT
DTSTART;TZID=Asia/Kuala_Lumpur:20250715T100000
DTEND;TZID=Asia/Kuala_Lumpur:20250715T110000
DTSTAMP:20260424T044714
CREATED:20250714T071147Z
LAST-MODIFIED:20250714T071147Z
UID:3574-1752573600-1752577200@kgpahi.nadi.my
SUMMARY:Webinar NADI Nurture eKelas Usahawan – AI untuk Cipta Kandungan Menarik & Pantas
DESCRIPTION:Usahawan\, bersedia untuk cipta kandungan dengan cara paling mudah dan pantas? \n\n\n\n Sertai Webinar NADI Nurture eKelas Usahawan – Gunakan AI untuk Cipta Kandungan Menarik & Pantas!\n\n\nPelajari bagaimana kecerdasan buatan (AI) boleh membantu anda: \n\n Menjana idea kandungan tanpa tekanan\n Menggunakan alat AI yang menjimatkan masa\n Meningkatkan perhatian pelanggan melalui kandungan yang berkesan \n\n\n\n Selasa\, 15 Julai 2025\n 10.00 pagi – 11.00 pagi\n Secara atas talian (Zoom LIVE)\n Untuk sertai program\, boleh kunjungi NADI Kampung Pahi atau hubungi melalui wasap 01112184339 / 0142930425 \n\n\n\n#eKelasUsahawan #NADINurture #SatuCreative #WebinarPercuma #PemasaranDigital #KandunganAI
URL:https://kgpahi.nadi.my/event/webinar-nadi-nurture-ekelas-usahawan-ai-untuk-cipta-kandungan-menarik-pantas/
LOCATION:NADI Kampung Pahi\, NADI Kampung Pahi
END:VEVENT
BEGIN:VEVENT
DTSTART;TZID=Asia/Kuala_Lumpur:20250715T140000
DTEND;TZID=Asia/Kuala_Lumpur:20250715T150000
DTSTAMP:20260424T044714
CREATED:20250714T072147Z
LAST-MODIFIED:20250714T072147Z
UID:3576-1752588000-1752591600@kgpahi.nadi.my
SUMMARY:NADI Nurture eKelas Usahawan – Strategi Mengurus dan Mengukur Keberhasilan Pemasaran
DESCRIPTION:📣 Nak tahu cara urus kempen pemasaran digital secara lebih cekap dan berkesan? \nSertai Webinar NADI Nurture eKelas Usahawan – Strategi Mengurus dan Mengukur Keberhasilan Pemasaran\nKuasai strategi penting untuk tingkatkan keberkesanan kempen anda tanpa membazir kos! \nApa yang anda akan pelajari:\n📊 Cara mengurus dan memantau kempen pemasaran digital\n🧩 Penggunaan alat automasi untuk jimat masa\n🎯 Strategi menjimatkan kos dengan hasil maksimum \n📅 Selasa\, 15Julai 2025\n🕒 2.00 petang – 3.00 petang\n📍 Secara atas talian (Zoom LIVE)\n🔗 Untuk sertai program\, boleh kunjungi NADI Kampung Pahi atau hubungi melalui wasap 01112184339 / 0142930425 \n#eKelasUsahawan #NADINurture #SatuCreative #PemasaranDigital #WebinarPercuma
URL:https://kgpahi.nadi.my/event/nadi-nurture-ekelas-usahawan-strategi-mengurus-dan-mengukur-keberhasilan-pemasaran-2/
LOCATION:NADI Kampung Pahi\, NADI Kampung Pahi
END:VEVENT
BEGIN:VEVENT
DTSTART;TZID=Asia/Kuala_Lumpur:20250719T143000
DTEND;TZID=Asia/Kuala_Lumpur:20250719T163000
DTSTAMP:20260424T044714
CREATED:20250716T020500Z
LAST-MODIFIED:20250716T020500Z
UID:3613-1752935400-1752942600@kgpahi.nadi.my
SUMMARY:NADI DILEA | Webinar Bahasa Inggeris
DESCRIPTION:📢 Webinar Bahasa Inggeris PERCUMA untuk Pelajar Tingkatan 4 & 5! 📢 \nJom tingkatkan penguasaan Bahasa Inggeris anda! \nWebinar Berkala Bahasa Inggeris Edisi ke-3 dibawa khas untuk anda. \n🗓️ Tarikh: 19 Julai 2025 (Sabtu)\n🕞 Waktu: 2.30 PM – 4.30 PM\n📍 Lokasi: NADI Kampung Pahi \nJangan lepaskan peluang keemasan ini untuk belajar dan bersedia menghadapi peperiksaan! 🎓✨ \nUntuk sertai program\, boleh kunjungi NADI Kampung Pahi atau hubungi melalui wasap 01112184339 / 0142930425 \n#NADI #DILEA #WebinarEnglish #SPM2025 #TuisyenPercuma #PusatEkonomiDigital #KelasOnline #EnglishWebinar
URL:https://kgpahi.nadi.my/event/nadi-dilea-webinar-bahasa-inggeris/
LOCATION:NADI Kampung Pahi\, NADI Kampung Pahi
END:VEVENT
BEGIN:VEVENT
DTSTART;TZID=Asia/Kuala_Lumpur:20250719T150000
DTEND;TZID=Asia/Kuala_Lumpur:20250719T160000
DTSTAMP:20260424T044714
CREATED:20250715T061526Z
LAST-MODIFIED:20250715T061526Z
UID:3587-1752937200-1752940800@kgpahi.nadi.my
SUMMARY:Program Siri Webinar Kempen Internet Selamat 2025 Siri 7
DESCRIPTION:Program Siri Webinar Kempen Internet Selamat 2025 Siri 7 \nTopik: AWASI PERANGKAP BERITA PALSU – PROF. DR. TS. ARIFFIN ABDUL MUTALIB \n✅ Penceramah: Prof. Ts. Dr. Ariffin Abdul Mutalib (Pensyarah Universiti Utara Malaysia)\n✅ Target Peserta: Terbuka (Kanak-Kanak & Dewasa)\n📅 Tarikh: 19 Julai 2025\n⏰ Waktu: 3.00 Petang – 4.00 Petang\n📌 Lokasi: Google Meet di NADI \nUntuk sertai program\, boleh kunjungi NADI Kampung Pahi atau hubungi melalui wasap 01112184339 / 0142930425
URL:https://kgpahi.nadi.my/event/program-siri-webinar-kempen-internet-selamat-2025-siri-7/
LOCATION:NADI Kampung Pahi\, NADI Kampung Pahi
END:VEVENT
BEGIN:VEVENT
DTSTART;TZID=Asia/Kuala_Lumpur:20250724T150000
DTEND;TZID=Asia/Kuala_Lumpur:20250724T163000
DTSTAMP:20260424T044714
CREATED:20250717T024406Z
LAST-MODIFIED:20250717T024406Z
UID:3628-1753369200-1753374600@kgpahi.nadi.my
SUMMARY:WEBINAR NADI x CYBERSECURITY | KESELAMATAN AKAUN MEDIA SOSIAL
DESCRIPTION:📣 [WEBINAR NADI x CYBERSECURITY]\n🛡️ KESELAMATAN AKAUN MEDIA SOSIAL\nBagaimana ‘Phishing’ Boleh Ambil Alih Akaun Anda? \n📅 24 Julai 2025 (Khamis)\n🕒 3:00 PM – 4:30 PM\n💻 Platform: Zoom\n🔗 Untuk sertai program\, boleh kunjungi NADI Kampung Pahi atau hubungi melalui wasap 01112184339 / 0142930425 \n📌 Apa yang akan dipelajari?\n✅ Audit akaun media sosial secara langsung\n✅ Semakan Third-party Apps & log masuk luar biasa\n✅ DEMO LIVE: Serangan phishing guna Evilginx. Anda boleh lihat sendiri bagaimana akaun boleh diambil alih hanya dengan satu klik. \n✅ Wajib daftar sebagai ahli NADI\n📜 Sijil disediakan \n📢 Sasaran: Pengguna media sosial & peniaga atas talian \n“Lindungi akaun anda sebelum terlambat. Jangan jadi mangsa yang seterusnya”
URL:https://kgpahi.nadi.my/event/webinar-nadi-x-cybersecurity-keselamatan-akaun-media-sosial/
LOCATION:NADI Kampung Pahi\, NADI Kampung Pahi
END:VEVENT
BEGIN:VEVENT
DTSTART;TZID=Asia/Kuala_Lumpur:20250726T143000
DTEND;TZID=Asia/Kuala_Lumpur:20250726T163000
DTSTAMP:20260424T044714
CREATED:20250723T020033Z
LAST-MODIFIED:20250723T020033Z
UID:3687-1753540200-1753547400@kgpahi.nadi.my
SUMMARY:NADI DiLea | Webinar Bahasa Melayu
DESCRIPTION:📢 Webinar Bahasa Melayu PERCUMA Khas untuk Pelajar Tingkatan 4 & 5! 📢 \nNak skor A dalam subjek Bahasa Melayu? Sertai Webinar Berkala Bahasa Melayu Edisi ke-3 bersama kami! \n🗓️ Tarikh : 26 Julai 2025 (Sabtu)\n🕞 Masa : 2.30 PM – 4.30 PM\n📍 Tempat : NADI Kampung Pahi \n📚 Peluang terbaik untuk kuasai kemahiran menjawab soalan dan persediaan menghadapi SPM! Jangan lepaskan! \n📞 Daftar sekarang dengan mengunjungi NADI kawasan anda!\n☎️ Untuk sertai program\, boleh kunjungi NADI Kampung Pahi atau hubungi melalui wasap 01112184339 / 0142930425 \n#NADI #DILEA #WebinarBahasaMelayu #SPM2025 #BMWebinar #BelajarOnline #SkorSPM
URL:https://kgpahi.nadi.my/event/nadi-dilea-webinar-bahasa-melayu/
LOCATION:NADI Kampung Pahi\, NADI Kampung Pahi
END:VEVENT
BEGIN:VEVENT
DTSTART;TZID=Asia/Kuala_Lumpur:20250731T080000
DTEND;TZID=Asia/Kuala_Lumpur:20250731T180000
DTSTAMP:20260424T044714
CREATED:20250714T022641Z
LAST-MODIFIED:20250714T022641Z
UID:3571-1753948800-1753984800@kgpahi.nadi.my
SUMMARY:PENDAFTARAN TOURNAMENT MOBILE LEGENDS BANG BANG SEASON 3
DESCRIPTION:🔥 TOURNAMENT MOBILE LEGENDS BANG BANG SEASON 3 kini kembali! 🔥 \nJom wakili pasukan anda dan rebut hadiah wang tunai sehingga RM2\,500! 💰🎮 \nSyarat Penyertaan\n✅ WAJIB Daftar sebgai ahli NADI\n✅ Warganegara dan penduduk tetap Malaysia sahaja\n✅ Berumur 21 tahun ke bawah\n✅ Perlawanan berlangsung di NADI\n✅ Bukan pemain pro\n✅ Lima Pemain Utama dan Satu Simpnan \n📅 Tarikh tutup penyertaan: 31 Julai 2025 \n📍 Daftar segera di NADI Kampung Pahi! \n📞 Hubungi kami untuk maklumat lanjut:\n📲 011-12184339 / 014-2930425 \n#NADIKampungPahi #PusatSebaranMaklumatNasionalKampungPahi #Esukan #MobileLegends #TournamentMobileLegends #DaftarSekarang
URL:https://kgpahi.nadi.my/event/pendaftaran-tournament-mobile-legends-bang-bang-season-3/
LOCATION:NADI Kampung Pahi\, NADI Kampung Pahi
END:VEVENT
BEGIN:VEVENT
DTSTART;TZID=Asia/Kuala_Lumpur:20250731T080000
DTEND;TZID=Asia/Kuala_Lumpur:20250831T180000
DTSTAMP:20260424T044714
CREATED:20250731T073647Z
LAST-MODIFIED:20250731T073647Z
UID:3755-1753948800-1756663200@kgpahi.nadi.my
SUMMARY:JADUAL OPEN TUITION NADI DILEA – OGOS 2025
DESCRIPTION:
URL:https://kgpahi.nadi.my/event/jadual-open-tuition-nadi-dilea-ogos-2025/
LOCATION:NADI Kampung Pahi\, NADI Kampung Pahi
END:VEVENT
END:VCALENDAR