BEGIN:VCALENDAR
VERSION:2.0
PRODID:-//NADI Kg Pahi - ECPv6.15.20//NONSGML v1.0//EN
CALSCALE:GREGORIAN
METHOD:PUBLISH
X-WR-CALNAME:NADI Kg Pahi
X-ORIGINAL-URL:https://kgpahi.nadi.my
X-WR-CALDESC:Events for NADI Kg Pahi
REFRESH-INTERVAL;VALUE=DURATION:PT1H
X-Robots-Tag:noindex
X-PUBLISHED-TTL:PT1H
BEGIN:VTIMEZONE
TZID:Asia/Kuala_Lumpur
BEGIN:STANDARD
TZOFFSETFROM:+0800
TZOFFSETTO:+0800
TZNAME:+08
DTSTART:20240101T000000
END:STANDARD
END:VTIMEZONE
BEGIN:VEVENT
DTSTART;TZID=Asia/Kuala_Lumpur:20250603T140000
DTEND;TZID=Asia/Kuala_Lumpur:20250603T150000
DTSTAMP:20260423T111353
CREATED:20250603T042753Z
LAST-MODIFIED:20250603T042753Z
UID:3185-1748959200-1748962800@kgpahi.nadi.my
SUMMARY:Webinar Pemasaran Digital eKelas Usahawan - Strategi Urus Pemasaran yang Efektif untuk Bisnes Anda!
DESCRIPTION:Webinar Pemasaran Digital eKelas Usahawan – Strategi Urus Pemasaran yang Efektif untuk Bisnes Anda!\n\n\nUsahawan bijak tahu cara urus kempen digital dengan cekap! \n\n\n\nDalam webinar PERCUMA ini anda akan pelajari:\n Tips mengurus kempen pemasaran digital\n Alat bantu automasi & pemantauan\n Strategi jimat kos\, maksimum impak!\n\n\n Selasa\, 3 Jun 2025\n 2.00 petang – 3.00 petang\n Secara online (Zoom LIVE)\n Pendaftaran boleh kunjungi NADI Kampung Pahi \n\n\n\n#eKelasUsahawan #SatuCreative #WebinarPercuma #PemasaranDigital
URL:https://kgpahi.nadi.my/event/webinar-pemasaran-digital-ekelas-usahawan-strategi-urus-pemasaran-yang-efektif-untuk-bisnes-anda/
LOCATION:NADI Kampung Pahi\, NADI Kampung Pahi
END:VEVENT
BEGIN:VEVENT
DTSTART;TZID=Asia/Kuala_Lumpur:20250604T100000
DTEND;TZID=Asia/Kuala_Lumpur:20250604T110000
DTSTAMP:20260423T111353
CREATED:20250603T084944Z
LAST-MODIFIED:20250603T084944Z
UID:3187-1749031200-1749034800@kgpahi.nadi.my
SUMMARY:Webinar Pemasaran Digital eKelas Usahawan - Gunakan AI untuk mencipta kandungan yang menarik & pantas!
DESCRIPTION:Webinar Pemasaran Digital eKelas Usahawan – Gunakan AI untuk mencipta kandungan yang menarik & pantas! \n\n\n\nSertai webinar PERCUMA ini dan pelajari:\n Cara menggunakan AI untuk cipta kandungan\n Alat & platform AI terbaik untuk usahawan\n Jimat masa\, lebih idea\, lebih engagement!\n\n\n Rabu\, 4 Jun 2025\n 10.00 pagi – 11.00 pagi\n Secara online (Zoom LIVE)\n Pendaftaran boleh kunjungi NADI Kampung Pahi atau wasap ke nombor\n\n\nhttps://wasap.my/601112184339/ekelasusahawan04jun2025\nhttps://wasap.my/60142930425/ekelasusahawan04jun2025 \n\n\n\nKlik link untuk daftar sekarang!\n\n\n#eKelasUsahawan #SatuCreative #WebinarPercuma #PemasaranDigital #NADI
URL:https://kgpahi.nadi.my/event/webinar-pemasaran-digital-ekelas-usahawan-gunakan-ai-untuk-mencipta-kandungan-yang-menarik-pantas/
LOCATION:NADI Kampung Pahi\, NADI Kampung Pahi
END:VEVENT
BEGIN:VEVENT
DTSTART;TZID=Asia/Kuala_Lumpur:20250604T140000
DTEND;TZID=Asia/Kuala_Lumpur:20250604T150000
DTSTAMP:20260423T111353
CREATED:20250603T085719Z
LAST-MODIFIED:20250603T085719Z
UID:3189-1749045600-1749049200@kgpahi.nadi.my
SUMMARY:Webinar Pemasaran Digital eKelas Usahawan - Strategi Urus Pemasaran yang Efektif untuk Bisnes Anda!
DESCRIPTION:Webinar Pemasaran Digital eKelas Usahawan – Strategi Urus Pemasaran yang Efektif untuk Bisnes Anda!\n\n\nUsahawan bijak tahu cara urus kempen digital dengan cekap! \n\n\n\nDalam webinar PERCUMA ini anda akan pelajari:\n Tips mengurus kempen pemasaran digital\n Alat bantu automasi & pemantauan\n Strategi jimat kos\, maksimum impak! \n\n\n\n Rabu\, 4 Jun 2025\n 2.00 petang – 3.00 petang\n Secara online (Zoom LIVE)\n Pendaftaran boleh kunjungi NADI Kampung Pahi atau wasap ke nombor\n\n\nhttps://wasap.my/601112184339/ekelasusahawan04jun2025\nhttps://wasap.my/60142930425/ekelasusahawan04jun2025 \n\n\n\n#eKelasUsahawan #SatuCreative #WebinarPercuma #PemasaranDigital #NADI
URL:https://kgpahi.nadi.my/event/webinar-pemasaran-digital-ekelas-usahawan-strategi-urus-pemasaran-yang-efektif-untuk-bisnes-anda-2/
LOCATION:NADI Kampung Pahi\, NADI Kampung Pahi
END:VEVENT
BEGIN:VEVENT
DTSTART;TZID=Asia/Kuala_Lumpur:20250613T080000
DTEND;TZID=Asia/Kuala_Lumpur:20250613T170000
DTSTAMP:20260423T111353
CREATED:20250611T025932Z
LAST-MODIFIED:20250611T025932Z
UID:3206-1749801600-1749834000@kgpahi.nadi.my
SUMMARY:NADI X KEUSAHAWANAN | PROGRAM PENCARIAN IKON USAHAWAN CILIK NADI 2025 COHORT 3
DESCRIPTION:PENYERTAAN MASIH DIBUKA BAGI PROGRAM PENCARIAN IKON USAHAWAN CILIK NADI 2025 COHORT 3 \nPihak NADI x Keusahawanan telah menerima sambutan yang menggalakkan dan amat mengalu-alukan penyertaan lebih ramai peserta. \n🚀 Memupuk pengetahuan dan semangat membudayakan keusahawanan di kalangan kanak-kanak dan remaja (7-17 tahun).\n🏆 Berpeluang mempelajari modul latihan berkaitan perancangan perniagaan\, perancangan perniagaan operasi syarikat\, perancangan kewangan perniagaan dan pemasaran.\n➡️ Pendedahan kepada asas dan aplikasi Kecerdasan Buatan (Artificial Intelligence). \nBersedia untuk melangkah lebih jauh\, jangan lepaskan peluang ini. \nUntuk mendaftar\, boleh kunjungi NADI Kampung Pahi atau hubungi melalui wasap:\nhttps://wasap.my/601112184339/ikonusahwancilik13jun\nhttps://wasap.my/60142930425/ikonusahawancilik13jun \nTarikh tutup penyertaan : 13 JUN 2025 \nJom rebut peluang menyertai NADI x KIDVENTURE Cohort 2! \n#ikonusahawancilik #nadikampungpahi #pusatsebaranmaklumatnasional
URL:https://kgpahi.nadi.my/event/nadi-x-keusahawanan-program-pencarian-ikon-usahawan-cilik-nadi-2025-cohort-3/
LOCATION:NADI Kampung Pahi\, NADI Kampung Pahi
END:VEVENT
BEGIN:VEVENT
DTSTART;TZID=Asia/Kuala_Lumpur:20250613T103000
DTEND;TZID=Asia/Kuala_Lumpur:20250613T113000
DTSTAMP:20260423T111354
CREATED:20250610T031656Z
LAST-MODIFIED:20250610T031656Z
UID:3195-1749810600-1749814200@kgpahi.nadi.my
SUMMARY:WEBINAR STUDIO SIHAT – Siri NadiCARE | W057 🟢 “Sihat Itu Pilihan: Kenali Makanan Anda”
DESCRIPTION:WEBINAR STUDIO SIHAT – Siri NadiCARE | W057\n “Sihat Itu Pilihan: Kenali Makanan Anda”\n\n\n\n Jumaat\, 13 Jun 2025\n 10:30 pagi (LIVE)\n Google Meet: https://meet.google.com/tvt-jacd-uem\n YouTube Live: https://www.youtube.com/@StudioSihat\n Facebook Live: https://www.facebook.com/officialnadimalaysia\n\n\n\nAdakah kita benar-benar ‘sihat’\, ‘low fat’\, ‘sugar-free’ & trend viral pemakanan… ramai antara kita masih keliru memilih makanan yang betul-betul sihatntara kita masih keliru memilih makanan yang betul-betul sihat\n\n\n\n Sertai sesi ini bersama:\n Dr Rashida Safiuddin\nPegawai Perubatan Kesihatan Awam\, KKM\n\n\n\n Ketahui:\n Cara baca label pemakanan dengan betul\n Tip mudah kawal pengambilan garam\, gula & lemak\n Kenali mitos makanan viral yang ‘konon-kononnya’ sihat\n Strategi realistik untuk makan sihat tanpa stres atau bajet besar\n\n\n\n Sesi ini sangat sesuai untuk:\n• Ibu bapa\n• Individu nak kurus dengan cara sihat\n• Pesakit NCD (kencing manis\, darah tinggi\, kolesterol)\n• Sesiapa saja yang nak mula gaya hidup sihat tapi tak tahu dari mana
URL:https://kgpahi.nadi.my/event/webinar-studio-sihat-siri-nadicare-w057-%f0%9f%9f%a2-sihat-itu-pilihan-kenali-makanan-anda/
LOCATION:NADI Kampung Pahi\, NADI Kampung Pahi
END:VEVENT
BEGIN:VEVENT
DTSTART;TZID=Asia/Kuala_Lumpur:20250613T153000
DTEND;TZID=Asia/Kuala_Lumpur:20250613T170000
DTSTAMP:20260423T111354
CREATED:20250610T034913Z
LAST-MODIFIED:20251013T024043Z
UID:3200-1749828600-1749834000@kgpahi.nadi.my
SUMMARY:[WEBINAR NADI x CYBERSECURITY] LINDUNGI IDENTITI DIGITAL ANDA (Secure Online Presence)
DESCRIPTION:[WEBINAR NADI x CYBERSECURITY]\n🛡 LINDUNGI IDENTITI DIGITAL ANDA (Secure Online Presence) \n📅 13 Jun 2025 (Jumaat)\n🕒 3.30 PM – 5.00 PM\n💻 Platform: Zoom (Live Streaming)\n🔗 Pautan Pendaftaran: cybersecurity.nadi.my \n📌 Antara yang akan dipelajari:\n🔐 Kebocoran Data & Serangan Siber\n🌐 Dark Web & Risiko Digital\n🎯 Teknik LTLR: Less Target\, Less Risk\n🧠 Bonus: Demonstrasi teknik keselamatan digital & contoh serangan sebenar \n✅ Syarat penyertaan: \nWajib berdaftar sebagai ahli NADI \nPercuma! Tapi slot adalah TERHAD \n📖 “Ilmu itu lebih baik daripada kekayaan\, kerana kekayaan perlu dijaga\, sedangkan ilmu menjaga kamu.”\n— Ali bin Abi Thalib \n📥 Jom daftar segera sebelum penuh!\nMaklumat lanjut: kunjungi NADI Kampung Pahi.
URL:https://kgpahi.nadi.my/event/webinar-nadi-x-cybersecurity-lindungi-identiti-digital-anda-secure-online-presence/
LOCATION:NADI Kampung Pahi\, NADI Kampung Pahi
END:VEVENT
BEGIN:VEVENT
DTSTART;TZID=Asia/Kuala_Lumpur:20250621T143000
DTEND;TZID=Asia/Kuala_Lumpur:20250621T163000
DTSTAMP:20260423T111354
CREATED:20250610T043555Z
LAST-MODIFIED:20251013T023223Z
UID:3204-1750516200-1750523400@kgpahi.nadi.my
SUMMARY:NADI DILEA | PROGRAM KHAS MATEMATIK
DESCRIPTION:✨PROGRAM KHAS MATEMATIK✨ \n📣 Pelajar Tingkatan 4 & 5\, ini peluang emas untuk anda! \n📚Webinar Berkala Matematik – Edisi Kedua : \n  \nSkor Matematik Mudah SPM : Kertas 1 & 2 \n📅 Sabtu | 21 Jun 2025\n🕑2.30PM-4.30PM\n🎙️ Disampaikan oleh Cikgu Azwan\, Guru Matematik & Matematik Tambahan \n  \n💡 ΚΕΝΑΡA ANDA PERLU JOIN ? \n✅Teknik Menjawab Soalan dengan Lebih Mudah dan Cepat\n✅Tips dan Ramalan Soalan Popular\n✅Ulang Kaji Terakhir yang Berkesan\n✅Bimbingan terus daripada guru berpengalaman! \n  \n📍 LIVE & PERCUMA!\nJangan lepaskan peluang untuk anda. Jom sertai bersama rakan-rakan!💪✍️ \n  \nUntuk mendaftar\, boleh kunjungi NADI Kampung Pahi atau hubungi melalui wasap :\nhttps://wasap.my/601112184339/webinarberkalamatematik21jun\nhttps://wasap.my/60142930425/webinarberkalamatematik21jun
URL:https://kgpahi.nadi.my/event/nadi-dilea-program-khas-matematik/
LOCATION:NADI Kampung Pahi\, NADI Kampung Pahi
END:VEVENT
BEGIN:VEVENT
DTSTART;TZID=Asia/Kuala_Lumpur:20250624T080000
DTEND;TZID=Asia/Kuala_Lumpur:20250624T170000
DTSTAMP:20260423T111356
CREATED:20250624T094017Z
LAST-MODIFIED:20250624T094017Z
UID:3307-1750752000-1750784400@kgpahi.nadi.my
SUMMARY:
DESCRIPTION:✨ PROGRAM KHAS SEJARAH ✨ \n📣 Pelajar Tingkatan 4 & 5\, ini peluang emas untuk anda! \n📚 Webinar Berkala Sejarah – Edisi Kedua : \nTeknik Skor Sejarah A \n📅 Sabtu | 28 Jun 2025 \n🕑2.30PM-4.30PM \n🎙️ Disampaikan oleh Cikgu Rafi\, Penceramah Teknik Menjawab Sejarah SPM \n💡 ΚΕΝΑΡA ANDA PERLU JOIN ? \n✅Faham Format dan Gaya Soalan Sejarah SPM \n✅Belajar Teknik Menjawab Soalan KBAT dan Esei \n✅Ulang Kaji Pintar & Fokus Topik Penting \n✅Bimbingan terus daripada guru berpengalaman! \n📍 LIVE & PERCUMA! \nJangan lepaskan peluang untuk tingkatkan kemahiran menjawab kertas sejarah anda. Jom sertai bersama rakan-rakan!💪✍️ \nUntuk pendaftaran\, boleh kunjungi NADI Kampung Pahi atau wasap ke nombor 01112184339 / 0142930425. \n#nadikgpahi #PusatSebaranMaklumatNasional #SKMM #TM #webinarSPM #WebinarSejarahTingkatan5 #WebinarPercuma
URL:https://kgpahi.nadi.my/event/3307/
END:VEVENT
BEGIN:VEVENT
DTSTART;TZID=Asia/Kuala_Lumpur:20250625T090000
DTEND;TZID=Asia/Kuala_Lumpur:20250625T180000
DTSTAMP:20260423T111356
CREATED:20250610T040927Z
LAST-MODIFIED:20250610T040927Z
UID:3202-1750842000-1750874400@kgpahi.nadi.my
SUMMARY:NADI X KEUSAHAWANAN PENCARIAN IKON USAHAWAN NADI 2025 – PENGAMBILAN COHORT KE-4
DESCRIPTION:NADI X KEUSAHAWANAN\nPENCARIAN IKON USAHAWAN NADI 2025 – PENGAMBILAN COHORT KE-4 \nSukacita dimaklumkan bahawa Program Pencarian Ikon Usahawan NADI 2025 kini dibuka bagi pengambilan peserta Cohort Ke-4.\n📍 Jumlah kekosongan: 4 orang usahawan\n📅 Tarikh tutup pencalonan: Rabu\, 25 Jun 2025\n⏰ Masa: Jam 3.00 petang \nJika ada sebarang pertanyaan\, boleh kunjungi NADI Kampung Pahi atau hubungi melalui wasap:\nhttps://wasap.my/601112184339/pencarianikonusahawancohort4\nhttps://wasap.my/60142930425/pencarianikonusahawancohort4 \nTerima kasih. \n#pusatsebaranmaklumatnasional #NADIXKEUSAHAWANAN #nadikgpahi
URL:https://kgpahi.nadi.my/event/nadi-x-keusahawanan-pencarian-ikon-usahawan-nadi-2025-pengambilan-cohort-ke-4/
LOCATION:NADI Kampung Pahi\, NADI Kampung Pahi
END:VEVENT
BEGIN:VEVENT
DTSTART;TZID=Asia/Kuala_Lumpur:20250626T093000
DTEND;TZID=Asia/Kuala_Lumpur:20250626T103000
DTSTAMP:20260423T111357
CREATED:20250624T083147Z
LAST-MODIFIED:20250624T083147Z
UID:3303-1750930200-1750933800@kgpahi.nadi.my
SUMMARY:𝗙𝗢𝗥𝗨𝗠 𝗕𝗘𝗥𝗦𝗔𝗠𝗔 𝗞𝗢𝗠𝗨𝗡𝗜𝗧𝗜: 𝗡𝗔𝗗𝗜 𝗠𝗔𝗛𝗜𝗥
DESCRIPTION:📢𝗙𝗢𝗥𝗨𝗠 𝗕𝗘𝗥𝗦𝗔𝗠𝗔 𝗞𝗢𝗠𝗨𝗡𝗜𝗧𝗜: 𝗡𝗔𝗗𝗜 𝗠𝗔𝗛𝗜𝗥 \n🌟 𝗠𝗮𝗵𝗶𝗿 𝗫 𝗣𝗲𝗺𝗯𝗲𝗹𝗮𝗷𝗮𝗿𝗮𝗻 𝗦𝗲𝗽𝗮𝗻𝗷𝗮𝗻𝗴 𝗛𝗮𝘆𝗮𝘁 🌟\nJom sertai kami dalam 𝗙𝗼𝗿𝘂𝗺 𝗕𝗲𝗿𝘀𝗮𝗺𝗮 𝗞𝗼𝗺𝘂𝗻𝗶𝘁𝗶 𝗡𝗔𝗗𝗜 𝗠𝗮𝗵𝗶𝗿 untuk berkongsi inspirasi\, pengalaman dan peluang pembelajaran baharu bersama peserta dari seluruh Pantai Timur!\n📍 𝗦𝗲𝘀𝗶 𝗧𝗶𝗺𝘂𝗿 (𝗣𝗮𝗵𝗮𝗻𝗴\, 𝗧𝗲𝗿𝗲𝗻𝗴𝗴𝗮𝗻𝘂\, 𝗞𝗲𝗹𝗮𝗻𝘁𝗮𝗻)\n📅 26 Jun 2025 (Rabu)\n🕤 9:30 pagi – 10:30 pagi \n🌱 Topik menarik yang akan disentuh:\n🔹 Mahir Pertanian Pintar\n🔹 Mahir Jahit\n🔹 Mahir Foto\n🔹 Mahir Baiki Gajet\n🔹 Mahir Masak \n💥 𝗣𝗘𝗡𝗗𝗔𝗙𝗧𝗔𝗥𝗔𝗡 𝗞𝗘𝗟𝗔𝗦 𝗠𝗔𝗛𝗜𝗥 – 𝗜𝗡𝗧𝗔𝗞𝗘 𝟮 𝗸𝗶𝗻𝗶 𝗗𝗜𝗕𝗨𝗞𝗔! \nJangan lepaskan peluang untuk pelajari kemahiran baharu secara percuma dan bersijil. \n📌 Hubungi kami untuk daftar kelas: www.wasap.my/601112184339/forumnadimahir \n#nadikgpahi #PusatSebaranMaklumatNasional #SKMM #TM #nadimahir #mahirintake2 #kelaspercuma
URL:https://kgpahi.nadi.my/event/%f0%9d%97%99%f0%9d%97%a2%f0%9d%97%a5%f0%9d%97%a8%f0%9d%97%a0-%f0%9d%97%95%f0%9d%97%98%f0%9d%97%a5%f0%9d%97%a6%f0%9d%97%94%f0%9d%97%a0%f0%9d%97%94-%f0%9d%97%9e%f0%9d%97%a2%f0%9d%97%a0%f0%9d%97%a8/
LOCATION:NADI Kampung Pahi\, NADI Kampung Pahi
END:VEVENT
BEGIN:VEVENT
DTSTART;TZID=Asia/Kuala_Lumpur:20250626T143000
DTEND;TZID=Asia/Kuala_Lumpur:20250626T153000
DTSTAMP:20260423T111357
CREATED:20250624T092537Z
LAST-MODIFIED:20250624T092537Z
UID:3305-1750948200-1750951800@kgpahi.nadi.my
SUMMARY:KELAS SHORT LEARNING SERIES (SLS) NADI MAHIR | MAHIR BAIKI GAJET: Tak Kenal Maka Tak Cinta — Jom Kenal Komputer!
DESCRIPTION:KELAS SHORT LEARNING SERIES (SLS) NADI MAHIR\n\n\n\n MAHIR BAIKI GAJET: Tak Kenal Maka Tak Cinta — Jom Kenal Komputer!\n\n\n\n 26 Jun 2025 (Khamis)\n 2.30 – 3.30 PM\nSecara atas talian\n\n\n\nJom Sertai kelas interaktif “Tak Kenal Maka Tak Cinta — Jom Kenal Komputer!” yang direka khas untuk semua peringkat umur!\n\n\n\n Terokai dunia asas komputer — kenali sejarah\, latar belakang\, komponen penting\, kelebihan & kekurangannya serta bagaimana penggunaannya dalam kehidupan seharian.\n\n\n\n Jangan lepaskan peluang untuk lebih celik teknologi!\n\n\n\n Tiada had umur\n Percuma & mudah difahami\n Terbuka kepada semua ahli NADI\n\n\n\nPendaftaran boleh kunjungi NADI Kampung Pahi atau hubungi : 01112184339 / 0142930425\n\n\n\n#nadikgpahi #PusatSebaranMaklumatNasional #SKMM #TM #nadimahir #mahirbaikigajet #kelaspercuma
URL:https://kgpahi.nadi.my/event/kelas-short-learning-series-sls-nadi-mahir-mahir-baiki-gajet-tak-kenal-maka-tak-cinta-jom-kenal-komputer/
END:VEVENT
BEGIN:VEVENT
DTSTART;TZID=Asia/Kuala_Lumpur:20250630T143000
DTEND;TZID=Asia/Kuala_Lumpur:20250630T160000
DTSTAMP:20260423T111357
CREATED:20250624T080915Z
LAST-MODIFIED:20250624T080915Z
UID:3301-1751293800-1751299200@kgpahi.nadi.my
SUMMARY:KELAS SHORT LEARNING SERIES (SLS) NADI MAHIR
DESCRIPTION:KELAS SHORT LEARNING SERIES (SLS) NADI MAHIR\n\n MAHIR JAHIT: Buat Beg Sendiri? Jom Belajar Jahit Tote Bag!\n\n 30 Jun 2025 (Isnin)\n 2.30 – 4.00 PM\n\n\n Tiada had umur\n Percuma & mudah difahami\n Terbuka kepada semua ahli NADI\n\n\n\nUntuk Pendaftaran peserta boleh berhubung dengan petugas NADI\n www.wasap.my/601112184339/totebag
URL:https://kgpahi.nadi.my/event/kelas-short-learning-series-sls-nadi-mahir/
LOCATION:NADI Kampung Pahi\, NADI Kampung Pahi
END:VEVENT
END:VCALENDAR