BEGIN:VCALENDAR
VERSION:2.0
PRODID:-//NADI Kg Pahi - ECPv6.15.20//NONSGML v1.0//EN
CALSCALE:GREGORIAN
METHOD:PUBLISH
X-WR-CALNAME:NADI Kg Pahi
X-ORIGINAL-URL:https://kgpahi.nadi.my
X-WR-CALDESC:Events for NADI Kg Pahi
REFRESH-INTERVAL;VALUE=DURATION:PT1H
X-Robots-Tag:noindex
X-PUBLISHED-TTL:PT1H
BEGIN:VTIMEZONE
TZID:Asia/Kuala_Lumpur
BEGIN:STANDARD
TZOFFSETFROM:+0800
TZOFFSETTO:+0800
TZNAME:+08
DTSTART:20240101T000000
END:STANDARD
END:VTIMEZONE
BEGIN:VEVENT
DTSTART;TZID=Asia/Kuala_Lumpur:20250503T143000
DTEND;TZID=Asia/Kuala_Lumpur:20250503T163000
DTSTAMP:20260425T021142
CREATED:20250429T035238Z
LAST-MODIFIED:20250429T041015Z
UID:2962-1746282600-1746289800@kgpahi.nadi.my
SUMMARY:Webinar Motivasi Pelajar Edisi Kedua
DESCRIPTION:KEMANAKAH HALA TUJU PELAJAR SELEPAS SPM\n\n\n\nItulah Persoalan Yang Dilontarkan Oleh Pelajar Menengah Atas.\n\n\n\nSukacita dimaklumkan di bawah Elemen Program Khas NADI-Nurture DILEA\, Webinar Motivasi Pelajar Edisi Kedua akan diadakan dan terbuka kepada pelajar Tingkatan 4 dan 5.\n\n\n\n Tarikh : 3 Mei 2025\n Masa : 2:30-4:30 PM\n\n\n\nWebinar Akan Membincangkan :\nHala Tuju Selepas SPM\nTips Permohonan UPU Online Dengan Menggunakan Kaedah Pengiraan Merit\n\n\n\nBoleh Mendaftar Di NADI Kampung Pahi atau hubungi kami melalui wasap :\nhttps://wasap.my/601112184339/webinarmotivasipelajar3mei25\nhttps://wasap.my/60142930425/webinarmotivasipelajar3mei25\n\n\n\n#DiLea\n#webinarmotivasipelajar\n#webinarpercuma\n#nadikampungpahi\n#pusatsebaranmaklumatnasional\n#SKMM\n#tm
URL:https://kgpahi.nadi.my/event/webinar-motivasi-pelajar-edisi-kedua/
LOCATION:NADI Kampung Pahi\, NADI Kampung Pahi
END:VEVENT
BEGIN:VEVENT
DTSTART;TZID=Asia/Kuala_Lumpur:20250506T080000
DTEND;TZID=Asia/Kuala_Lumpur:20250506T180000
DTSTAMP:20260425T021142
CREATED:20250429T040833Z
LAST-MODIFIED:20250429T040900Z
UID:2964-1746518400-1746554400@kgpahi.nadi.my
SUMMARY:Program Pencarian Ikon Usahawan Cilik NADI 2025 – Cohort Ke-2
DESCRIPTION:Assalamualaikum wbt. & Salam NADI X Keusahawanan\,\n\n\n\nPendaftaran kini dibuka untuk Program Pencarian Ikon Usahawan Cilik NADI 2025 – Cohort Ke-2\n\n\n\n Memupuk pengetahuan dan semangat membudayakan keusahawanan di kalangan kanak-kanak dan remaja (7-17 tahun).\n\n Berpeluang mempelajari modul latihan berkaitan perancangan perniagaan\, perancangan perniagaan operasi syarikat\, perancangan kewangan perniagaan dan pemasaran.\n Pendedahan kepada asas dan aplikasi Kecerdasan Buatan (Artificial Intelligence).\n\n\n\nBersedia untuk melangkah lebih jauh\, jangan lepaskan peluang ini.\n\n\n\nUntuk pendaftaran\, boleh kunjungi NADI Kampung Pahi atau hubungi melalui wasap :\n\n\nhttps://wasap.my/601112184339/ikonusahwancilikcohort2\nhttps://wasap.my/60142930425/ikonusahawancilikcohort2\n\n\n\nTARIKH TUTUP PENDAFTARAN : SELASA\, 6 MEI 2025\n\n\n\nJom rebut peluang menyertai NADI x KIDVENTURE Cohort 2!
URL:https://kgpahi.nadi.my/event/program-pencarian-ikon-usahawan-cilik-nadi-2025-cohort-ke-2/
LOCATION:NADI Kampung Pahi\, NADI Kampung Pahi
END:VEVENT
BEGIN:VEVENT
DTSTART;TZID=Asia/Kuala_Lumpur:20250510T100000
DTEND;TZID=Asia/Kuala_Lumpur:20250510T113000
DTSTAMP:20260425T021142
CREATED:20250502T070103Z
LAST-MODIFIED:20250502T070103Z
UID:2968-1746871200-1746876600@kgpahi.nadi.my
SUMMARY:WEBINAR : CYBERSECURITY 101 : PERLINDUNGAN SIBER DAN ANCAMAN PENGGODAM
DESCRIPTION:LIFELONG LEARNING:NADI X CYBERSECURITY\n\n\n\nWEBINAR : CYBERSECURITY 101 : PERLINDUNGAN SIBER DAN ANCAMAN PENGGODAM\n\n\n\nTajuk ini mencerminkan kandungan webinar dengan memberi gambaran menyeluruh tentang konsep asas keselamatan siber\, cabaran yang dihadapi\, serta peranan hacker termasuk ethical hacking dan penetration testing.\n\n\n\n Hari: Sabtu\n Tarikh: 10 May 2025\n Masa: 10.00 pagi – 11.30 pagi\n Platform: Zoom\n Syarat Pendaftaran:\n Terbuka kepada semua peringkat umur & jantina\n Minimum penyertaan 3 orang\nUntuk mendaftar\, boleh kunjungi NADI Kampung Pahi atau wasap ke nombor :\n‪+60 11-1218 4339‬ / ‪+6014-2930425‬\n\n\n\n#NADIxCYBERSECURITY\n#LifelongLearning#Memperkasa Keselamatan Siber Melindungi Generasi Digital
URL:https://kgpahi.nadi.my/event/webinar-cybersecurity-101-perlindungan-siber-dan-ancaman-penggodam/
LOCATION:NADI Kampung Pahi\, NADI Kampung Pahi
END:VEVENT
BEGIN:VEVENT
DTSTART;TZID=Asia/Kuala_Lumpur:20250517T100000
DTEND;TZID=Asia/Kuala_Lumpur:20250517T110000
DTSTAMP:20260425T021142
CREATED:20250513T021817Z
LAST-MODIFIED:20250513T021817Z
UID:2999-1747476000-1747479600@kgpahi.nadi.my
SUMMARY:NADI X KIDVENTURE | WEBINAR 2: Perancangan Kewangan
DESCRIPTION:PENCARIAN IKON USAHAWAN CILIK NADI 2025 \nPencarian Ikon Usahawan Cilik NADI 2025 sedang rancak berjalan. Sukacita dimaklumkan beberapa ahli di bawah seliaan Tuan/Puan telah berdaftar bagi menyertai Program Cohort 2 NADI X Kidventure 2025. \nProgram Cohort 2 akan berlangsung sepanjang bulan Mei hingga Jun 2025. \nKunjungi NADI Kampung Pahi untuk maklumat lanjut. \nTerima kasih.
URL:https://kgpahi.nadi.my/event/nadi-x-kidventure-webinar-2-perancangan-kewangan/
LOCATION:NADI Kampung Pahi\, NADI Kampung Pahi
END:VEVENT
BEGIN:VEVENT
DTSTART;TZID=Asia/Kuala_Lumpur:20250524T143000
DTEND;TZID=Asia/Kuala_Lumpur:20250524T163000
DTSTAMP:20260425T021142
CREATED:20250520T020128Z
LAST-MODIFIED:20251013T024743Z
UID:3004-1748097000-1748104200@kgpahi.nadi.my
SUMMARY:NADI DILEA: Webinar Berkala Bahasa Melayu Edisi Kedua
DESCRIPTION:Sukacita dimaklumkan di bawah Elemen Program Khas NADI-Nurture DILEA\, Webinar Berkala Bahasa Melayu Edisi Kedua akan diadakan dan terbuka kepada pelajar Tingkatan 4 dan 5. \n📆 Tarikh : 24 Mei 2025\n⏰ Masa : 2:30-4:30 PM \n📺Webinar Akan Membincangkan :\n✏️Tips Karangan Cemerlang\n📝 Pendaftaran boleh kunjungi NADI Kampung Pahi atau wasap ke nombor:\nhttps://wasap.my/601112184339/webinarberkalabahasamelayu24mei\nhttps://wasap.my/60142930425/webinarberkalabahasamelayu24mei
URL:https://kgpahi.nadi.my/event/nadi-dilea-webinar-berkala-bahasa-melayu-edisi-kedua/
LOCATION:NADI Kampung Pahi\, NADI Kampung Pahi
END:VEVENT
BEGIN:VEVENT
DTSTART;TZID=Asia/Kuala_Lumpur:20250525T093000
DTEND;TZID=Asia/Kuala_Lumpur:20250525T113000
DTSTAMP:20260425T021142
CREATED:20250520T014913Z
LAST-MODIFIED:20250520T014913Z
UID:3002-1748165400-1748172600@kgpahi.nadi.my
SUMMARY:MAHIR MASAK : PISTACHIO KUNAFA BROWNIES
DESCRIPTION:🎉 MAHIR SHORT LEARNING SERIES KEMBALI LAGI! 🎉\nKali ini dengan dessert viral yang mewah dan menggoda selera PISTACHIO KUNAFA BROWNIES! 🍫💚 \nSesuai untuk peminat baking\, suri rumah\, usahawan makanan atau sesiapa sahaja yang ingin belajar sesuatu yang baru\, lazat dan bernilai tinggi! \n📌 Maklumat Kelas:\n📅 Tarikh: Ahad\, 25 Mei 2025\n⏰ Masa: 9.30 pagi – 11.30 pagi\n📍 Platform: Siaran langsung dari Studio NADI Mahir\n📝 Pendaftaran boleh kunjungi NADI Kampung Pahi atau wasap ke nombor:\nhttps://wasap.my/601112184339/kelaspistachiokunafa25mei\nhttps://wasap.my/60142930425/kelaspistachiokunafa25mei \nKelas adalah PERCUMA 🤩 \n✨ Dalam kelas ini anda akan pelajari: \n✅ Cara buat kunafa yang rangup dan tidak liat\n✅ Resepi brownies ‘chewy’ dengan rasa coklat premium\n✅ Teknik gabungan dua tekstur unik dalam satu dessert\n✅ Tips penyimpanan dan idea untuk jualan \n#kelaspistachiokunafapercuma #mahirmasak #nadimahir #NADIKgPahi #PusatSebaranMaklumatNasional #tm #skmm
URL:https://kgpahi.nadi.my/event/mahir-masak-pistachio-kunafa-brownies/
LOCATION:NADI Kampung Pahi\, NADI Kampung Pahi
END:VEVENT
BEGIN:VEVENT
DTSTART;TZID=Asia/Kuala_Lumpur:20250526T100000
DTEND;TZID=Asia/Kuala_Lumpur:20250526T150000
DTSTAMP:20260425T021142
CREATED:20250521T090922Z
LAST-MODIFIED:20250521T090922Z
UID:3009-1748253600-1748271600@kgpahi.nadi.my
SUMMARY:Webinar Maxis eKelas Usahawan : Modul 1 & Modul 2
DESCRIPTION:Dengan segala hormatnya\, pihak kami ingin menjemput penyertaan ke Webinar Maxis eKelas Usahawan yang akan diadakan secara dalam talian melalui Zoom. Webinar ini terbahagi kepada dua sesi mengikut modul seperti berikut \nModul 1: Strategi Pemasaran Digital\nTarikh: Isnin\, 26 Mei 2025\nMasa: 10:00 pagi – 11:00 pagi \nSesi ini bertujuan untuk pelajari dari pandangan pakar mengenai strategi pemasaran digital. \nModul 2: Penciptaan Kandungan\nTarikh: Isnin\, 26 Mei 2025\nMasa: 2.00 petang – 3:00 petang \nSesi ini memberi pendedahan kepada penciptaan kandungan yang strategik daripada pakar. \n📄Sijil penyertaan akan diberikan kepada semua peserta yang hadir. \n📝 Pendaftaran boleh kunjungi NADI Kampung Pahi atau wasap ke nombor:\nhttps://wasap.my/601112184339/ekelasusahawan26mei\nhttps://wasap.my/60142930425/ekelasusahawan26mei \nkelas adalah PERCUMA 🤩 \nJangan lepaskan peluang untuk sertai webinar ini. \n#usahawankualakrai #webinarusahawanpercuma #kualakrai #NADIKgPahi #ekelasusahawan #PusatSebaranMaklumatNasional
URL:https://kgpahi.nadi.my/event/webinar-maxis-ekelas-usahawan-modul-1-modul-2/
LOCATION:NADI Kampung Pahi\, NADI Kampung Pahi
END:VEVENT
BEGIN:VEVENT
DTSTART;TZID=Asia/Kuala_Lumpur:20250527T100000
DTEND;TZID=Asia/Kuala_Lumpur:20250527T113000
DTSTAMP:20260425T021142
CREATED:20250521T085808Z
LAST-MODIFIED:20251013T024814Z
UID:3007-1748340000-1748345400@kgpahi.nadi.my
SUMMARY:MAHIR BAIKI GAJET:  CARA MENUKAR LCD TELEFON PINTAR (CURVE EDITION)
DESCRIPTION:JOM SERTAI MAHIR SHORT LEARNING SERIES SIRI KE2 BULAN MEI\n👨🏻‍🏭 Kali ini dengan topik MAHIR BAIKI GAJET: CARA MENUKAR LCD TELEFON PINTAR (CURVE EDITION) 📲🔧🛠📱 \nKursus khas ini bertujuan untuk memberi pendedahan yang padat dan praktikal kepada peserta tentang teknik profesional menukar skrin LCD telefon pintar jenis skrin melengkung. \n📌 Maklumat Kelas:\n📅 Tarikh: Selasa\, 27 Mei 2025\n⏰ Masa: 10.00 pagi – 11.30 pagi\n📍 Platform: Siaran langsung dari Studio NADI Mahir\n📝 Pendaftaran boleh kunjungi NADI Kampung Pahi atau wasap ke nombor:\nhttps://wasap.my/601112184339/kelasmahirbaikigajet27mei\nhttps://wasap.my/60142930425/kelasmahirbaikigajet27mei \n✨ Dalam kelas ini anda akan pelajari: \n✅ Teknik menukar skrin yang mudah\, cepat dan bajet rendah!\n✅ Mengenalpasti kerosakan sehingga proses pemasangan skrin yang betul dan selamat.\n✅ Menjana pendapatan melalui kemahiran membaiki telefon pintar. \n#kelasmahirbaikigajet #kelascaramenukarlcdtelefon #nadimahir #NADIKgPahi #PusatSebaranMaklumatNasional #tm #skmm
URL:https://kgpahi.nadi.my/event/mahir-baiki-gajet-cara-menukar-lcd-telefon-pintar-curve-edition/
LOCATION:NADI Kampung Pahi\, NADI Kampung Pahi
END:VEVENT
BEGIN:VEVENT
DTSTART;TZID=Asia/Kuala_Lumpur:20250529T100000
DTEND;TZID=Asia/Kuala_Lumpur:20250529T113000
DTSTAMP:20260425T021143
CREATED:20250527T075823Z
LAST-MODIFIED:20251013T024837Z
UID:3033-1748512800-1748518200@kgpahi.nadi.my
SUMMARY:MAHIR FOTO : Suntingan Gambar (VSCO Filter)
DESCRIPTION:KELAS SHORT LEARNING SERIES (SLS) NADI MAHIR \n\n\n\n MAHIR FOTO : Suntingan Gambar (VSCO Filter)\n\n 29 Mei 2025 (Khamis)\n 10:00 – 11:30am\nSiaran langsung dari YouTube Mahir\n Pendaftaran boleh kunjungi NADI Kampung Pahi atau wasap ke nombor:\nhttps://wasap.my/601112184339/kelasmahirfoto29mei\nhttps://wasap.my/60142930425/kelasmahirfoto29mei\n\n\n\nJom sertai kelas Suntingan Gambar (VSCO Filter) khas untuk semua peringkat umur! \n\n\n\nPelajari cara suntingan gambar menggunakan aplikasi VSCO untuk hasil yang lebih menarik\, estetik dan sesuai dikongsi di media sosial dan pemasaran.\n\n\n\n Tiada had umur\n Percuma & mudah difahami\n Terbuka kepada semua ahli NADI\n\n\n\nJangan lepaskan peluang ini untuk kuasai kemahiran ini
URL:https://kgpahi.nadi.my/event/mahir-foto-suntingan-gambar-vsco-filter/
LOCATION:NADI Kampung Pahi\, NADI Kampung Pahi
END:VEVENT
END:VCALENDAR