BEGIN:VCALENDAR
VERSION:2.0
PRODID:-//NADI Kg Pahi - ECPv6.15.20//NONSGML v1.0//EN
CALSCALE:GREGORIAN
METHOD:PUBLISH
X-WR-CALNAME:NADI Kg Pahi
X-ORIGINAL-URL:https://kgpahi.nadi.my
X-WR-CALDESC:Events for NADI Kg Pahi
REFRESH-INTERVAL;VALUE=DURATION:PT1H
X-Robots-Tag:noindex
X-PUBLISHED-TTL:PT1H
BEGIN:VTIMEZONE
TZID:UTC
BEGIN:STANDARD
TZOFFSETFROM:+0000
TZOFFSETTO:+0000
TZNAME:UTC
DTSTART:20170101T000000
END:STANDARD
END:VTIMEZONE
BEGIN:VEVENT
DTSTART;TZID=UTC:20191025T080000
DTEND;TZID=UTC:20191025T170000
DTSTAMP:20260425T105609
CREATED:20190927T204408Z
LAST-MODIFIED:20190927T204408Z
UID:2449-1571990400-1572022800@kgpahi.nadi.my
SUMMARY:HARI BERSAMA KOMUNITI 2019
DESCRIPTION:
URL:https://kgpahi.nadi.my/event/hari-bersama-komuniti-2019/
CATEGORIES:DEFAULT
END:VEVENT
BEGIN:VEVENT
DTSTART;TZID=UTC:20191024T090000
DTEND;TZID=UTC:20191024T120000
DTSTAMP:20260425T105609
CREATED:20190927T204323Z
LAST-MODIFIED:20190927T204323Z
UID:2448-1571907600-1571918400@kgpahi.nadi.my
SUMMARY:BENGKEL DASHBOARD KOMUNITI
DESCRIPTION:
URL:https://kgpahi.nadi.my/event/bengkel-dashboard-komuniti/
CATEGORIES:DEFAULT
END:VEVENT
BEGIN:VEVENT
DTSTART;TZID=UTC:20191013T150000
DTEND;TZID=UTC:20191013T170000
DTSTAMP:20260425T105609
CREATED:20190927T204157Z
LAST-MODIFIED:20190927T204157Z
UID:2447-1570978800-1570986000@kgpahi.nadi.my
SUMMARY:adobe photoshop
DESCRIPTION:
URL:https://kgpahi.nadi.my/event/adobe-photoshop-3/
LOCATION:PI  KG PAHI\, PI KG PAHI
CATEGORIES:DEFAULT
END:VEVENT
BEGIN:VEVENT
DTSTART;TZID=UTC:20191005T090000
DTEND;TZID=UTC:20191005T140000
DTSTAMP:20260425T105609
CREATED:20190927T204028Z
LAST-MODIFIED:20190927T204028Z
UID:2446-1570266000-1570284000@kgpahi.nadi.my
SUMMARY:MY SHOP @ PI
DESCRIPTION:
URL:https://kgpahi.nadi.my/event/my-shop-pi/
LOCATION:PI  KG PAHI\, PI KG PAHI
CATEGORIES:DEFAULT
END:VEVENT
BEGIN:VEVENT
DTSTART;TZID=UTC:20190827T080000
DTEND;TZID=UTC:20190827T170000
DTSTAMP:20260425T105609
CREATED:20180725T195017Z
LAST-MODIFIED:20180725T195017Z
UID:2411-1566892800-1566925200@kgpahi.nadi.my
SUMMARY:E-LEARNING- YOU TUBE
DESCRIPTION:
URL:https://kgpahi.nadi.my/event/e-learning-you-tube/
LOCATION:PI1M KG PAHI\, PI1M KG PAHI
CATEGORIES:DEFAULT
END:VEVENT
BEGIN:VEVENT
DTSTART;TZID=UTC:20190824T080000
DTEND;TZID=UTC:20190824T170000
DTSTAMP:20260425T105609
CREATED:20180725T193014Z
LAST-MODIFIED:20180725T193014Z
UID:2410-1566633600-1566666000@kgpahi.nadi.my
SUMMARY:ASAS KOMPUTER
DESCRIPTION:
URL:https://kgpahi.nadi.my/event/asas-komputer/
LOCATION:PI1M KG PAHI\, PI1M KG PAHI
CATEGORIES:DEFAULT
END:VEVENT
BEGIN:VEVENT
DTSTART;TZID=UTC:20190727T080000
DTEND;TZID=UTC:20190727T170000
DTSTAMP:20260425T105609
CREATED:20190710T014157Z
LAST-MODIFIED:20190710T014157Z
UID:2445-1564214400-1564246800@kgpahi.nadi.my
SUMMARY:MEDIA SOSIAL -FB
DESCRIPTION:
URL:https://kgpahi.nadi.my/event/media-sosial-fb-2/
CATEGORIES:DEFAULT
END:VEVENT
BEGIN:VEVENT
DTSTART;TZID=UTC:20190717T080000
DTEND;TZID=UTC:20190717T170000
DTSTAMP:20260425T105609
CREATED:20190710T014048Z
LAST-MODIFIED:20190710T014048Z
UID:2444-1563350400-1563382800@kgpahi.nadi.my
SUMMARY:LATIHAN MIC WORD
DESCRIPTION:
URL:https://kgpahi.nadi.my/event/latihan-mic-word/
CATEGORIES:DEFAULT
END:VEVENT
BEGIN:VEVENT
DTSTART;TZID=UTC:20190707T080000
DTEND;TZID=UTC:20190707T170000
DTSTAMP:20260425T105609
CREATED:20190628T181111Z
LAST-MODIFIED:20190628T181111Z
UID:2443-1562486400-1562518800@kgpahi.nadi.my
SUMMARY:MICROSOFT POWER POINT
DESCRIPTION:
URL:https://kgpahi.nadi.my/event/microsoft-power-point/
LOCATION:PI  KG PAHI\, PI KG PAHI
CATEGORIES:DEFAULT
END:VEVENT
BEGIN:VEVENT
DTSTART;TZID=UTC:20190702T080000
DTEND;TZID=UTC:20190702T170000
DTSTAMP:20260425T105609
CREATED:20190628T181021Z
LAST-MODIFIED:20190628T181021Z
UID:2442-1562054400-1562086800@kgpahi.nadi.my
SUMMARY:MICROSOFT PUBLISHER
DESCRIPTION:
URL:https://kgpahi.nadi.my/event/microsoft-publisher/
LOCATION:PI  KG PAHI\, PI KG PAHI
CATEGORIES:DEFAULT
END:VEVENT
BEGIN:VEVENT
DTSTART;TZID=UTC:20190630T080000
DTEND;TZID=UTC:20190630T170000
DTSTAMP:20260425T105609
CREATED:20190508T165250Z
LAST-MODIFIED:20190508T165250Z
UID:2441-1561881600-1561914000@kgpahi.nadi.my
SUMMARY:INTERNET-EMAIL
DESCRIPTION:
URL:https://kgpahi.nadi.my/event/internet-email/
CATEGORIES:DEFAULT
END:VEVENT
BEGIN:VEVENT
DTSTART;TZID=UTC:20190604T080000
DTEND;TZID=UTC:20190604T170000
DTSTAMP:20260425T105609
CREATED:20190508T165113Z
LAST-MODIFIED:20190508T165113Z
UID:2440-1559635200-1559667600@kgpahi.nadi.my
SUMMARY:MEMBUAT KAD-HARI RAYA AIDILFITRI(REMAJA
DESCRIPTION:
URL:https://kgpahi.nadi.my/event/membuat-kad-hari-raya-aidilfitriremaja/
LOCATION:PI  KG PAHI\, PI KG PAHI
CATEGORIES:DEFAULT
END:VEVENT
BEGIN:VEVENT
DTSTART;TZID=UTC:20190602T080000
DTEND;TZID=UTC:20190602T170000
DTSTAMP:20260425T105609
CREATED:20190508T164951Z
LAST-MODIFIED:20190508T164951Z
UID:2439-1559462400-1559494800@kgpahi.nadi.my
SUMMARY:MIC. POWERPOINT-EDITING IMAGE
DESCRIPTION:
URL:https://kgpahi.nadi.my/event/mic-powerpoint-editing-image/
CATEGORIES:DEFAULT
END:VEVENT
BEGIN:VEVENT
DTSTART;TZID=UTC:20190528T080000
DTEND;TZID=UTC:20190528T170000
DTSTAMP:20260425T105609
CREATED:20190508T164814Z
LAST-MODIFIED:20190508T164814Z
UID:2438-1559030400-1559062800@kgpahi.nadi.my
SUMMARY:ADOBE PHOTOSHOP
DESCRIPTION:
URL:https://kgpahi.nadi.my/event/adobe-photoshop-2/
CATEGORIES:DEFAULT
END:VEVENT
BEGIN:VEVENT
DTSTART;TZID=UTC:20190517T080000
DTEND;TZID=UTC:20190517T170000
DTSTAMP:20260425T105609
CREATED:20190508T164645Z
LAST-MODIFIED:20190508T164645Z
UID:2437-1558080000-1558112400@kgpahi.nadi.my
SUMMARY:INTERNET- PEMBELAJARAN AL-QURAN
DESCRIPTION:
URL:https://kgpahi.nadi.my/event/internet-pembelajaran-al-quran/
LOCATION:PI  KG PAHI\, PI KG PAHI
CATEGORIES:DEFAULT
END:VEVENT
BEGIN:VEVENT
DTSTART;TZID=UTC:20190420T080000
DTEND;TZID=UTC:20190420T170000
DTSTAMP:20260425T105609
CREATED:20190401T002005Z
LAST-MODIFIED:20190401T002005Z
UID:2436-1555747200-1555779600@kgpahi.nadi.my
SUMMARY:blog
DESCRIPTION:
URL:https://kgpahi.nadi.my/event/blog/
CATEGORIES:DEFAULT
END:VEVENT
BEGIN:VEVENT
DTSTART;TZID=UTC:20190414T080000
DTEND;TZID=UTC:20190414T170000
DTSTAMP:20260425T105609
CREATED:20190401T001532Z
LAST-MODIFIED:20190401T001532Z
UID:2435-1555228800-1555261200@kgpahi.nadi.my
SUMMARY:multimedia (Powtoon)
DESCRIPTION:
URL:https://kgpahi.nadi.my/event/multimedia-powtoon/
LOCATION:PI  KG PAHI\, PI KG PAHI
CATEGORIES:DEFAULT
END:VEVENT
BEGIN:VEVENT
DTSTART;TZID=UTC:20190408T080000
DTEND;TZID=UTC:20190408T170000
DTSTAMP:20260425T105609
CREATED:20190401T001450Z
LAST-MODIFIED:20190401T001450Z
UID:2434-1554710400-1554742800@kgpahi.nadi.my
SUMMARY:kahoot (israk mikraj)
DESCRIPTION:
URL:https://kgpahi.nadi.my/event/kahoot-israk-mikraj/
LOCATION:PI  KG PAHI\, PI KG PAHI
CATEGORIES:DEFAULT
END:VEVENT
BEGIN:VEVENT
DTSTART;TZID=UTC:20190405T080000
DTEND;TZID=UTC:20190405T170000
DTSTAMP:20260425T105609
CREATED:20190401T001353Z
LAST-MODIFIED:20190401T001353Z
UID:2433-1554451200-1554483600@kgpahi.nadi.my
SUMMARY:usahawan (Gmail)
DESCRIPTION:
URL:https://kgpahi.nadi.my/event/usahawan-gmail-2/
LOCATION:PI  KG PAHI\, PI KG PAHI
CATEGORIES:DEFAULT
END:VEVENT
BEGIN:VEVENT
DTSTART;TZID=UTC:20190404T080000
DTEND;TZID=UTC:20190404T170000
DTSTAMP:20260425T105609
CREATED:20190401T001353Z
LAST-MODIFIED:20190401T001353Z
UID:2432-1554364800-1554397200@kgpahi.nadi.my
SUMMARY:usahawan (Gmail)
DESCRIPTION:
URL:https://kgpahi.nadi.my/event/usahawan-gmail/
LOCATION:PI  KG PAHI\, PI KG PAHI
CATEGORIES:DEFAULT
END:VEVENT
BEGIN:VEVENT
DTSTART;TZID=UTC:20190329T080000
DTEND;TZID=UTC:20190329T170000
DTSTAMP:20260425T105609
CREATED:20190223T235057Z
LAST-MODIFIED:20190223T235057Z
UID:2431-1553846400-1553878800@kgpahi.nadi.my
SUMMARY:E-PEMBELAJARAN-MOUSE CONTROLING&COLOURING (KANAK-KANAK
DESCRIPTION:
URL:https://kgpahi.nadi.my/event/e-pembelajaran-mouse-controlingcolouring-kanak-kanak/
LOCATION:PI  KG PAHI\, PI KG PAHI
CATEGORIES:DEFAULT
END:VEVENT
BEGIN:VEVENT
DTSTART;TZID=UTC:20190312T080000
DTEND;TZID=UTC:20190312T170000
DTSTAMP:20260425T105609
CREATED:20190223T234945Z
LAST-MODIFIED:20190223T234945Z
UID:2430-1552377600-1552410000@kgpahi.nadi.my
SUMMARY:MY SHOP
DESCRIPTION:
URL:https://kgpahi.nadi.my/event/my-shop/
LOCATION:PI  KG PAHI\, PI KG PAHI
CATEGORIES:DEFAULT
END:VEVENT
BEGIN:VEVENT
DTSTART;TZID=UTC:20190301T080000
DTEND;TZID=UTC:20190301T170000
DTSTAMP:20260425T105609
CREATED:20190223T234806Z
LAST-MODIFIED:20190223T234806Z
UID:2429-1551427200-1551459600@kgpahi.nadi.my
SUMMARY:KUIZ ICT
DESCRIPTION:
URL:https://kgpahi.nadi.my/event/kuiz-ict/
LOCATION:PI  KG PAHI\, PI KG PAHI
CATEGORIES:DEFAULT
END:VEVENT
BEGIN:VEVENT
DTSTART;TZID=UTC:20190203T160000
DTEND;TZID=UTC:20190203T170000
DTSTAMP:20260425T105609
CREATED:20190110T002214Z
LAST-MODIFIED:20190110T002214Z
UID:2428-1549209600-1549213200@kgpahi.nadi.my
SUMMARY:LITERASI DIGITAL
DESCRIPTION:
URL:https://kgpahi.nadi.my/event/literasi-digital/
LOCATION:PI  KG PAHI\, PI KG PAHI
CATEGORIES:DEFAULT
END:VEVENT
BEGIN:VEVENT
DTSTART;TZID=UTC:20190131T160000
DTEND;TZID=UTC:20190131T170000
DTSTAMP:20260425T105609
CREATED:20190110T001638Z
LAST-MODIFIED:20190110T001638Z
UID:2427-1548950400-1548954000@kgpahi.nadi.my
SUMMARY:MULTIMEDIA
DESCRIPTION:
URL:https://kgpahi.nadi.my/event/multimedia/
LOCATION:PI  KG PAHI\, PI KG PAHI
CATEGORIES:DEFAULT
END:VEVENT
BEGIN:VEVENT
DTSTART;TZID=UTC:20190125T100000
DTEND;TZID=UTC:20190125T170000
DTSTAMP:20260425T105609
CREATED:20190110T001339Z
LAST-MODIFIED:20190110T001339Z
UID:2426-1548410400-1548435600@kgpahi.nadi.my
SUMMARY:TAYANGAN VIDEO
DESCRIPTION:
URL:https://kgpahi.nadi.my/event/tayangan-video-2/
LOCATION:PI  KG PAHI\, PI KG PAHI
CATEGORIES:DEFAULT
END:VEVENT
BEGIN:VEVENT
DTSTART;TZID=UTC:20190118T100000
DTEND;TZID=UTC:20190118T170000
DTSTAMP:20260425T105609
CREATED:20190110T001100Z
LAST-MODIFIED:20190110T001100Z
UID:2425-1547805600-1547830800@kgpahi.nadi.my
SUMMARY:KEUSAHAWANAN- GMAIL
DESCRIPTION:
URL:https://kgpahi.nadi.my/event/keusahawanan-gmail/
LOCATION:PI  KG PAHI\, PI KG PAHI
CATEGORIES:DEFAULT
END:VEVENT
BEGIN:VEVENT
DTSTART;TZID=UTC:20181222T080000
DTEND;TZID=UTC:20181222T170000
DTSTAMP:20260425T105609
CREATED:20181123T002026Z
LAST-MODIFIED:20181123T002026Z
UID:2424-1545465600-1545498000@kgpahi.nadi.my
SUMMARY:ORIGAMI
DESCRIPTION:
URL:https://kgpahi.nadi.my/event/origami-3/
LOCATION:PI  KG PAHI\, PI KG PAHI
CATEGORIES:DEFAULT
END:VEVENT
BEGIN:VEVENT
DTSTART;TZID=UTC:20181215T080000
DTEND;TZID=UTC:20181215T170000
DTSTAMP:20260425T105609
CREATED:20181123T001934Z
LAST-MODIFIED:20181123T001934Z
UID:2423-1544860800-1544893200@kgpahi.nadi.my
SUMMARY:TAYANGAN VIDEO
DESCRIPTION:
URL:https://kgpahi.nadi.my/event/tayangan-video/
LOCATION:PI  KG PAHI\, PI KG PAHI
CATEGORIES:DEFAULT
END:VEVENT
BEGIN:VEVENT
DTSTART;TZID=UTC:20181208T080000
DTEND;TZID=UTC:20181208T170000
DTSTAMP:20260425T105609
CREATED:20181123T001809Z
LAST-MODIFIED:20181123T001809Z
UID:2422-1544256000-1544288400@kgpahi.nadi.my
SUMMARY:myhealth
DESCRIPTION:
URL:https://kgpahi.nadi.my/event/myhealth/
LOCATION:PI  KG PAHI\, PI KG PAHI
CATEGORIES:DEFAULT
END:VEVENT
END:VCALENDAR