BEGIN:VCALENDAR
VERSION:2.0
PRODID:-//NADI Kg Pahi - ECPv6.15.20//NONSGML v1.0//EN
CALSCALE:GREGORIAN
METHOD:PUBLISH
X-WR-CALNAME:NADI Kg Pahi
X-ORIGINAL-URL:https://kgpahi.nadi.my
X-WR-CALDESC:Events for NADI Kg Pahi
REFRESH-INTERVAL;VALUE=DURATION:PT1H
X-Robots-Tag:noindex
X-PUBLISHED-TTL:PT1H
BEGIN:VTIMEZONE
TZID:UTC
BEGIN:STANDARD
TZOFFSETFROM:+0000
TZOFFSETTO:+0000
TZNAME:UTC
DTSTART:20180101T000000
END:STANDARD
END:VTIMEZONE
BEGIN:VEVENT
DTSTART;TZID=UTC:20211001T080000
DTEND;TZID=UTC:20211031T170000
DTSTAMP:20260423T104410
CREATED:20211003T181312Z
LAST-MODIFIED:20211003T181312Z
UID:2480-1633075200-1635699600@kgpahi.nadi.my
SUMMARY:KELAS E TUISYEN OKTOBER 2021
DESCRIPTION:Untuk mendaftar kelas ETuisyen Oktober 2021\, boleh berhubung dengan petugas Pusat Internet Komuniti Kampung Pahi.
URL:https://kgpahi.nadi.my/event/kelas-e-tuisyen-oktober-2021/
LOCATION:PIK KG PAHI\, PIK KG PAHI
CATEGORIES:DEFAULT
END:VEVENT
BEGIN:VEVENT
DTSTART;TZID=UTC:20210901T080000
DTEND;TZID=UTC:20210930T170000
DTSTAMP:20260423T104410
CREATED:20210905T193714Z
LAST-MODIFIED:20210905T193714Z
UID:2479-1630483200-1633021200@kgpahi.nadi.my
SUMMARY:KELAS E-TUISYEN SEPTEMBER 2021
DESCRIPTION:ANDA MAHU PANDAI DAN BERJAYA! MARILAH SERTAI KAMI. KELAS E-TUISYEN SEPTEMBER 2021.\n\n\n PIK E TUISYEN ini merupakan platform pembelajaran & pengajaran secara atas talian yg boleh di akses dgn menggunakan pc\, laptop\, phone\, tab & ipad\, menggunakan aplikasi zoom.\n\n\n Sesuai untuk pelajar-pelajar yang ingin pengetahuan tambahan selain daripada PnP & PDpR yang diberikan guru.\n\n\n Boleh di akses dimana-mana di seluruh Malaysia tercinta ini\, lebih baik jika terdapat Pusat Internet Komuniti di kawasan anda.\n\n\n Bantuan\, guru berpengalaman & juga nota disediakan.\n\n\n Harga yang berpatutan .\n\n\nBagi ibubapa yang berminat untuk mendaftar anak-anak ke kelas e-tuisyen tersebut\, boleh la berbuat demikian bermula pada hari ini.\n\n\nSebarang pertanyaan\, boleh whatsapp ke nombor di bawah \n\n\nhttp://www.wasap.my/601112184339/kelasetuisyen\n\n\nhttp://www.wasap.my/60142930425/kelasetuisyen\n\n\n#pusatinternetkomuniti #kelastusyenonline #tahun2021 #tahun4 #tahun5 #tahun6 #tingkatan3 #tingkatan4 #tingkatan5 #kampungpahi #kgpahi
URL:https://kgpahi.nadi.my/event/kelas-e-tuisyen-september-2021/
CATEGORIES:DEFAULT
END:VEVENT
BEGIN:VEVENT
DTSTART;TZID=UTC:20210806T080000
DTEND;TZID=UTC:20210831T170000
DTSTAMP:20260423T104410
CREATED:20210805T234201Z
LAST-MODIFIED:20210805T234201Z
UID:2478-1628236800-1630429200@kgpahi.nadi.my
SUMMARY:KELAS E TUISYEN OGOS 2021
DESCRIPTION:KELAS E-TUISYEN OGOS 2021 \n\n\nAssalamualaikum \n\n\nKelas E-TUISYEN 2021 akan bermula pada bulan Ogos 2021. Bagi ibubapa yang berminat untuk mendaftar anak-anak ke kelas e-tuisyen tersebut\, boleh la berbuat demikian bermula pada hari ni. Berikut adalah jadual bagi pelajar tahun 4\, 5\, 6 dan juga tingkatan 3\,4\,5.\n\n\n Terbuka kepada pelajar sekolah rendah & menengah\n Pembelajaran secara atas talian\n Tenaga pengajar yang berpengalaman\n Yuran dengan harga yang rendah (pakej boleh lihat di dalam gambar)\n\n\nSebarang pertanyaan\, boleh whatsapp ke nombor di bawah \nhttp://www.wasap.my/601112184339/kelasetuisyen\nhttp://www.wasap.my/60142930425/kelasetuisyen\n\n\n#pusatinternetkomuniti #kelastusyenonline #tahun2021 #tahun4 #tahun4 #tahun5 #tahun6 #tingakatan3 #tingkatan4 #tingkatan5\n\n\nINFO KG PAHI Kg Pahi Krt KG Pahi Kg Baru Pahi Kampung Pahi
URL:https://kgpahi.nadi.my/event/kelas-e-tuisyen-ogos-2021/
CATEGORIES:DEFAULT
END:VEVENT
BEGIN:VEVENT
DTSTART;TZID=UTC:20210802T080000
DTEND;TZID=UTC:20210831T170000
DTSTAMP:20260423T104410
CREATED:20210805T184826Z
LAST-MODIFIED:20210805T184826Z
UID:2477-1627891200-1630429200@kgpahi.nadi.my
SUMMARY:PUPUK @ SHOPEE
DESCRIPTION:Jom sertai kelas SHOPEE secara PERCUMA anjuran MCMC\n\n\nKelas secara online pada : 2 OGOS 2021\n\n\nPautan untuk pendaftaran:\n\n\nClass 1 Shopee Uni Basic BM x MCMC – 10.30AM-12.30PM\n\n\nClass 2 Shopee Uni Intermediate BM x MCMC – 2.00PM-4.00PM\n\n\nMelalui kempen ini SKMM akan menyediakan sokongan dalam bentuk diskaun voucher\, store vouchers dan free shipping vouchers kepada usahawan yang mendaftar untuk online class tersebut.\n\n\nKempen PUPUK @ Shopee adalah kerjasama berterusan antara Shopee dan SKMM dari bermula bulan Julai hingga Disember 2021. Sebanyak 1\,000 usahawan Mikro akan dibimbing oleh Shopee\nuntuk meningkatkan penjualan mereka di platform digital mereka.\n\n\nSepanjang tempoh kempen ini\, SKMM akan memberikan sokongan dalam bentuk bantuan kewangan yang akan ditukar menjadi baucar diskaun\, baucar kedai\, dan baucar penghantaran percuma kepada pengusaha yang mengambil bahagian dalam kempen ini.\n\n\nKami mengalu-alukan usahawan baru yang belum mendaftar sebagai penjual di platform Shopee untuk merebut peluang ini dengan mengikuti kelas dalam talian sebagai langkah pertama.\nUntuk makluman\, faedah yang diberikan akan tersedia hingga 31 Disember 2021\, atau sehingga dana kempen yang diperuntukkan digunakan sepenuhnya.\n\n\nUntuk pendaftaran boleh whatapps http://www.wasap.my/601112184339/pupuk-shopee\nhttp://www.wasap.my/60142930425/pupuk-shopee\n\n\nTarikh tutup pendaftaran pada 30 Julai 2021.
URL:https://kgpahi.nadi.my/event/pupuk-shopee/
CATEGORIES:DEFAULT
END:VEVENT
BEGIN:VEVENT
DTSTART;TZID=UTC:20210702T080000
DTEND;TZID=UTC:20210731T170000
DTSTAMP:20260423T104410
CREATED:20210729T001541Z
LAST-MODIFIED:20210729T001541Z
UID:2476-1625212800-1627750800@kgpahi.nadi.my
SUMMARY:KELAS E TUISYEN JULAI 2021
DESCRIPTION:KELAS E-TUISYEN JULAI 2021 ?\n \nAssalamualaikum ??\n \nKelas E-TUISYEN JULAI 2021 akan bermula pada bulan Julai 2021. Bagi ibubapa yang berminat untuk mendaftar anak-anak ke kelas e-tuisyen tersebut\, boleh la berbuat demikian bermula pada hari ni. Berikut adalah jadual bagi pelajar tahun 4\,5\,6 dan tingkatan 3\,4\,5.\n \n?? Terbuka kepada pelajar sekolah rendah & menengah\n?? Pembelajaran secara atas talian\n?? Tenaga pengajar yang berpengalaman\n?? Yuran dengan harga yang rendah (pakej boleh lihat di dalam gambar)\n \nSebarang pertanyaan\, boleh whatsapp ke nombor di bawah ?\nhttp://www.wasap.my/601112184339/kelasetuisyen\nhttp://www.wasap.my/60142930425/kelasetuisyen\n#pusatinternetkomuniti #kelastusyenonline 
URL:https://kgpahi.nadi.my/event/kelas-e-tuisyen-julai-2021/
CATEGORIES:DEFAULT
END:VEVENT
BEGIN:VEVENT
DTSTART;TZID=UTC:20210407T080000
DTEND;TZID=UTC:20210630T170000
DTSTAMP:20260423T104410
CREATED:20210407T004200Z
LAST-MODIFIED:20210407T004200Z
UID:2475-1617782400-1625072400@kgpahi.nadi.my
SUMMARY:KELAS E-TUISYEN 2021
DESCRIPTION:KELAS E-TUISYEN 2021 \n \n \n\n\nAssalamualaikum \n \n \n\n\nKelas E-TUISYEN 2021 akan bermula pada bulan April 2021. Bagi ibubapa yang berminat untuk mendaftar anak-anak ke kelas e-tuisyen tersebut\, boleh la berbuat demikian bermula pada hari ni. Jadual dan subjek boleh rujuk di dalam gambar.\n \n\n\n Terbuka kepada pelajar sekolah rendah & menengah\n Pembelajaran secara atas talian\n Tenaga pengajar yang berpengalaman\n Yuran dengan harga yang rendah (pakej boleh lihat di dalam gambar)\n\n\n \nSebarang pertanyaan\, boleh whatsapp ke nombor di bawah \n \n \n\n\nhttp://www.wasap.my/601112184339/kelasetuisyen\n \n\n\nhttp://www.wasap.my/60142930425/kelasetuisyen\n \n\n\n \nPI KG Pahi\n  \nKg Pahi\n\n\n\n#pusatinternetkomunitikgpahi #kampungpahi #kualakraikelantan
URL:https://kgpahi.nadi.my/event/kelas-e-tuisyen-2021/
LOCATION:PIK KG PAHI\, PIK KG PAHI
CATEGORIES:DEFAULT
END:VEVENT
BEGIN:VEVENT
DTSTART;TZID=UTC:20210315T090000
DTEND;TZID=UTC:20210331T180000
DTSTAMP:20260423T104410
CREATED:20210314T184834Z
LAST-MODIFIED:20210314T184834Z
UID:2473-1615798800-1617213600@kgpahi.nadi.my
SUMMARY:PERTANDINGAN VIDEO KREATIF TAHUN 20021
DESCRIPTION:JOM hantar video kreatif anda ke  \nPI KG Pahi\n & menangi hadiah   \nUnboxing/review produk terkiniMasakanku kreatifGubahan Kreatif barangan terpakaiPengalamanku di pusat internet komuniti \nSerlahkan kreativiti anda dengan menghasilkan video berdurasi 1-5 minit dan anda boleh menggunakan applikasi terkini seperti tiktok dll. Penyertaan terbuka 15 Mac – 31 Mac 2021. Syarat penyertaan seperti di bawah. Sebarang pertanyaan whatsapp 01112184339 / 0142930425
URL:https://kgpahi.nadi.my/event/pertandingan-video-kreatif-tahun-20021/
CATEGORIES:DEFAULT
END:VEVENT
BEGIN:VEVENT
DTSTART;TZID=UTC:20210304T080000
DTEND;TZID=UTC:20210410T170000
DTSTAMP:20260423T104410
CREATED:20210305T204017Z
LAST-MODIFIED:20210305T204017Z
UID:2472-1614844800-1618074000@kgpahi.nadi.my
SUMMARY:KELAS ONLINE BERBAYAR
DESCRIPTION:Untuk makluman\, Pihak Innovative Learning Network (ILN) akan mengadakan Kelas Online Berbayar bagi memberi kemudahan kepada komuniti setempat untuk mendapatkan dan meningkatkan kemahiran.\n\n\nBerikut adalah jadual Kelas Online yang telah disusun berserta pautan pendaftaran\n \n\n\n1. Career as Content Creator (6.3.2021)\nhttps://forms.gle/GYsS24rfksET5xDN8\n \n\n\n2.From Zero to Shopee Hero (13.3.2021)\nhttps://forms.gle/cqyzoLpYfEBNt1GAA\n \n\n\n3. Mobile Games Creator (20.3.2021)\nhttps://forms.gle/bUEH6BA2Fg2DdWFu5\n \n\n\n4. Mobile Apps Creator (27.3.2021)\nhttps://forms.gle/AcgQZuZSdwUSoHL76\n \n\n\n5. Basic Videography & Productions (3.4.2021)\nhttps://forms.gle/G7tYew91VrNTHp9h6\n \n\n\n6. Million Income Program (10.4.2021)\nhttps://forms.gle/Ah4LcSxXSUvStk6v8\n \n\n\nPeserta boleh mendaftar melalui Imbasan Barcode yang terdapat di eposter atau pautan pendaftaran yang diberikan bersama (Google Form) dan perlu memberikan bukti pembayaran kelas online melalui borang pendaftaran.\nPeserta boleh mengikuti program ini dimana-mana\, sama ada di PIK atau di rumah dan lain-lain tempat yang ada capaian internet
URL:https://kgpahi.nadi.my/event/kelas-online-berbayar/
LOCATION:PI  KG PAHI\, PI KG PAHI
CATEGORIES:DEFAULT
END:VEVENT
BEGIN:VEVENT
DTSTART;TZID=UTC:20210207T080000
DTEND;TZID=UTC:20210228T170000
DTSTAMP:20260423T104410
CREATED:20210206T222817Z
LAST-MODIFIED:20210206T222817Z
UID:2471-1612684800-1614531600@kgpahi.nadi.my
SUMMARY:SEMINAR GEMPUR SPM
DESCRIPTION:Seminar Gempur SPM bermula 5 Feb 2021 hingga 20 Feb 2021. Pendaftaran boleh dibuat melalui facebook PI Kg Pahi.
URL:https://kgpahi.nadi.my/event/seminar-gempur-spm-2/
LOCATION:PI  KG PAHI\, PI KG PAHI
CATEGORIES:DEFAULT
END:VEVENT
BEGIN:VEVENT
DTSTART;TZID=UTC:20210102T080000
DTEND;TZID=UTC:20210131T180000
DTSTAMP:20260423T104410
CREATED:20210102T010341Z
LAST-MODIFIED:20210102T010341Z
UID:2469-1609574400-1612116000@kgpahi.nadi.my
SUMMARY:KUIZ 4 KLIK DENGAN BIJAK
DESCRIPTION:Tekan link dibawah untuk menjawab kuiz tersebut. Kuiz ini bermula dari 2 Januari 2021 dan akan berakhir pada 31 Januari 2021. \nKuiz 4: Klik Dengan Bijak (KEBEBASAN BERSUARA BUKAN KEBEBASAN BERBOHONG)
URL:https://kgpahi.nadi.my/event/kuiz-4-klik-dengan-bijak/
CATEGORIES:DEFAULT
END:VEVENT
BEGIN:VEVENT
DTSTART;TZID=UTC:20201217T110000
DTEND;TZID=UTC:20201220T170000
DTSTAMP:20260423T104410
CREATED:20201219T172054Z
LAST-MODIFIED:20201219T172054Z
UID:2468-1608202800-1608483600@kgpahi.nadi.my
SUMMARY:KUIZ KLIK DENGAN BIJAK
DESCRIPTION:KUIZ KLIK DENGAN BIJAK \n  \nTekan disini untuk jawab kuiz tersebut Kuiz Klik Dengan Bijak \n 
URL:https://kgpahi.nadi.my/event/kuiz-klik-dengan-bijak/
CATEGORIES:DEFAULT
END:VEVENT
BEGIN:VEVENT
DTSTART;TZID=UTC:20200906T000000
DTEND;TZID=UTC:20200906T235959
DTSTAMP:20260423T104410
CREATED:20200905T195546Z
LAST-MODIFIED:20200905T195546Z
UID:2467-1599350400-1599436799@kgpahi.nadi.my
SUMMARY:PERTANDINGAN POSTER PUSAT INTERNET TAHUN 2020
DESCRIPTION:SYARAT-SYARAT PENYERTAAN \n1. Berumur 7 tahun sehingga 17 tahun \n2. Warganegara Malaysia dan ahli berdaftar Pusat Internet di bawah kelolaan TM/MSD. \n3. Karya sendiri tidak diciplak dan menggunakan aplikasi atau perisian di Pusat Internet masing-masing. \n4. Perlu daftar sebagai peserta pertandingan dan mengikuti satu kelas aplikasi atau perisian bermula dalam tempoh 15 Ogos – 31 Ogos 2020 di Pusat Internet masing-masing. \n  \nKRITERIA PERTANDINGAN & PEMILIHAN PEMENANG. \n1. Poster bertajuk ‘Pusat Internet Pemangkin Komuniti Digital’ perlu ada dalam poster. \n2. Dalam poster mesti menggambarkan perkhidmatan peranan dan gambaran Pusat Internet. \n3. Saringan akan dilakukan bermula 16 September – 15 Oktober 2020. \n4. 10 peserta terbaik akan dipilih dari setiap negeri untuk pengundian awam di MyVote Dashboard Komuniti Digital bermula 16 Oktober 2020- 31 Oktober 2020. \n5. Pengumuman pemenang setiap negeri akan bermula 1 November 2020. \n  \nCARA PENYERTAAN \n1. Sila hantar karya masing-masing ke emel socme.pi@msd.net.my bermula 01 September 2020 – 15 September 2020 – subjek emel :PERTANDINGAN POSTER (NAMA NEGERI)\, cth : PERTANDINGAN POSTER (KEDAH) \n2. Setiap penghantaran emel perlu beserta nama\, nombor telefon\, kad pengenalan dan Pusat Internet masing-masing.
URL:https://kgpahi.nadi.my/event/pertandingan-poster-pusat-internet-tahun-2020/
LOCATION:PI  KG PAHI\, PI KG PAHI
CATEGORIES:DEFAULT
END:VEVENT
BEGIN:VEVENT
DTSTART;TZID=UTC:20200624T080000
DTEND;TZID=UTC:20200624T170000
DTSTAMP:20260423T104410
CREATED:20200518T011610Z
LAST-MODIFIED:20200518T011610Z
UID:2466-1592985600-1593018000@kgpahi.nadi.my
SUMMARY:Perbankan Internet
DESCRIPTION:
URL:https://kgpahi.nadi.my/event/perbankan-internet/
CATEGORIES:DEFAULT
END:VEVENT
BEGIN:VEVENT
DTSTART;TZID=UTC:20200620T080000
DTEND;TZID=UTC:20200620T170000
DTSTAMP:20260423T104410
CREATED:20200518T011502Z
LAST-MODIFIED:20200518T011502Z
UID:2465-1592640000-1592672400@kgpahi.nadi.my
SUMMARY:Adobe photoshop
DESCRIPTION:
URL:https://kgpahi.nadi.my/event/adobe-photoshop-5/
CATEGORIES:DEFAULT
END:VEVENT
BEGIN:VEVENT
DTSTART;TZID=UTC:20200612T080000
DTEND;TZID=UTC:20200612T170000
DTSTAMP:20260423T104410
CREATED:20200518T011400Z
LAST-MODIFIED:20200518T011400Z
UID:2464-1591948800-1591981200@kgpahi.nadi.my
SUMMARY:poster
DESCRIPTION:
URL:https://kgpahi.nadi.my/event/poster/
CATEGORIES:DEFAULT
END:VEVENT
BEGIN:VEVENT
DTSTART;TZID=UTC:20200604T080000
DTEND;TZID=UTC:20200604T170000
DTSTAMP:20260423T104410
CREATED:20200518T011315Z
LAST-MODIFIED:20200518T011315Z
UID:2463-1591257600-1591290000@kgpahi.nadi.my
SUMMARY:asas komputer
DESCRIPTION:
URL:https://kgpahi.nadi.my/event/asas-komputer-2/
CATEGORIES:DEFAULT
END:VEVENT
BEGIN:VEVENT
DTSTART;TZID=UTC:20200521T080000
DTEND;TZID=UTC:20200521T170000
DTSTAMP:20260423T104410
CREATED:20200518T011010Z
LAST-MODIFIED:20200518T011010Z
UID:2462-1590048000-1590080400@kgpahi.nadi.my
SUMMARY:MICROSOFT POWER POINT
DESCRIPTION:
URL:https://kgpahi.nadi.my/event/microsoft-power-point-2/
CATEGORIES:DEFAULT
END:VEVENT
BEGIN:VEVENT
DTSTART;TZID=UTC:20200403T080000
DTEND;TZID=UTC:20200403T170000
DTSTAMP:20260423T104410
CREATED:20200217T005339Z
LAST-MODIFIED:20200217T005339Z
UID:2461-1585900800-1585933200@kgpahi.nadi.my
SUMMARY:poster- publisher
DESCRIPTION:
URL:https://kgpahi.nadi.my/event/poster-publisher/
LOCATION:PI  KG PAHI\, PI KG PAHI
CATEGORIES:DEFAULT
END:VEVENT
BEGIN:VEVENT
DTSTART;TZID=UTC:20200327T080000
DTEND;TZID=UTC:20200327T170000
DTSTAMP:20260423T104410
CREATED:20200217T005237Z
LAST-MODIFIED:20200217T005237Z
UID:2460-1585296000-1585328400@kgpahi.nadi.my
SUMMARY:BENGKEL RESUME
DESCRIPTION:
URL:https://kgpahi.nadi.my/event/bengkel-resume-5/
LOCATION:PI  KG PAHI\, PI KG PAHI
CATEGORIES:DEFAULT
END:VEVENT
BEGIN:VEVENT
DTSTART;TZID=UTC:20200313T080000
DTEND;TZID=UTC:20200313T170000
DTSTAMP:20260423T104410
CREATED:20200217T005143Z
LAST-MODIFIED:20200217T005143Z
UID:2459-1584086400-1584118800@kgpahi.nadi.my
SUMMARY:sunting imej
DESCRIPTION:
URL:https://kgpahi.nadi.my/event/sunting-imej/
LOCATION:PI  KG PAHI\, PI KG PAHI
CATEGORIES:DEFAULT
END:VEVENT
BEGIN:VEVENT
DTSTART;TZID=UTC:20200306T080000
DTEND;TZID=UTC:20200306T170000
DTSTAMP:20260423T104410
CREATED:20200217T005036Z
LAST-MODIFIED:20200217T005036Z
UID:2458-1583481600-1583514000@kgpahi.nadi.my
SUMMARY:Microsoft word
DESCRIPTION:
URL:https://kgpahi.nadi.my/event/microsoft-word-2/
LOCATION:PI  KG PAHI\, PI KG PAHI
CATEGORIES:DEFAULT
END:VEVENT
BEGIN:VEVENT
DTSTART;TZID=UTC:20200306T080000
DTEND;TZID=UTC:20200306T170000
DTSTAMP:20260423T104410
CREATED:20200217T005034Z
LAST-MODIFIED:20200217T005034Z
UID:2457-1583481600-1583514000@kgpahi.nadi.my
SUMMARY:Microsoft word
DESCRIPTION:
URL:https://kgpahi.nadi.my/event/microsoft-word/
LOCATION:PI  KG PAHI\, PI KG PAHI
CATEGORIES:DEFAULT
END:VEVENT
BEGIN:VEVENT
DTSTART;TZID=UTC:20200205T000000
DTEND;TZID=UTC:20200228T235959
DTSTAMP:20260423T104410
CREATED:20210205T184810Z
LAST-MODIFIED:20210205T184810Z
UID:2470-1580860800-1582934399@kgpahi.nadi.my
SUMMARY:SEMINAR GEMPUR SPM
DESCRIPTION:Seminar Gempur SPM bermula 5 Feb 2021 hingga 20 Feb 2021 mengikut jadual yang telah ditetapkan
URL:https://kgpahi.nadi.my/event/seminar-gempur-spm/
LOCATION:PI  KG PAHI\, PI KG PAHI
CATEGORIES:DEFAULT
END:VEVENT
BEGIN:VEVENT
DTSTART;TZID=UTC:20200123T080000
DTEND;TZID=UTC:20200123T170000
DTSTAMP:20260423T104410
CREATED:20191217T014526Z
LAST-MODIFIED:20191217T014526Z
UID:2456-1579766400-1579798800@kgpahi.nadi.my
SUMMARY:adobe photoshop
DESCRIPTION:
URL:https://kgpahi.nadi.my/event/adobe-photoshop-4/
CATEGORIES:DEFAULT
END:VEVENT
BEGIN:VEVENT
DTSTART;TZID=UTC:20200117T080000
DTEND;TZID=UTC:20200117T170000
DTSTAMP:20260423T104410
CREATED:20191217T014444Z
LAST-MODIFIED:20191217T014444Z
UID:2455-1579248000-1579280400@kgpahi.nadi.my
SUMMARY:BENGKEL RESUME
DESCRIPTION:
URL:https://kgpahi.nadi.my/event/bengkel-resume-4/
CATEGORIES:DEFAULT
END:VEVENT
BEGIN:VEVENT
DTSTART;TZID=UTC:20200110T080000
DTEND;TZID=UTC:20200110T170000
DTSTAMP:20260423T104410
CREATED:20191217T014402Z
LAST-MODIFIED:20191217T014402Z
UID:2454-1578643200-1578675600@kgpahi.nadi.my
SUMMARY:mic power point
DESCRIPTION:
URL:https://kgpahi.nadi.my/event/mic-power-point/
CATEGORIES:DEFAULT
END:VEVENT
BEGIN:VEVENT
DTSTART;TZID=UTC:20200103T080000
DTEND;TZID=UTC:20200103T170000
DTSTAMP:20260423T104410
CREATED:20191217T014318Z
LAST-MODIFIED:20191217T014318Z
UID:2453-1578038400-1578070800@kgpahi.nadi.my
SUMMARY:mic word
DESCRIPTION:
URL:https://kgpahi.nadi.my/event/mic-word/
CATEGORIES:DEFAULT
END:VEVENT
BEGIN:VEVENT
DTSTART;TZID=UTC:20191230T080000
DTEND;TZID=UTC:20191230T170000
DTSTAMP:20260423T104410
CREATED:20191208T234718Z
LAST-MODIFIED:20191208T234718Z
UID:2452-1577692800-1577725200@kgpahi.nadi.my
SUMMARY:BENGKEL RESUME
DESCRIPTION:
URL:https://kgpahi.nadi.my/event/bengkel-resume-3/
CATEGORIES:DEFAULT
END:VEVENT
BEGIN:VEVENT
DTSTART;TZID=UTC:20191228T080000
DTEND;TZID=UTC:20191228T170000
DTSTAMP:20260423T104410
CREATED:20191208T234624Z
LAST-MODIFIED:20191208T234624Z
UID:2451-1577520000-1577552400@kgpahi.nadi.my
SUMMARY:Kelas adobe photoshop
DESCRIPTION:
URL:https://kgpahi.nadi.my/event/kelas-adobe-photoshop/
CATEGORIES:DEFAULT
END:VEVENT
BEGIN:VEVENT
DTSTART;TZID=UTC:20191028T080000
DTEND;TZID=UTC:20191028T170000
DTSTAMP:20260423T104410
CREATED:20190927T204450Z
LAST-MODIFIED:20190927T204450Z
UID:2450-1572249600-1572282000@kgpahi.nadi.my
SUMMARY:KENALI KOMPUTER
DESCRIPTION:
URL:https://kgpahi.nadi.my/event/kenali-komputer/
CATEGORIES:DEFAULT
END:VEVENT
END:VCALENDAR