BEGIN:VCALENDAR
VERSION:2.0
PRODID:-//NADI Kg Pahi - ECPv6.15.20//NONSGML v1.0//EN
CALSCALE:GREGORIAN
METHOD:PUBLISH
X-WR-CALNAME:NADI Kg Pahi
X-ORIGINAL-URL:https://kgpahi.nadi.my
X-WR-CALDESC:Events for NADI Kg Pahi
REFRESH-INTERVAL;VALUE=DURATION:PT1H
X-Robots-Tag:noindex
X-PUBLISHED-TTL:PT1H
BEGIN:VTIMEZONE
TZID:UTC
BEGIN:STANDARD
TZOFFSETFROM:+0000
TZOFFSETTO:+0000
TZNAME:UTC
DTSTART:20160101T000000
END:STANDARD
END:VTIMEZONE
BEGIN:VEVENT
DTSTART;TZID=UTC:20181130T080000
DTEND;TZID=UTC:20181130T170000
DTSTAMP:20260426T104744
CREATED:20181022T014031Z
LAST-MODIFIED:20181022T014031Z
UID:2421-1543564800-1543597200@kgpahi.nadi.my
SUMMARY:BENGKEL RESUME
DESCRIPTION:
URL:https://kgpahi.nadi.my/event/bengkel-resume-2/
LOCATION:PI  KG PAHI\, PI KG PAHI
CATEGORIES:DEFAULT
END:VEVENT
BEGIN:VEVENT
DTSTART;TZID=UTC:20181117T080000
DTEND;TZID=UTC:20181117T170000
DTSTAMP:20260426T104744
CREATED:20181022T013828Z
LAST-MODIFIED:20181022T013828Z
UID:2420-1542441600-1542474000@kgpahi.nadi.my
SUMMARY:POWER POINT
DESCRIPTION:
URL:https://kgpahi.nadi.my/event/power-point/
LOCATION:PI  KG PAHI\, PI KG PAHI
CATEGORIES:DEFAULT
END:VEVENT
BEGIN:VEVENT
DTSTART;TZID=UTC:20181108T080000
DTEND;TZID=UTC:20181108T170000
DTSTAMP:20260426T104744
CREATED:20181022T013658Z
LAST-MODIFIED:20181022T013658Z
UID:2419-1541664000-1541696400@kgpahi.nadi.my
SUMMARY:MYSKOOL
DESCRIPTION:
URL:https://kgpahi.nadi.my/event/myskool/
LOCATION:PI  KG PAHI\, PI KG PAHI
CATEGORIES:DEFAULT
END:VEVENT
BEGIN:VEVENT
DTSTART;TZID=UTC:20181006T080000
DTEND;TZID=UTC:20181006T170000
DTSTAMP:20260426T104744
CREATED:20180917T013127Z
LAST-MODIFIED:20180917T013127Z
UID:2418-1538812800-1538845200@kgpahi.nadi.my
SUMMARY:instagram
DESCRIPTION:
URL:https://kgpahi.nadi.my/event/instagram/
CATEGORIES:DEFAULT
END:VEVENT
BEGIN:VEVENT
DTSTART;TZID=UTC:20180928T080000
DTEND;TZID=UTC:20180928T170000
DTSTAMP:20260426T104744
CREATED:20180917T012955Z
LAST-MODIFIED:20180917T012955Z
UID:2417-1538121600-1538154000@kgpahi.nadi.my
SUMMARY:adobe photoshop
DESCRIPTION:
URL:https://kgpahi.nadi.my/event/adobe-photoshop/
CATEGORIES:DEFAULT
END:VEVENT
BEGIN:VEVENT
DTSTART;TZID=UTC:20180921T080000
DTEND;TZID=UTC:20180921T170000
DTSTAMP:20260426T104744
CREATED:20180917T012616Z
LAST-MODIFIED:20180917T012616Z
UID:2416-1537516800-1537549200@kgpahi.nadi.my
SUMMARY:MEDIA SOSIAL
DESCRIPTION:
URL:https://kgpahi.nadi.my/event/media-sosial/
CATEGORIES:DEFAULT
END:VEVENT
BEGIN:VEVENT
DTSTART;TZID=UTC:20180915T080000
DTEND;TZID=UTC:20180915T170000
DTSTAMP:20260426T104744
CREATED:20180829T182311Z
LAST-MODIFIED:20180829T182311Z
UID:2415-1536998400-1537030800@kgpahi.nadi.my
SUMMARY:Promosi Produk Online
DESCRIPTION:
URL:https://kgpahi.nadi.my/event/promosi-produk-online/
LOCATION:PI  KG PAHI\, PI KG PAHI
CATEGORIES:DEFAULT
END:VEVENT
BEGIN:VEVENT
DTSTART;TZID=UTC:20180810T080000
DTEND;TZID=UTC:20180810T170000
DTSTAMP:20260426T104744
CREATED:20180725T195558Z
LAST-MODIFIED:20180725T195558Z
UID:2414-1533888000-1533920400@kgpahi.nadi.my
SUMMARY:ORIGAMI DAN E-WASTE
DESCRIPTION:
URL:https://kgpahi.nadi.my/event/origami-dan-e-waste/
LOCATION:PI  KG PAHI\, PI KG PAHI
CATEGORIES:DEFAULT
END:VEVENT
BEGIN:VEVENT
DTSTART;TZID=UTC:20180727T080000
DTEND;TZID=UTC:20180727T170000
DTSTAMP:20260426T104744
CREATED:20180725T195418Z
LAST-MODIFIED:20180725T195418Z
UID:2413-1532678400-1532710800@kgpahi.nadi.my
SUMMARY:MEDIA SOSIAL -FB
DESCRIPTION:
URL:https://kgpahi.nadi.my/event/media-sosial-fb/
LOCATION:PI  KG PAHI\, PI KG PAHI
CATEGORIES:DEFAULT
END:VEVENT
BEGIN:VEVENT
DTSTART;TZID=UTC:20180628T080000
DTEND;TZID=UTC:20180628T170000
DTSTAMP:20260426T104744
CREATED:20180601T002433Z
LAST-MODIFIED:20180601T002433Z
UID:2409-1530172800-1530205200@kgpahi.nadi.my
SUMMARY:Advokasi
DESCRIPTION:
URL:https://kgpahi.nadi.my/event/advokasi/
LOCATION:PI1M KG PAHI\, PI1M KG PAHI
CATEGORIES:DEFAULT
END:VEVENT
BEGIN:VEVENT
DTSTART;TZID=UTC:20180612T080000
DTEND;TZID=UTC:20180612T170000
DTSTAMP:20260426T104744
CREATED:20180601T002332Z
LAST-MODIFIED:20180601T002332Z
UID:2408-1528790400-1528822800@kgpahi.nadi.my
SUMMARY:Poster- Hari Raya
DESCRIPTION:
URL:https://kgpahi.nadi.my/event/poster-hari-raya/
LOCATION:PI1M KG PAHI\, PI1M KG PAHI
CATEGORIES:DEFAULT
END:VEVENT
BEGIN:VEVENT
DTSTART;TZID=UTC:20180605T080000
DTEND;TZID=UTC:20180605T170000
DTSTAMP:20260426T104744
CREATED:20180601T002159Z
LAST-MODIFIED:20180601T002159Z
UID:2407-1528185600-1528218000@kgpahi.nadi.my
SUMMARY:kuiz online
DESCRIPTION:
URL:https://kgpahi.nadi.my/event/kuiz-online-2/
LOCATION:PI1M KG PAHI\, PI1M KG PAHI
CATEGORIES:DEFAULT
END:VEVENT
BEGIN:VEVENT
DTSTART;TZID=UTC:20180515T090000
DTEND;TZID=UTC:20180515T130000
DTSTAMP:20260426T104744
CREATED:20180426T013806Z
LAST-MODIFIED:20180426T013806Z
UID:2405-1526374800-1526389200@kgpahi.nadi.my
SUMMARY:ABCya
DESCRIPTION:ABCya bersama PDK 
URL:https://kgpahi.nadi.my/event/abcya/
LOCATION:PI1M KG PAHI\, PI1M KG PAHI
CATEGORIES:DEFAULT
END:VEVENT
BEGIN:VEVENT
DTSTART;TZID=UTC:20180510T090000
DTEND;TZID=UTC:20180510T180000
DTSTAMP:20260426T104744
CREATED:20180426T013931Z
LAST-MODIFIED:20180426T013931Z
UID:2406-1525942800-1525975200@kgpahi.nadi.my
SUMMARY:kuiz dashboard
DESCRIPTION:
URL:https://kgpahi.nadi.my/event/kuiz-dashboard/
LOCATION:PI1M KG PAHI\, PI1M KG PAHI
CATEGORIES:DEFAULT
END:VEVENT
BEGIN:VEVENT
DTSTART;TZID=UTC:20180321T080000
DTEND;TZID=UTC:20180321T010000
DTSTAMP:20260426T104744
CREATED:20180214T223028Z
LAST-MODIFIED:20180214T223028Z
UID:2403-1521619200-1521594000@kgpahi.nadi.my
SUMMARY:HARI TERBUKA PI1M
DESCRIPTION:
URL:https://kgpahi.nadi.my/event/hari-terbuka-pi1m/
LOCATION:PI1M KG PAHI\, PI1M KG PAHI
CATEGORIES:DEFAULT
END:VEVENT
BEGIN:VEVENT
DTSTART;TZID=UTC:20180217T090000
DTEND;TZID=UTC:20180217T130000
DTSTAMP:20260426T104744
CREATED:20180203T003658Z
LAST-MODIFIED:20180203T003658Z
UID:2402-1518858000-1518872400@kgpahi.nadi.my
SUMMARY:kelas media sosial
DESCRIPTION:
URL:https://kgpahi.nadi.my/event/kelas-media-sosial/
CATEGORIES:DEFAULT
END:VEVENT
BEGIN:VEVENT
DTSTART;TZID=UTC:20180206T090000
DTEND;TZID=UTC:20180206T130000
DTSTAMP:20260426T104744
CREATED:20180203T003553Z
LAST-MODIFIED:20180203T003553Z
UID:2401-1517907600-1517922000@kgpahi.nadi.my
SUMMARY:dashboard komuniti
DESCRIPTION:
URL:https://kgpahi.nadi.my/event/dashboard-komuniti/
CATEGORIES:DEFAULT
END:VEVENT
BEGIN:VEVENT
DTSTART;TZID=UTC:20180127T150000
DTEND;TZID=UTC:20180127T170000
DTSTAMP:20260426T104744
CREATED:20180122T011939Z
LAST-MODIFIED:20180122T011939Z
UID:2400-1517065200-1517072400@kgpahi.nadi.my
SUMMARY:SUNTINGAN IMEJ
DESCRIPTION:PENDEDAHAN CARA SUNTUNG IMEJ MENGGUNAKAN PHOTOSHOP
URL:https://kgpahi.nadi.my/event/suntingan-imej/
LOCATION:PI1M PAHI\, PI1M PAHI
CATEGORIES:DEFAULT
END:VEVENT
BEGIN:VEVENT
DTSTART;TZID=UTC:20171230T090000
DTEND;TZID=UTC:20171230T230000
DTSTAMP:20260426T104744
CREATED:20171211T000311Z
LAST-MODIFIED:20171211T000311Z
UID:2399-1514624400-1514674800@kgpahi.nadi.my
SUMMARY:INDOOR GAME- KDB
DESCRIPTION:KUIZ ONLINE KDB
URL:https://kgpahi.nadi.my/event/indoor-game-kdb/
LOCATION:PI1M KG PAHI\, PI1M KG PAHI
CATEGORIES:DEFAULT
END:VEVENT
BEGIN:VEVENT
DTSTART;TZID=UTC:20171228T090000
DTEND;TZID=UTC:20171228T180000
DTSTAMP:20260426T104744
CREATED:20171211T000021Z
LAST-MODIFIED:20171211T000021Z
UID:2398-1514451600-1514484000@kgpahi.nadi.my
SUMMARY:MYHEALTH@ PI1M
DESCRIPTION:MYHEALTH- DASHBOAR KOMUNITI \nPEMERIKSAAN KESIHATAN KEPADA PENGUNJUNG
URL:https://kgpahi.nadi.my/event/myhealth-pi1m/
LOCATION:PI1M KG PAHI\, PI1M KG PAHI
CATEGORIES:DEFAULT
END:VEVENT
BEGIN:VEVENT
DTSTART;TZID=UTC:20171130T100000
DTEND;TZID=UTC:20171130T120000
DTSTAMP:20260426T104744
CREATED:20171016T010006Z
LAST-MODIFIED:20171016T010006Z
UID:2394-1512036000-1512043200@kgpahi.nadi.my
SUMMARY:BENGKEL RESUME
DESCRIPTION:
URL:https://kgpahi.nadi.my/event/bengkel-resume/
LOCATION:PI1M KG PAHI\, PI1M KG PAHI
CATEGORIES:DEFAULT
END:VEVENT
BEGIN:VEVENT
DTSTART;TZID=UTC:20171118T090000
DTEND;TZID=UTC:20171118T140000
DTSTAMP:20260426T104744
CREATED:20171016T010808Z
LAST-MODIFIED:20171016T010808Z
UID:2395-1510995600-1511013600@kgpahi.nadi.my
SUMMARY:DASHBOARD DAY
DESCRIPTION:Dashbord Komuniti 
URL:https://kgpahi.nadi.my/event/dashboard-day/
LOCATION:PI1M KG PAHI\, PI1M KG PAHI
CATEGORIES:DEFAULT
END:VEVENT
BEGIN:VEVENT
DTSTART;TZID=UTC:20171022T100000
DTEND;TZID=UTC:20171022T120000
DTSTAMP:20260426T104744
CREATED:20171016T012045Z
LAST-MODIFIED:20171016T012045Z
UID:2396-1508666400-1508673600@kgpahi.nadi.my
SUMMARY:KLIK DENGAN BIJAK
DESCRIPTION:KUIZ KDB
URL:https://kgpahi.nadi.my/event/klik-dengan-bijak-2/
LOCATION:PI1M KG PAHI\, PI1M KG PAHI
CATEGORIES:DEFAULT
END:VEVENT
BEGIN:VEVENT
DTSTART;TZID=UTC:20170909T100000
DTEND;TZID=UTC:20170909T120000
DTSTAMP:20260426T104744
CREATED:20170813T000127Z
LAST-MODIFIED:20170813T000127Z
UID:2393-1504951200-1504958400@kgpahi.nadi.my
SUMMARY:Latih Tubi Online E-Learning
DESCRIPTION:Latih Tubi Online Kepada pelajar SPM
URL:https://kgpahi.nadi.my/event/latih-tubi-online-e-learning/
LOCATION:PI1M KG PAHI\, PI1M KG PAHI
CATEGORIES:DEFAULT
END:VEVENT
BEGIN:VEVENT
DTSTART;TZID=UTC:20170818T100000
DTEND;TZID=UTC:20170830T180000
DTSTAMP:20260426T104744
CREATED:20170812T235841Z
LAST-MODIFIED:20170812T235841Z
UID:2392-1503050400-1504116000@kgpahi.nadi.my
SUMMARY:Kuiz Online
DESCRIPTION:Kuiz Kemerdekaan Melalui Dashboard
URL:https://kgpahi.nadi.my/event/kuiz-online/
LOCATION:PI1M KG PAHI\, PI1M KG PAHI
CATEGORIES:DEFAULT
END:VEVENT
BEGIN:VEVENT
DTSTART;TZID=UTC:20170816T080000
DTEND;TZID=UTC:20170817T170000
DTSTAMP:20260426T104744
CREATED:20170812T235239Z
LAST-MODIFIED:20170812T235239Z
UID:2391-1502870400-1502989200@kgpahi.nadi.my
SUMMARY:LATIHAN ASAS ICT
DESCRIPTION:Latihan Asas ICT (Media Sosial) bersama Pejabat Agama Jajahan Kuala Krai
URL:https://kgpahi.nadi.my/event/latihan-asas-ict/
LOCATION:PI1M KG PAHI\, PI1M KG PAHI
CATEGORIES:DEFAULT
END:VEVENT
BEGIN:VEVENT
DTSTART;TZID=UTC:20170729T093000
DTEND;TZID=UTC:20170731T173000
DTSTAMP:20260426T104744
CREATED:20170709T013121Z
LAST-MODIFIED:20170709T013121Z
UID:2390-1501320600-1501522200@kgpahi.nadi.my
SUMMARY:INTEL EASY STEP
DESCRIPTION:
URL:https://kgpahi.nadi.my/event/intel-easy-step/
LOCATION:PI1M KG PAHI\, PI1M KG PAHI
CATEGORIES:DEFAULT
END:VEVENT
BEGIN:VEVENT
DTSTART;TZID=UTC:20170721T100000
DTEND;TZID=UTC:20170722T160000
DTSTAMP:20260426T104744
CREATED:20170709T012900Z
LAST-MODIFIED:20170709T012900Z
UID:2389-1500631200-1500739200@kgpahi.nadi.my
SUMMARY:Pertandingan mencipta poster
DESCRIPTION:pertandingan mencipta poster PI1M 
URL:https://kgpahi.nadi.my/event/pertandingan-mencipta-poster/
LOCATION:PI1M KG PAHI\, PI1M KG PAHI
CATEGORIES:DEFAULT
END:VEVENT
BEGIN:VEVENT
DTSTART;TZID=UTC:20170714T140000
DTEND;TZID=UTC:20170714T170000
DTSTAMP:20260426T104744
CREATED:20170709T012611Z
LAST-MODIFIED:20170709T012611Z
UID:2388-1500040800-1500051600@kgpahi.nadi.my
SUMMARY:GMAIL
DESCRIPTION:bengkel membuka akaun gmail
URL:https://kgpahi.nadi.my/event/gmail/
LOCATION:PI1M KG PAHI\, PI1M KG PAHI
CATEGORIES:DEFAULT
END:VEVENT
BEGIN:VEVENT
DTSTART;TZID=UTC:20170526T093000
DTEND;TZID=UTC:20170527T123000
DTSTAMP:20260426T104744
CREATED:20170517T005003Z
LAST-MODIFIED:20170517T005003Z
UID:2387-1495791000-1495888200@kgpahi.nadi.my
SUMMARY:Al Quran Digital @ PI1M
DESCRIPTION:Memperkenalkan pembelajaran Al Quran Melalui internet kepada komuniti
URL:https://kgpahi.nadi.my/event/al-quran-digital-pi1m-2/
LOCATION:PI1M KG PAHI\, PI1M KG PAHI
CATEGORIES:DEFAULT
END:VEVENT
END:VCALENDAR