BEGIN:VCALENDAR
VERSION:2.0
PRODID:-//NADI Kg Pahi - ECPv6.15.20//NONSGML v1.0//EN
CALSCALE:GREGORIAN
METHOD:PUBLISH
X-WR-CALNAME:NADI Kg Pahi
X-ORIGINAL-URL:https://kgpahi.nadi.my
X-WR-CALDESC:Events for NADI Kg Pahi
REFRESH-INTERVAL;VALUE=DURATION:PT1H
X-Robots-Tag:noindex
X-PUBLISHED-TTL:PT1H
BEGIN:VTIMEZONE
TZID:UTC
BEGIN:STANDARD
TZOFFSETFROM:+0000
TZOFFSETTO:+0000
TZNAME:UTC
DTSTART:20210101T000000
END:STANDARD
END:VTIMEZONE
BEGIN:VEVENT
DTSTART;TZID=UTC:20241003T080000
DTEND;TZID=UTC:20241031T170000
DTSTAMP:20260422T104615
CREATED:20241002T175553Z
LAST-MODIFIED:20241002T175553Z
UID:2609-1727942400-1730394000@kgpahi.nadi.my
SUMMARY:PERTANDINGAN E-SUKAN MOBILE LEGEND
DESCRIPTION:Jom Sertai Pertandingan E-SUKAN MOBILE LEGEND yang dianjurkan oleh NADI Malaysia.\n \n\n\n??????: 5-6 Orang 1 Pasukan (Pemain ke-6 Simpanan TIDAK WAJIB)\n\n\n????? ???????????: Percuma\n \nTarikh tutup pendaftaran: 18 Oktober 2024\nPerlawanan saringan: 19-30 Oktober 2024\nPerlawanan peringkat negeri: 4-30 November 2024\n \n\n\nSyarat Penyertaan:\n1. Ahli NADI. (sila semak keahlian anda di NADI terdekat)\n2. Berumur 18 tahun dan ke bawah.\n3. Pertandingan diadakan di NADI.\n4. Bukan pemain profesional.\n5. Setiap pasukan terdiri daripada 5 pemain dan 1 pemain simpanan.\n \n\n\nUntuk pendaftaran whatsapp NADI KG PAHI:\n http://www.wasap.my/601112184339/esportnadi\nhttp://www.wasap.my/60142930425/esportnadi\n \n\n\n#MCMC\n#nadi\n#nadikgpahi\n#MLBB\n#esportnadi\n \nUntuk lihat iklan penuh\, boleh klik Disini
URL:https://kgpahi.nadi.my/event/pertandingan-e-sukan-mobile-legend/
LOCATION:NADI Kampung Pahi\, NADI Kampung Pahi
CATEGORIES:DEFAULT
END:VEVENT
BEGIN:VEVENT
DTSTART;TZID=UTC:20241003T080000
DTEND;TZID=UTC:20241031T170000
DTSTAMP:20260422T104615
CREATED:20241002T175313Z
LAST-MODIFIED:20241002T175313Z
UID:2608-1727942400-1730394000@kgpahi.nadi.my
SUMMARY:NADI X USAHAWAN
DESCRIPTION:SERTAI Program NADI X USAHAWAN\n \n\n\nJom meriahkan program keusahawanan anjuran NADI dan kembangkan potensi perniagaan anda dengan bimbingan tenaga pengajar profesional.\n \n\n\n* TERBUKA kepada semua komuniti\n \n\n\nDaftar sekarang dengan imbasan QR Code atau kunjungi Nadi Kg Pahi untuk maklumat lanjut.\n \n\n\nJangan lepaskan peluang ini!\n \n\n\n#NADIxKEUSAHAWANAN\n#NADIMALAYSIA\n \nUntuk lihat iklan penuh\, boleh klik Disini\n 
URL:https://kgpahi.nadi.my/event/nadi-x-usahawan/
CATEGORIES:DEFAULT
END:VEVENT
BEGIN:VEVENT
DTSTART;TZID=UTC:20240829T080000
DTEND;TZID=UTC:20240902T170000
DTSTAMP:20260422T104615
CREATED:20240828T225430Z
LAST-MODIFIED:20240828T225430Z
UID:2528-1724918400-1725296400@kgpahi.nadi.my
SUMMARY:PROGRAM ADVOKASI PERLINDUNGAN KANAK-KANAK : KASIH KANAK-KANAK JAJAHAN KUALA KRAI TAHUN 2024
DESCRIPTION:Tarikh program : 29 Ogos 2024 \nMasa : 8 pagi – 1 tengah hari \nPeserta : Pelajar sekolah menengah
URL:https://kgpahi.nadi.my/event/program-advokasi-perlindungan-kanak-kanak-kasih-kanak-kanak-jajahan-kuala-krai-tahun-2024/
LOCATION:SEKOLAH MENENGAH KEBANGSAAN SULTAN YAHYA PETRA 1\, KUALA KRAI\, SEKOLAH MENENGAH KEBANGSAAN SULTAN YAHYA PETRA 1\, KUALA KRAI
CATEGORIES:DEFAULT
END:VEVENT
BEGIN:VEVENT
DTSTART;TZID=UTC:20240709T080000
DTEND;TZID=UTC:20240731T170000
DTSTAMP:20260422T104615
CREATED:20240729T001906Z
LAST-MODIFIED:20240729T001906Z
UID:2526-1720512000-1722445200@kgpahi.nadi.my
SUMMARY:KELAS TIKTOK BUSINESS & EDITING CAPCUT
DESCRIPTION:?????? ????????\, ??????? ?????? & ?????? ?????????\n \n\n\n Tarikh : 18 Julai 2024 (Khamis)\n Masa : 9.30 pagi\n Lokasi : NADI Kampung Pahi (Tingkat 1\, Bangunan Rukun Tetangga Pahi)\n \n\n\nSebarang pertanyaan\, boleh hubungi :\n\n\nhttps://api.whatsapp.com/send?phone=189086500…\n\n\n 0189086500 (RAFIDA)
URL:https://kgpahi.nadi.my/event/kelas-tiktok-business-editing-capcut/
LOCATION:NADI Kampung Pahi\, NADI Kampung Pahi
CATEGORIES:DEFAULT
END:VEVENT
BEGIN:VEVENT
DTSTART;TZID=UTC:20240524T080000
DTEND;TZID=UTC:20240604T170000
DTSTAMP:20260422T104615
CREATED:20240523T235123Z
LAST-MODIFIED:20240523T235123Z
UID:2525-1716537600-1717520400@kgpahi.nadi.my
SUMMARY:KELAS CANVA SEMPENA CUTI SEKOLAH
DESCRIPTION:KELAS CANVA SEMPENA CUTI SEKOLAH\n \nPerhatian kepada warga kg pahi dan berdekatan\, pendaftaran kelas Canva kini dibuka. \n \n?? Tarikh : 26 Mei 2024 – 1 Jun 2024\n? Masa : 10 pagi – 12 tengah hari\n? Lokasi : NADI Kampung Pahi ( tingkat 1\, Bangunan Rukun Tetangga Pahi)\n? Yuran : Rm5 (seumur hidup)\n \nJangan lepaskan peluang. \n \nUntuk pendaftaran\, boleh whatsapp nombor dibawah :\n \nhttp://www.wasap.my/601112184339/kelascanva\nhttp://www.wasap.my/60142930425/kelascanva
URL:https://kgpahi.nadi.my/event/kelas-canva-sempena-cuti-sekolah/
LOCATION:NADI Kampung Pahi\, NADI Kampung Pahi
CATEGORIES:DEFAULT
END:VEVENT
BEGIN:VEVENT
DTSTART;TZID=UTC:20240114T080000
DTEND;TZID=UTC:20240518T170000
DTSTAMP:20260422T104615
CREATED:20240517T182727Z
LAST-MODIFIED:20240517T182727Z
UID:2523-1705219200-1716051600@kgpahi.nadi.my
SUMMARY:KURSUS PENGENDALIAN MAKANAN
DESCRIPTION:Untuk pendaftaran kursus pengendalian makanan\, boleh kunjungi PEDI Kampung Pahi.
URL:https://kgpahi.nadi.my/event/kursus-pengendalian-makanan-5/
CATEGORIES:DEFAULT
END:VEVENT
BEGIN:VEVENT
DTSTART;TZID=UTC:20240103T080000
DTEND;TZID=UTC:20240202T170000
DTSTAMP:20260422T104615
CREATED:20231231T194416Z
LAST-MODIFIED:20231231T194416Z
UID:2522-1704268800-1706893200@kgpahi.nadi.my
SUMMARY:KELAS PEMASARAN DIGITAL
DESCRIPTION:KELAS PEMASARAN DIGITAL\n\n\nKhusus untuk para usahawan yang berniaga secara atas talian (online) atau usahawan yang baru ingin berjinak-jinak dalam dunia pernigaan secara atas talian (online). Jom sertai KELAS PEMASARAN DIGITAL secara PERCUMA \n\n\nDalam kelas ini\, para usahawan akan:\n Kenali perniagaan\n Strategi pemasaran digital\n Trend pemasaran digital terkini\n E-Commerce\n\n\n Pedi Pahi (tingkat 1\, bangunan rukun tetangga pahi)\n 3 Januari 2024\n 3.00 petang – 5.00 petang\n\n\nSebarang pertanyaan berkenaan dengan kursus ini\, boleh whatsapp nombor dibawah \n\n\nhttps://www.wasap.my/60189086500/kelaspedipahi\n\n\n#PusatEkonomiDigital #PediPahi #kelaskeusahawanan #kelaspercuma #usahawankualakrai #usahawan2024\n \nUntuk lihat poster iklan\, boleh klik Disini
URL:https://kgpahi.nadi.my/event/kelas-pemasaran-digital/
LOCATION:PEDi Kampung Pahi\, PEDi Kampung Pahi
CATEGORIES:DEFAULT
END:VEVENT
BEGIN:VEVENT
DTSTART;TZID=UTC:20231210T080000
DTEND;TZID=UTC:20231231T170000
DTSTAMP:20260422T104615
CREATED:20231209T180827Z
LAST-MODIFIED:20231209T180827Z
UID:2521-1702195200-1704042000@kgpahi.nadi.my
SUMMARY:KELAS ICT MUSIM CUTI SEKOLAH
DESCRIPTION:Bagi yang ingin mendaftar kelas ICT untuk bulan disember 2023\, boleh klik link whatsapp di bawah  atau boleh kunjungi Pedi Kg Pahi\n \n\n\nhttp://www.wasap.my/601112184339/kelasict\nhttp://www.wasap.my/60142930425/kelasict\n \n\n\nTerima kasih \n \n \n \n\n\n#pedipahi #PusatEkonomiDigital #kelasict\n \nUntuk lihat iklan\, boleh klik Disini
URL:https://kgpahi.nadi.my/event/kelas-ict-musim-cuti-sekolah/
CATEGORIES:DEFAULT
END:VEVENT
BEGIN:VEVENT
DTSTART;TZID=UTC:20231208T080000
DTEND;TZID=UTC:20231231T170000
DTSTAMP:20260422T104615
CREATED:20231209T180513Z
LAST-MODIFIED:20231209T180513Z
UID:2520-1702022400-1704042000@kgpahi.nadi.my
SUMMARY:KURSUS PENGENDALIAN MAKANAN
DESCRIPTION:Kursus Pengendalian Makanan. Kursus ini boleh join melalui telefon jah tak perlu hadir ke pedi @ kalau nak hadir ke pedi pon boleh.\n \n\n\n Tarikh : 15/12/2023 (Jumaat)\n Masa : 9.30 pagi\n Tenaga Pengajar : NZ Consultant\n Yuran : RM60\n \n\n\nNak join wasup deh\n \nhttp://www.wasap.my/601112184339/kursuspengendalimakanan\nhttp://www.wasap.my/60142930425/kursuspengendalimakanan\n \n\n\n#kursuspengendalianmakanan #kursusmakanan2023 #kampungpahi #pedikgpahi\n \nUntuk lihat iklan\, boleh klik Disini
URL:https://kgpahi.nadi.my/event/kursus-pengendalian-makanan-4/
CATEGORIES:DEFAULT
END:VEVENT
BEGIN:VEVENT
DTSTART;TZID=UTC:20231123T080000
DTEND;TZID=UTC:20231130T170000
DTSTAMP:20260422T104615
CREATED:20231107T172807Z
LAST-MODIFIED:20231107T172807Z
UID:2519-1700726400-1701363600@kgpahi.nadi.my
SUMMARY:BENGKEL KEUSAHAWANAN TM SME
DESCRIPTION:PROGRAM MINI HARI TERBUKA KOMUNITI PUSAT EKONOMI DIGITAL GUCHIL\, KELANTAN??\n \nBENGKEL KEUSAHAWANAN TM SME??\n \nTarikh: 23 NOV 2023 (KHAMIS)\nMasa: 8.30 am – 1.30 pm\nLokasi: Pusat Ekonomi Digital (PEDi) GUCHIL\n \nApa Yang Special dalam kelas ini???\nBest Guys.. Antaranya..\n \n \n? Kelas Shopee Mastery\n? Kelas Dropship Shopee\n? Taklimat TM SME Kelantan\n? Digital Marketing Solution E-Commerce Hub\n? Makan\, Minum sarapan pagi Disediakan\n \n \n“Wahh.. wajib join nie”\n \nJom Ajak Kawan² sertai PROGRAM MINI HARI TERBUKA KOMUNITI Sekarang!!\n \nTERHAD 30 Usahawan Shj!!\n \n??\nTEKAN LINK INI SKRG UTK REGISTER LINK!!\n??\nhttps://forms.gle/B2Jio5bAh7fPkuGk8\nhttps://forms.gle/B2Jio5bAh7fPkuGk8\nhttps://forms.gle/B2Jio5bAh7fPkuGk8\n \n#sebarkan #kursusKEUSAHAWANANDIGITAL #KELASSHOPEE #RAKANDIGITAL\n 
URL:https://kgpahi.nadi.my/event/bengkel-keusahawanan-tm-sme/
CATEGORIES:DEFAULT
ATTACH;FMTTYPE=image/jpeg:https://kgpahi.nadi.my/wp-content/uploads/2023/11/WhatsApp_Image_2023-11-07_at_5.24.50_PM.jpeg
END:VEVENT
BEGIN:VEVENT
DTSTART;TZID=UTC:20231027T080000
DTEND;TZID=UTC:20231106T170000
DTSTAMP:20260422T104615
CREATED:20231104T222317Z
LAST-MODIFIED:20231104T222317Z
UID:2517-1698393600-1699290000@kgpahi.nadi.my
SUMMARY:SSM BIZSTART
DESCRIPTION:MAKLUMAN \n \n \n\n\nAssalamualaikum w.b.t\n \n\n\nUntuk makluman\, rakan strategik PUPUK iaitu Suruhanjaya Syarikat Malaysia (SSM) dan Suruhanjaya Komunikasi dan Multimedia Malaysia (MCMC) akan menganjurkan sesi Taklimat Pendaftaran Perniagaan/SSM Bizstart 2023 kepada usahawan serta komuniti Pusat Ekonomi Digital (PEDi) di bawah Program Pemerkasaan Pendigitalan Usahawan Kecil (PUPUK). Selain Skim Pendaftaran Perniagaan Percuma (SPPP)\, kelainan yang dibawakan dalam program webinar kali ini bakal menampilkan wakil PERNAS dan BSN yang akan membicarakan rancangan perniagaan\, peluang-peluang pembiayaan dan khidmat nasihat pengembangan perniagaaan kepada para usahawan PEDi seluruh negara.\n\n\n \nBerikut adalah tentatif program:\n Tajuk Taklimat : Sesi Taklimat Pendaftaran Perniagaan/SSM Bizstart 2023\n Tarikh Program : 30 Oktober 2023 (Isnin)\n Masa : 08.30 pagi hingga 12.30 tengahari\n Tempat : Pautan Microsoft Team (link akan di email kemudian)\n Pendaftaran : https://forms.office.com/r/kkDVqn5Dxd\n\n\n \nSasaran penyertaaan program adalah seperti berikut:\n1. Peniaga kecil dan Penjaja (Separuh masa/ sepenuh masa)\n2. Peniaga atas talian dan media sosial\n3. Peniaga secara jualan langsung\, dropshipper\, agen insurans\, agen penapis air dan sebagainya\n4. Pelajar Institut Pengajian Tinggi (IPT)\n\n\n \nUntuk sebarang pertanyaan\, boleh hubungi melalui whatsapp \n https://www.wasap.my/601112184339/ssmbizstart2023\n\n\nhttps://www.wasap.my/60142930425/ssmbizstart2023
URL:https://kgpahi.nadi.my/event/ssm-bizstart/
CATEGORIES:DEFAULT
END:VEVENT
BEGIN:VEVENT
DTSTART;TZID=UTC:20231016T080000
DTEND;TZID=UTC:20231106T170000
DTSTAMP:20260422T104615
CREATED:20231104T222037Z
LAST-MODIFIED:20231104T222037Z
UID:2516-1697443200-1699290000@kgpahi.nadi.my
SUMMARY:SEMINAR PEMASARAN DIGITAL OHSEM
DESCRIPTION:MAKLUMAN\n \n\n\nSEMINAR PEMASARAN DIGITAL OHSEM\n \n\n\nSatu platform untuk capai audiens di Facebook\, Instagram\, Tiktok & Rev akan diadakan pada :\n\n\n Tarikh : 21 Oktober 2023\n Masa : 10 pagi – 12 tengah hari\n Pusat Ekonomi Digital berdekatan\n\n\nPenceramah : Ashran Dato Ghazi\, CEO Dattel Asia Group\n \n\n\nAnda dah belajar pelbagai platform untuk buat digital marketing. Tapi mungkin result SENDU. Penceramah akan berkongsi macam mana nak buat sasaran yang lebih tepat agar iklan lebih mantap!\n \n\n\nDAFTAR Sekarang dan dapat akses platform OHSEMads.com secara PERCUMA dengan 100 Ad Kredit. https://docs.google.com/…/1FAIpQLSeWGDU9rVP…/viewform…\n \n\n\n#PusatEkonomiDigital #seminarpemasaran
URL:https://kgpahi.nadi.my/event/seminar-pemasaran-digital-ohsem/
CATEGORIES:DEFAULT
END:VEVENT
BEGIN:VEVENT
DTSTART;TZID=UTC:20230930T090000
DTEND;TZID=UTC:20230930T170000
DTSTAMP:20260422T104615
CREATED:20230922T231954Z
LAST-MODIFIED:20230922T231954Z
UID:2515-1696064400-1696093200@kgpahi.nadi.my
SUMMARY:KURSUS PENGENDALIAN MAKANAN
DESCRIPTION:KURSUS LATIHAN PENGENDALIAN MAKANAN ONLINE (Diiktiraf KKM)\n \n?? Tarikh : 30/09/2023 (Sabtu)\n? Masa : 9.30 pagi\n? Tempat : PEDi Kampung Pahi\n???? Tenaga Pengajar : NZ Consultant\n? Yuran : RM50 + RM10 (Pengurusan PEDi)\n \nYang berminat untuk menyertai kursus latihan ini boleh wasup no telefon seperti yang tertera. Tempat adalah terhad.\n \nhttp://www.wasap.my/601112184339/kursuspengendalimakanan\nhttp://www.wasap.my/60142930425/kursuspengendalimakanan\n \n#kursuspengendalianmakanan #kursusmakanan2023 #kampungpahi #pedikgpahi\n \nUntuk lihat gambar iklan\, boleh klik Disini
URL:https://kgpahi.nadi.my/event/kursus-pengendalian-makanan-3/
LOCATION:PEDi Kampung Pahi\, PEDi Kampung Pahi
CATEGORIES:DEFAULT
END:VEVENT
BEGIN:VEVENT
DTSTART;TZID=UTC:20230827T080000
DTEND;TZID=UTC:20230831T170000
DTSTAMP:20260422T104615
CREATED:20230901T222954Z
LAST-MODIFIED:20230901T222954Z
UID:2512-1693123200-1693501200@kgpahi.nadi.my
SUMMARY:Kelas Canva
DESCRIPTION:?E?A? ?S?S C?N?A S?M?E?A C?T? ?E?O?A? ?G?S 2?2?\n \n\n\n 27-30 Ogos 2023\n 10.00 pagi\nPedi Kg Pahi\n \n\n\nBerminat nak isi masa lapang anak2 dengan aktiviti bermanfaat cuti sekolah ni\, boleh klik link whatsapp di bawah \n \n \n\n\nhttp://www.wasap.my/601112184339/kelascanva\nhttp://www.wasap.my/60142930425/kelascanva\n \nUntuk lihat iklan\,boleh klik Disini
URL:https://kgpahi.nadi.my/event/kelas-canva/
CATEGORIES:DEFAULT
END:VEVENT
BEGIN:VEVENT
DTSTART;TZID=UTC:20230820T080000
DTEND;TZID=UTC:20230831T170000
DTSTAMP:20260422T104615
CREATED:20230823T185516Z
LAST-MODIFIED:20230823T185516Z
UID:2511-1692518400-1693501200@kgpahi.nadi.my
SUMMARY:Kursus Pengendalian Makanan
DESCRIPTION:KURSUS LATIHAN PENGENDALIAN MAKANAN ONLINE (Diiktiraf KKM)\n \n\n\n Tarikh : 20/8/2023 (Ahad) & 25/8/2023 (Jumaat)\n Masa : 9.30 pagi\n Tempat : Pedi Kg Pahi\n \n\n\nYang berminat untuk menyertai kursus latihan ini boleh wasup no telefon seperti yang tertera. Tempat adalah terhad.\n \n\n\nhttp://www.wasap.my/601112184339/kursuspengendalimakanan\nhttp://www.wasap.my/60142930425/kursuspengendalimakanan\n\n\n#kursuspengendalianmakanan #kursusmakanan2023 #kampungpahi #pedikgpahi\n \nUntuk lihat iklan\, boleh klik Disini
URL:https://kgpahi.nadi.my/event/kursus-pengendalian-makanan-2/
LOCATION:PEDi Kg Pahi\, PEDi Kg Pahi
CATEGORIES:DEFAULT
END:VEVENT
BEGIN:VEVENT
DTSTART;TZID=UTC:20230707T080000
DTEND;TZID=UTC:20230805T170000
DTSTAMP:20260422T104615
CREATED:20230803T200711Z
LAST-MODIFIED:20230803T200711Z
UID:2510-1688716800-1691254800@kgpahi.nadi.my
SUMMARY:Keusahawanan : Kursus Pengendalian Makanan
DESCRIPTION:KURSUS LATIHAN PENGENDALIAN MAKANAN ONLINE (Diiktiraf KKM)\n \n\n\n Tarikh : 07/07/2023 (Jumaat)\n Masa : 9.30 pagi\n Tempat : PEDi Kampung Pahi\n Tenaga Pengajar : NZ Consultant\n Yuran : RM50 + RM10 (Pengurusan PEDi)\n \n\n\nYang berminat untuk menyertai kursus latihan ini boleh wasup no telefon seperti yang tertera. Tempat adalah terhad.\n \n\n\nhttp://www.wasap.my/601112184339/kursuspengendalimakanan\nhttp://www.wasap.my/60142930425/kursuspengendalimakanan\n \n\n\n#kursuspengendalianmakanan #kursusmakanan2023 #kampungpahi #pedikgpahi\n \nGambar iklan : Disini
URL:https://kgpahi.nadi.my/event/keusahawanan-kursus-pengendalian-makanan/
CATEGORIES:DEFAULT
END:VEVENT
BEGIN:VEVENT
DTSTART;TZID=UTC:20230625T080000
DTEND;TZID=UTC:20230706T170000
DTSTAMP:20260422T104615
CREATED:20230625T182821Z
LAST-MODIFIED:20230625T182821Z
UID:2509-1687680000-1688662800@kgpahi.nadi.my
SUMMARY:IDEA CONTENT CANVA ft TIKTOK
DESCRIPTION:PROGRAM JUN 2023\n \n\n\nKEUSAHAWANAN (TOPIK : IDEA CONTENT CANVA FT TIKTOK)\n\n\nAssalamualaikum w.b.t\n\n\nPerhatian kepada para usahawan sekitar Kg Pahi Krt Pahi Krt Kg Belanga Masjid Kg Belanga Masjid Pahi\, pada 25 Jun 2023 (Ahad) akan diadakan kelas keusahawanan yang bertajuk :\n \n\n\nIDEA CONTENT CANVA FT TIKTOK\n\n\n Masa : 2.30 petang – 5.30 petang\n\n\n Lokasi : Pedi Kg Pahi (Tingkat 1\, Bangunan Rukun Tetangga Pahi)\n \n\n\nBagi yang berminat untuk menyertai kelas ini\, boleh daftarkan nama melalui whatsapp:\n\n\nhttp://www.wasap.my/601112184339/kelascanvafttiktok\n\n\nhttp://www.wasap.my/60142930425/kelaskcsnvafttiktok
URL:https://kgpahi.nadi.my/event/idea-content-canva-ft-tiktok/
LOCATION:PEDi Kg Pahi\, PEDi Kg Pahi
CATEGORIES:DEFAULT
END:VEVENT
BEGIN:VEVENT
DTSTART;TZID=UTC:20230623T080000
DTEND;TZID=UTC:20230706T170000
DTSTAMP:20260422T104615
CREATED:20230625T182415Z
LAST-MODIFIED:20230625T182415Z
UID:2508-1687507200-1688662800@kgpahi.nadi.my
SUMMARY:KURSUS PENGENDALIAN MAKANAN
DESCRIPTION:KURSUS LATIHAN PENGENDALIAN MAKANAN ONLINE (Diiktiraf KKM)\n \n\n\n Tarikh : 23/06/2023 (Jumaat)\n Masa : 9.30 pagi\n Tempat : PEDi Kampung Pahi\n Tenaga Pengajar : NZ Consultant\n Yuran : RM50 + RM10 (Pengurusan PEDi)\n \n\n\nYang berminat untuk menyertai kursus latihan ini boleh wasup no telefon seperti yang tertera. Tempat adalah terhad.
URL:https://kgpahi.nadi.my/event/kursus-pengendalian-makanan/
LOCATION:PEDi Kg Pahi\, PEDi Kg Pahi
CATEGORIES:DEFAULT
END:VEVENT
BEGIN:VEVENT
DTSTART;TZID=UTC:20230502T080000
DTEND;TZID=UTC:20230531T170000
DTSTAMP:20260422T104615
CREATED:20230507T175945Z
LAST-MODIFIED:20230507T175945Z
UID:2507-1683014400-1685552400@kgpahi.nadi.my
SUMMARY:KDB : Online Grooming
DESCRIPTION:
URL:https://kgpahi.nadi.my/event/kdb-online-grooming/
LOCATION:PEDi Kg Pahi\, PEDi Kg Pahi
CATEGORIES:DEFAULT
END:VEVENT
BEGIN:VEVENT
DTSTART;TZID=UTC:20230402T080000
DTEND;TZID=UTC:20230503T170000
DTSTAMP:20260422T104615
CREATED:20230401T172459Z
LAST-MODIFIED:20230401T172459Z
UID:2506-1680422400-1683133200@kgpahi.nadi.my
SUMMARY:Kelas ICT April 2023
DESCRIPTION:Bagi yang berminat untuk mendaftar kelas ICT\, boleh whatsapp petugas seperti nombor yang tertera. \n  \nUntuk jadual aktiviti bulanan\, boleh rujuk bahagian jadual aktiviti di dalam Portal.
URL:https://kgpahi.nadi.my/event/kelas-ict-april-2023/
LOCATION:PEDi Kg Pahi\, PEDi Kg Pahi
CATEGORIES:DEFAULT
END:VEVENT
BEGIN:VEVENT
DTSTART;TZID=UTC:20230201T080000
DTEND;TZID=UTC:20230228T170000
DTSTAMP:20260422T104615
CREATED:20230204T183450Z
LAST-MODIFIED:20230204T183450Z
UID:2503-1675238400-1677603600@kgpahi.nadi.my
SUMMARY:Kelas ICT
DESCRIPTION:Bagi yang ingin mendaftar Kelas Asas ICT sempena cuti musim sekolah ini\, boleh hubungi atau whatsapp nombor tersebut. \n  \nKelas Asas ICT merangkumi kelas Microsoft Word\, Microsoft Power Point\, suntingan imej dan juga email. \n  \nTarikh yang dicadangkan : 10 & 11 Februari 2023\, 17 & 18 Februari 2023\, 24 & 25 Februari 2023. \nMasa : 10 pagi – 12 tengah hari
URL:https://kgpahi.nadi.my/event/kelas-ict-3/
LOCATION:PEDi Kg Pahi\, PEDi Kg Pahi
CATEGORIES:DEFAULT
END:VEVENT
BEGIN:VEVENT
DTSTART;TZID=UTC:20230101T080000
DTEND;TZID=UTC:20230131T170000
DTSTAMP:20260422T104615
CREATED:20230109T194946Z
LAST-MODIFIED:20230109T194946Z
UID:2502-1672560000-1675184400@kgpahi.nadi.my
SUMMARY:KELAS ICT
DESCRIPTION:KELAS ICT 2023\n\n\nPerhatian kepada warga kg pahi dan berdekatan\, Pendaftaran kelas ict kini dibuka. Jangan lepaskan peluang.\n \nKelas setiap Jumaat dan Sabtu.\n\n\n 
URL:https://kgpahi.nadi.my/event/kelas-ict-2/
LOCATION:PEDi Kg Pahi\, PEDi Kg Pahi
CATEGORIES:DEFAULT
END:VEVENT
BEGIN:VEVENT
DTSTART;TZID=UTC:20221210T080000
DTEND;TZID=UTC:20221231T170000
DTSTAMP:20260422T104615
CREATED:20221220T182808Z
LAST-MODIFIED:20221220T182808Z
UID:2501-1670659200-1672506000@kgpahi.nadi.my
SUMMARY:Kelas ICT Disember 2022
DESCRIPTION:KELAS ICT PERCUMA CUTI SEKOLAH 2022\n \n\n\nPerhatian kepada warga kg pahi dan berdekatan\, Pendaftaran kelas ict kini dibuka. Jangan lepaskan peluang.\n \n\n\nhttp://www.wasap.my/601112184339/KELASICT2022\nhttp://www.wasap.my/60142930425/KELASICT2022
URL:https://kgpahi.nadi.my/event/kelas-ict-disember-2022/
CATEGORIES:DEFAULT
END:VEVENT
BEGIN:VEVENT
DTSTART;TZID=UTC:20221209T080000
DTEND;TZID=UTC:20221231T170000
DTSTAMP:20260422T104615
CREATED:20221220T182301Z
LAST-MODIFIED:20221220T182301Z
UID:2500-1670572800-1672506000@kgpahi.nadi.my
SUMMARY:Kursus Pengendalian Makanan Online
DESCRIPTION:?????? ??????? ???????????? ??????? ?????? (????????? ???)\n \n\n\n Tarikh : 16/12/2022 (Jumaat) @ 17/12/2022 (Sabtu)\n Masa : 9.30 pagi\n Tempat : PEDi Kampung Pahi\n Yuran : RM50 + RM5 (Keahlian PEDi)\n \n\n\nYang berminat untuk menyertai kursus latihan ini boleh wasup no telefon seperti yang tertera. Tempat adalah terhad.\n \n\n\nhttp://www.wasap.my/601112184339/kursuspengendalimakanan\nhttp://www.wasap.my/60142930425/kursuspengendalimakanan\n\n\n#kursuspengendalianmakanan #kursusmakanan2022 #kampungpahi #pedikgpahi
URL:https://kgpahi.nadi.my/event/kursus-pengendalian-makanan-online/
CATEGORIES:DEFAULT
END:VEVENT
BEGIN:VEVENT
DTSTART;TZID=UTC:20221106T080000
DTEND;TZID=UTC:20221130T170000
DTSTAMP:20260422T104615
CREATED:20221220T175703Z
LAST-MODIFIED:20221220T175703Z
UID:2499-1667721600-1669827600@kgpahi.nadi.my
SUMMARY:Klik Dengan Bijak
DESCRIPTION:NOVEMBER 2022 – KDB DI SEK KEB PERIA \nTarikh : 06/11/2022 \nMasa : 10.30 pagi – 12.30 tengah hari \nLokasi : Sekolah Kebangsaan Peria \nBilangan peserta : 100 orang
URL:https://kgpahi.nadi.my/event/klik-dengan-bijak-3/
CATEGORIES:DEFAULT
END:VEVENT
BEGIN:VEVENT
DTSTART;TZID=UTC:20221006T080000
DTEND;TZID=UTC:20221006T170000
DTSTAMP:20260422T104615
CREATED:20221005T174421Z
LAST-MODIFIED:20221005T174421Z
UID:2497-1665043200-1665075600@kgpahi.nadi.my
SUMMARY:Kelas ICT
DESCRIPTION:Tarikh : 14 & 15 Oktober 2022 \nMasa : 10 pagi –  12 tengah hari \nHari : Jumaat \n 
URL:https://kgpahi.nadi.my/event/kelas-ict/
LOCATION:PEDi Kg Pahi\, PEDi Kg Pahi
CATEGORIES:DEFAULT
END:VEVENT
BEGIN:VEVENT
DTSTART;TZID=UTC:20221006T080000
DTEND;TZID=UTC:20221006T170000
DTSTAMP:20260422T104615
CREATED:20221005T174232Z
LAST-MODIFIED:20221005T174232Z
UID:2496-1665043200-1665075600@kgpahi.nadi.my
SUMMARY:Kelas Keushawanan
DESCRIPTION:Tarikh : 21 Oktober 2022 \nHari : Jumaat \nMasa : 10 pagi – 12 tengah hari \n 
URL:https://kgpahi.nadi.my/event/kelas-keushawanan/
LOCATION:PEDi Kg Pahi\, PEDi Kg Pahi
CATEGORIES:DEFAULT
END:VEVENT
BEGIN:VEVENT
DTSTART;TZID=UTC:20221001T080000
DTEND;TZID=UTC:20221127T170000
DTSTAMP:20260422T104615
CREATED:20221127T003145Z
LAST-MODIFIED:20221127T003145Z
UID:2498-1664611200-1669568400@kgpahi.nadi.my
SUMMARY:Taklimat Klik Dengan Bijak
DESCRIPTION:Tarikh : 12/10/2022\nMasa : 3.00 petang – 4.00 petang\nLokasi : Sekolah Menengah Agama Peria Darussalam
URL:https://kgpahi.nadi.my/event/taklimat-klik-dengan-bijak/
CATEGORIES:DEFAULT
END:VEVENT
BEGIN:VEVENT
DTSTART;TZID=UTC:20220902T080000
DTEND;TZID=UTC:20220930T170000
DTSTAMP:20260422T104615
CREATED:20220905T174037Z
LAST-MODIFIED:20220905T174037Z
UID:2495-1662105600-1664557200@kgpahi.nadi.my
SUMMARY:KELAS ASAS ICT SEP2022
DESCRIPTION:KELAS ASAS ICT SEPTEMBER 2022 \n  \nModul : Microsoft Office Power Point \nTarikh : 17 September 2022 \nMasa : 3 pm – 5 pm \nTempat : PEDi Kg Pahi \n  \nUntuk pertanyaan lebih lanjut\, boleh kunjungi PEDi Kg Pahi atau terus whatsapp ke nombor petugas : \n011-12184339 (Jaa) \n014-2930425 (Zakiah)
URL:https://kgpahi.nadi.my/event/kelas-asas-ict-sep2022/
LOCATION:PEDi Kg Pahi\, PEDi Kg Pahi
CATEGORIES:DEFAULT
END:VEVENT
BEGIN:VEVENT
DTSTART;TZID=UTC:20220805T080000
DTEND;TZID=UTC:20220831T170000
DTSTAMP:20260422T104615
CREATED:20220804T190030Z
LAST-MODIFIED:20220804T190030Z
UID:2492-1659686400-1661965200@kgpahi.nadi.my
SUMMARY:HARI BERSAMA KOMUNITI 2022
DESCRIPTION:Assalamualaikum & Salam Sejahtera\n \n\n\n ORANG RAMAI DIJEMPUT HADIR\n\n\nHari Bersama Komuniti Pusat Ekonomi Digital Keluarga Malaysia (PEDi) Guchil\n \n\n\n 5 Ogos 2022 (Jumaat)\n 8.00 pagi – 12.30 Tengah hari\nPusat Ekonomi Digital Keluarga Malaysia (PEDi) Guchil ( Belakang Pasaraya PKT)\n\n\n 20 CABUTAN BERTUAH untuk dimenangi \n \n \n\n\n50 pendaftaran ahli terawal akan dapat cenderahati \n\n\nAntara aktiviti:\n\n\n Mewarna\n Kerusi muzik\n Dam Ular Gergasi\n Kuiz Klik Dengan Bijak (KDB)\n Kuiz Spontan\n Roda impian\n\n\n Pameran & Jualan Usahawan\n\n\n Kaunter agensi:\n KKM- Derma Darah\n TEKUN NASIONAL – Pameran\n Majlis Amanah Rakyat (MARA) – Pameran\n Ar-Rahnu YaPEIM – Cuci emas percuma\n SSM – Kaunter Bergerak\n PERKESO – Pameran\n Amanah Ikhtiar Malaysia – Pameran
URL:https://kgpahi.nadi.my/event/hari-bersama-komuniti-2022/
CATEGORIES:DEFAULT
END:VEVENT
END:VCALENDAR