BEGIN:VCALENDAR
VERSION:2.0
PRODID:-//NADI Kg Pahi - ECPv6.15.20//NONSGML v1.0//EN
CALSCALE:GREGORIAN
METHOD:PUBLISH
X-WR-CALNAME:NADI Kg Pahi
X-ORIGINAL-URL:https://kgpahi.nadi.my
X-WR-CALDESC:Events for NADI Kg Pahi
REFRESH-INTERVAL;VALUE=DURATION:PT1H
X-Robots-Tag:noindex
X-PUBLISHED-TTL:PT1H
BEGIN:VTIMEZONE
TZID:Asia/Kuala_Lumpur
BEGIN:STANDARD
TZOFFSETFROM:+0800
TZOFFSETTO:+0800
TZNAME:+08
DTSTART:20240101T000000
END:STANDARD
END:VTIMEZONE
BEGIN:VEVENT
DTSTART;TZID=Asia/Kuala_Lumpur:20250822T090000
DTEND;TZID=Asia/Kuala_Lumpur:20251031T180000
DTSTAMP:20260420T021522
CREATED:20250825T030136Z
LAST-MODIFIED:20250825T030136Z
UID:4049-1755853200-1761933600@kgpahi.nadi.my
SUMMARY:NADI x KEUSAHAWANAN 2025
DESCRIPTION:🚀 NADI x KEUSAHAWANAN 2025 🚀 \n💡 Memperkasa Kejayaan Usahawan NADI \nJom sertai PERJALANAN USAHAWAN COHORT 5 📈\nTarikh: September – Oktober 2025 \n✨ Apa yang menanti anda?\n✅ Video pengenalan keusahawanan – 22 Ogos 2025\n✅ Webinar atas talian 1 (pengurusan kewangan & perancangan perniagaan) & video pra latihan – 11 September 2025\n✅ Podcast empowher\, topik: bual kombucha\, inspirasi disebalik rasa – 16 September 2025\n✅ Podcast nadipreneur\, topik: langkah berani:bersaing dengan gergasi pasaran – 23 September 2025\n✅ Webinar atas talian 2 (pemasaran dan operasi perniagaan) & menonton video pra latihan – 16 Oktober 2025\n✅ Podcast empowher\, topik: dari kalam ke kejayaan – 21 Oktober 2025\n✅ Podcast nadipreneur\, topik: teknologi dalam dunia usahawan peluang dan cabaran – 28 Oktober 2025 \n📅 Daftar bermula 22 Ogos 2025\n📌 Tonton bila-bila masa & di mana sahaja! \n🔥 Tempat terhad\, jangan lepaskan peluang untuk bersama komuniti usahawan NADI! \n📞 Untuk sertai program\, boleh kunjungi NADI Kampung Pahi atau hubungi melalui wasap 01112184339 / 0142930425
URL:https://kgpahi.nadi.my/event/nadi-x-keusahawanan-2025/
LOCATION:NADI Kampung Pahi\, NADI Kampung Pahi
END:VEVENT
BEGIN:VEVENT
DTSTART;TZID=Asia/Kuala_Lumpur:20250906T100000
DTEND;TZID=Asia/Kuala_Lumpur:20250906T160000
DTSTAMP:20260420T021522
CREATED:20250903T062726Z
LAST-MODIFIED:20250903T062726Z
UID:4146-1757152800-1757174400@kgpahi.nadi.my
SUMMARY:Program Khas Merdeka & Hari Malaysia @ NADI
DESCRIPTION:🎉 Program Khas Merdeka & Hari Malaysia @ NADI 🎉 \nJom ramai-ramai datang ke NADI [Nama NADI] untuk sambutan istimewa sempena Hari Merdeka & Hari Malaysia @ NADI \n📅 Tarikh: 6 September 2025 (Sabtu)\n🕙 Masa: 10.00 pagi – 4.00 petang\n📍 Lokasi: NADI Kampung Pahi \nAntara aktiviti menarik yang menanti anda:\n✅ Aktiviti 1 – Pertandingan Mewarna Merdeka Kanak-Kanak (kanak-kanak 4 tahun – 6 tahun).\n✅ Aktiviti 2 – Pertandingan Mahir Masak (3 orang peserta).\n✅ Aktiviti 3 – Pertandingan E-Sukan.\n✅ Aktiviti 4 – Siaran Langsung bersama YB Menteri Komunikasi.\n✅ Aktiviti 5 – Tayangan Filem Merdeka.\n✅ Aktiviti 6 – Saringan Kesihatan Percuma.\n✅ Aktiviti 7 – Pendaftaran Ahli NADI Percuma. \nJangan lepaskan peluang untuk bersama-sama kita meriahkan sambutan ini! \n#NADIMCMC #MerdekaDiNADI
URL:https://kgpahi.nadi.my/event/program-khas-merdeka-hari-malaysia-nadi/
LOCATION:NADI Kampung Pahi\, NADI Kampung Pahi
END:VEVENT
END:VCALENDAR