BEGIN:VCALENDAR
VERSION:2.0
PRODID:-//NADI Kg Pahi - ECPv6.15.20//NONSGML v1.0//EN
CALSCALE:GREGORIAN
METHOD:PUBLISH
X-WR-CALNAME:NADI Kg Pahi
X-ORIGINAL-URL:https://kgpahi.nadi.my
X-WR-CALDESC:Events for NADI Kg Pahi
REFRESH-INTERVAL;VALUE=DURATION:PT1H
X-Robots-Tag:noindex
X-PUBLISHED-TTL:PT1H
BEGIN:VTIMEZONE
TZID:Asia/Kuala_Lumpur
BEGIN:STANDARD
TZOFFSETFROM:+0800
TZOFFSETTO:+0800
TZNAME:+08
DTSTART:20240101T000000
END:STANDARD
END:VTIMEZONE
BEGIN:VEVENT
DTSTART;TZID=Asia/Kuala_Lumpur:20250625T090000
DTEND;TZID=Asia/Kuala_Lumpur:20250625T180000
DTSTAMP:20260424T014642
CREATED:20250610T040927Z
LAST-MODIFIED:20250610T040927Z
UID:3202-1750842000-1750874400@kgpahi.nadi.my
SUMMARY:NADI X KEUSAHAWANAN PENCARIAN IKON USAHAWAN NADI 2025 – PENGAMBILAN COHORT KE-4
DESCRIPTION:NADI X KEUSAHAWANAN\nPENCARIAN IKON USAHAWAN NADI 2025 – PENGAMBILAN COHORT KE-4 \nSukacita dimaklumkan bahawa Program Pencarian Ikon Usahawan NADI 2025 kini dibuka bagi pengambilan peserta Cohort Ke-4.\n📍 Jumlah kekosongan: 4 orang usahawan\n📅 Tarikh tutup pencalonan: Rabu\, 25 Jun 2025\n⏰ Masa: Jam 3.00 petang \nJika ada sebarang pertanyaan\, boleh kunjungi NADI Kampung Pahi atau hubungi melalui wasap:\nhttps://wasap.my/601112184339/pencarianikonusahawancohort4\nhttps://wasap.my/60142930425/pencarianikonusahawancohort4 \nTerima kasih. \n#pusatsebaranmaklumatnasional #NADIXKEUSAHAWANAN #nadikgpahi
URL:https://kgpahi.nadi.my/event/nadi-x-keusahawanan-pencarian-ikon-usahawan-nadi-2025-pengambilan-cohort-ke-4/
LOCATION:NADI Kampung Pahi\, NADI Kampung Pahi
END:VEVENT
END:VCALENDAR