BEGIN:VCALENDAR
VERSION:2.0
PRODID:-//NADI Kg Pahi - ECPv6.15.20//NONSGML v1.0//EN
CALSCALE:GREGORIAN
METHOD:PUBLISH
X-WR-CALNAME:NADI Kg Pahi
X-ORIGINAL-URL:https://kgpahi.nadi.my
X-WR-CALDESC:Events for NADI Kg Pahi
REFRESH-INTERVAL;VALUE=DURATION:PT1H
X-Robots-Tag:noindex
X-PUBLISHED-TTL:PT1H
BEGIN:VTIMEZONE
TZID:Asia/Kuala_Lumpur
BEGIN:STANDARD
TZOFFSETFROM:+0800
TZOFFSETTO:+0800
TZNAME:+08
DTSTART:20240101T000000
END:STANDARD
END:VTIMEZONE
BEGIN:VEVENT
DTSTART;TZID=Asia/Kuala_Lumpur:20250526T100000
DTEND;TZID=Asia/Kuala_Lumpur:20250526T150000
DTSTAMP:20260424T112123
CREATED:20250521T090922Z
LAST-MODIFIED:20250521T090922Z
UID:3009-1748253600-1748271600@kgpahi.nadi.my
SUMMARY:Webinar Maxis eKelas Usahawan : Modul 1 & Modul 2
DESCRIPTION:Dengan segala hormatnya\, pihak kami ingin menjemput penyertaan ke Webinar Maxis eKelas Usahawan yang akan diadakan secara dalam talian melalui Zoom. Webinar ini terbahagi kepada dua sesi mengikut modul seperti berikut \nModul 1: Strategi Pemasaran Digital\nTarikh: Isnin\, 26 Mei 2025\nMasa: 10:00 pagi – 11:00 pagi \nSesi ini bertujuan untuk pelajari dari pandangan pakar mengenai strategi pemasaran digital. \nModul 2: Penciptaan Kandungan\nTarikh: Isnin\, 26 Mei 2025\nMasa: 2.00 petang – 3:00 petang \nSesi ini memberi pendedahan kepada penciptaan kandungan yang strategik daripada pakar. \n📄Sijil penyertaan akan diberikan kepada semua peserta yang hadir. \n📝 Pendaftaran boleh kunjungi NADI Kampung Pahi atau wasap ke nombor:\nhttps://wasap.my/601112184339/ekelasusahawan26mei\nhttps://wasap.my/60142930425/ekelasusahawan26mei \nkelas adalah PERCUMA 🤩 \nJangan lepaskan peluang untuk sertai webinar ini. \n#usahawankualakrai #webinarusahawanpercuma #kualakrai #NADIKgPahi #ekelasusahawan #PusatSebaranMaklumatNasional
URL:https://kgpahi.nadi.my/event/webinar-maxis-ekelas-usahawan-modul-1-modul-2/
LOCATION:NADI Kampung Pahi\, NADI Kampung Pahi
END:VEVENT
END:VCALENDAR