BEGIN:VCALENDAR
VERSION:2.0
PRODID:-//NADI Kg Pahi - ECPv6.15.20//NONSGML v1.0//EN
CALSCALE:GREGORIAN
METHOD:PUBLISH
X-WR-CALNAME:NADI Kg Pahi
X-ORIGINAL-URL:https://kgpahi.nadi.my
X-WR-CALDESC:Events for NADI Kg Pahi
REFRESH-INTERVAL;VALUE=DURATION:PT1H
X-Robots-Tag:noindex
X-PUBLISHED-TTL:PT1H
BEGIN:VTIMEZONE
TZID:Asia/Kuala_Lumpur
BEGIN:STANDARD
TZOFFSETFROM:+0800
TZOFFSETTO:+0800
TZNAME:+08
DTSTART:20240101T000000
END:STANDARD
END:VTIMEZONE
BEGIN:VEVENT
DTSTART;TZID=Asia/Kuala_Lumpur:20250517T100000
DTEND;TZID=Asia/Kuala_Lumpur:20250517T110000
DTSTAMP:20260424T123915
CREATED:20250513T021817Z
LAST-MODIFIED:20250513T021817Z
UID:2999-1747476000-1747479600@kgpahi.nadi.my
SUMMARY:NADI X KIDVENTURE | WEBINAR 2: Perancangan Kewangan
DESCRIPTION:PENCARIAN IKON USAHAWAN CILIK NADI 2025 \nPencarian Ikon Usahawan Cilik NADI 2025 sedang rancak berjalan. Sukacita dimaklumkan beberapa ahli di bawah seliaan Tuan/Puan telah berdaftar bagi menyertai Program Cohort 2 NADI X Kidventure 2025. \nProgram Cohort 2 akan berlangsung sepanjang bulan Mei hingga Jun 2025. \nKunjungi NADI Kampung Pahi untuk maklumat lanjut. \nTerima kasih.
URL:https://kgpahi.nadi.my/event/nadi-x-kidventure-webinar-2-perancangan-kewangan/
LOCATION:NADI Kampung Pahi\, NADI Kampung Pahi
END:VEVENT
END:VCALENDAR