BEGIN:VCALENDAR
VERSION:2.0
PRODID:-//NADI Kg Pahi - ECPv6.15.20//NONSGML v1.0//EN
CALSCALE:GREGORIAN
METHOD:PUBLISH
X-WR-CALNAME:NADI Kg Pahi
X-ORIGINAL-URL:https://kgpahi.nadi.my
X-WR-CALDESC:Events for NADI Kg Pahi
REFRESH-INTERVAL;VALUE=DURATION:PT1H
X-Robots-Tag:noindex
X-PUBLISHED-TTL:PT1H
BEGIN:VTIMEZONE
TZID:Asia/Kuala_Lumpur
BEGIN:STANDARD
TZOFFSETFROM:+0800
TZOFFSETTO:+0800
TZNAME:+08
DTSTART:20240101T000000
END:STANDARD
END:VTIMEZONE
BEGIN:VEVENT
DTSTART;TZID=Asia/Kuala_Lumpur:20250506T080000
DTEND;TZID=Asia/Kuala_Lumpur:20250506T180000
DTSTAMP:20260426T073325
CREATED:20250429T040833Z
LAST-MODIFIED:20250429T040900Z
UID:2964-1746518400-1746554400@kgpahi.nadi.my
SUMMARY:Program Pencarian Ikon Usahawan Cilik NADI 2025 – Cohort Ke-2
DESCRIPTION:Assalamualaikum wbt. & Salam NADI X Keusahawanan\,\n\n\n\nPendaftaran kini dibuka untuk Program Pencarian Ikon Usahawan Cilik NADI 2025 – Cohort Ke-2\n\n\n\n Memupuk pengetahuan dan semangat membudayakan keusahawanan di kalangan kanak-kanak dan remaja (7-17 tahun).\n\n Berpeluang mempelajari modul latihan berkaitan perancangan perniagaan\, perancangan perniagaan operasi syarikat\, perancangan kewangan perniagaan dan pemasaran.\n Pendedahan kepada asas dan aplikasi Kecerdasan Buatan (Artificial Intelligence).\n\n\n\nBersedia untuk melangkah lebih jauh\, jangan lepaskan peluang ini.\n\n\n\nUntuk pendaftaran\, boleh kunjungi NADI Kampung Pahi atau hubungi melalui wasap :\n\n\nhttps://wasap.my/601112184339/ikonusahwancilikcohort2\nhttps://wasap.my/60142930425/ikonusahawancilikcohort2\n\n\n\nTARIKH TUTUP PENDAFTARAN : SELASA\, 6 MEI 2025\n\n\n\nJom rebut peluang menyertai NADI x KIDVENTURE Cohort 2!
URL:https://kgpahi.nadi.my/event/program-pencarian-ikon-usahawan-cilik-nadi-2025-cohort-ke-2/
LOCATION:NADI Kampung Pahi\, NADI Kampung Pahi
END:VEVENT
END:VCALENDAR