BEGIN:VCALENDAR
VERSION:2.0
PRODID:-//NADI Kg Pahi - ECPv6.15.20//NONSGML v1.0//EN
CALSCALE:GREGORIAN
METHOD:PUBLISH
X-WR-CALNAME:NADI Kg Pahi
X-ORIGINAL-URL:https://kgpahi.nadi.my
X-WR-CALDESC:Events for NADI Kg Pahi
REFRESH-INTERVAL;VALUE=DURATION:PT1H
X-Robots-Tag:noindex
X-PUBLISHED-TTL:PT1H
BEGIN:VTIMEZONE
TZID:Asia/Kuala_Lumpur
BEGIN:STANDARD
TZOFFSETFROM:+0800
TZOFFSETTO:+0800
TZNAME:+08
DTSTART:20240101T000000
END:STANDARD
END:VTIMEZONE
BEGIN:VEVENT
DTSTART;TZID=Asia/Kuala_Lumpur:20250425T153000
DTEND;TZID=Asia/Kuala_Lumpur:20250425T170000
DTSTAMP:20260424T124057
CREATED:20250416T035833Z
LAST-MODIFIED:20250416T035833Z
UID:2901-1745595000-1745600400@kgpahi.nadi.my
SUMMARY:𝗟𝗜𝗙𝗘𝗟𝗢𝗡𝗚 𝗟𝗘𝗔𝗥𝗡𝗜𝗡𝗚:𝗡𝗔𝗗𝗜 𝗫 𝗖𝗬𝗕𝗘𝗥𝗦𝗘𝗖𝗨𝗥𝗜𝗧𝗬 𝗪𝗘𝗕𝗜𝗡𝗔𝗥: 𝗞𝗘𝗦𝗘𝗟𝗔𝗠𝗔𝗧𝗔𝗡 𝗦𝗜𝗕𝗘𝗥 𝗨𝗡𝗧𝗨𝗞 𝗪𝗔𝗡𝗜𝗧𝗔
DESCRIPTION:𝗪𝗘𝗕𝗜𝗡𝗔𝗥: 𝗞𝗘𝗦𝗘𝗟𝗔𝗠𝗔𝗧𝗔𝗡 𝗦𝗜𝗕𝗘𝗥 𝗨𝗡𝗧𝗨𝗞 𝗪𝗔𝗡𝗜𝗧𝗔
URL:https://kgpahi.nadi.my/event/%f0%9d%97%9f%f0%9d%97%9c%f0%9d%97%99%f0%9d%97%98%f0%9d%97%9f%f0%9d%97%a2%f0%9d%97%a1%f0%9d%97%9a-%f0%9d%97%9f%f0%9d%97%98%f0%9d%97%94%f0%9d%97%a5%f0%9d%97%a1%f0%9d%97%9c%f0%9d%97%a1%f0%9d%97%9a/
END:VEVENT
END:VCALENDAR