BEGIN:VCALENDAR
VERSION:2.0
PRODID:-//NADI Kg Pahi - ECPv6.15.20//NONSGML v1.0//EN
CALSCALE:GREGORIAN
METHOD:PUBLISH
X-WR-CALNAME:NADI Kg Pahi
X-ORIGINAL-URL:https://kgpahi.nadi.my
X-WR-CALDESC:Events for NADI Kg Pahi
REFRESH-INTERVAL;VALUE=DURATION:PT1H
X-Robots-Tag:noindex
X-PUBLISHED-TTL:PT1H
BEGIN:VTIMEZONE
TZID:Asia/Kuala_Lumpur
BEGIN:STANDARD
TZOFFSETFROM:+0800
TZOFFSETTO:+0800
TZNAME:+08
DTSTART:20240101T000000
END:STANDARD
END:VTIMEZONE
BEGIN:VEVENT
DTSTART;TZID=Asia/Kuala_Lumpur:20250419T100000
DTEND;TZID=Asia/Kuala_Lumpur:20250419T170000
DTSTAMP:20260424T124058
CREATED:20250416T033921Z
LAST-MODIFIED:20251013T025543Z
UID:2899-1745056800-1745082000@kgpahi.nadi.my
SUMMARY:PERTANDINGAN MLBB NADI E-SUKAN MUSIM KE 2 PERINGKAT KELANTAN
DESCRIPTION:
URL:https://kgpahi.nadi.my/event/pertandingan-mlbb-nadi-e-sukan-musim-ke-2-peringkat-kelantan/
END:VEVENT
BEGIN:VEVENT
DTSTART;TZID=Asia/Kuala_Lumpur:20250419T143000
DTEND;TZID=Asia/Kuala_Lumpur:20250419T163000
DTSTAMP:20260424T124058
CREATED:20250416T033701Z
LAST-MODIFIED:20250416T033802Z
UID:2897-1745073000-1745080200@kgpahi.nadi.my
SUMMARY:NADI-Nurture DiLea\, Webinar Bahasa Inggeris
DESCRIPTION:
URL:https://kgpahi.nadi.my/event/nadi-nurture-dilea-webinar-bahasa-inggeris/
END:VEVENT
END:VCALENDAR