BEGIN:VCALENDAR
VERSION:2.0
PRODID:-//NADI Kg Pahi - ECPv6.15.20//NONSGML v1.0//EN
CALSCALE:GREGORIAN
METHOD:PUBLISH
X-WR-CALNAME:NADI Kg Pahi
X-ORIGINAL-URL:https://kgpahi.nadi.my
X-WR-CALDESC:Events for NADI Kg Pahi
REFRESH-INTERVAL;VALUE=DURATION:PT1H
X-Robots-Tag:noindex
X-PUBLISHED-TTL:PT1H
BEGIN:VTIMEZONE
TZID:Asia/Kuala_Lumpur
BEGIN:STANDARD
TZOFFSETFROM:+0800
TZOFFSETTO:+0800
TZNAME:+08
DTSTART:20240101T000000
END:STANDARD
END:VTIMEZONE
BEGIN:VEVENT
DTSTART;TZID=Asia/Kuala_Lumpur:20250411T090000
DTEND;TZID=Asia/Kuala_Lumpur:20250411T180000
DTSTAMP:20260424T124056
CREATED:20250409T043222Z
LAST-MODIFIED:20250409T043222Z
UID:2893-1744362000-1744394400@kgpahi.nadi.my
SUMMARY:NADI E-SPORT | PERTANDINGAN MLBB MUSIM KE2 PERINGKAT NEGERI KELANTAN
DESCRIPTION:
URL:https://kgpahi.nadi.my/event/nadi-e-sport-pertandingan-mlbb-musim-ke2-peringkat-negeri-kelantan/
LOCATION:NADI Kampung Pahi\, NADI Kampung Pahi
END:VEVENT
END:VCALENDAR